BEGIN:VCALENDAR
VERSION:2.0
PRODID:-//www.kulturniradce.cz - ECPv6.15.20//NONSGML v1.0//EN
CALSCALE:GREGORIAN
METHOD:PUBLISH
X-WR-CALNAME:www.kulturniradce.cz
X-ORIGINAL-URL:https://kulturniradce.cz
X-WR-CALDESC:Akce na www.kulturniradce.cz
REFRESH-INTERVAL;VALUE=DURATION:PT1H
X-Robots-Tag:noindex
X-PUBLISHED-TTL:PT1H
BEGIN:VTIMEZONE
TZID:Europe/Prague
BEGIN:DAYLIGHT
TZOFFSETFROM:+0100
TZOFFSETTO:+0200
TZNAME:CEST
DTSTART:20250330T010000
END:DAYLIGHT
BEGIN:STANDARD
TZOFFSETFROM:+0200
TZOFFSETTO:+0100
TZNAME:CET
DTSTART:20251026T010000
END:STANDARD
BEGIN:DAYLIGHT
TZOFFSETFROM:+0100
TZOFFSETTO:+0200
TZNAME:CEST
DTSTART:20260329T010000
END:DAYLIGHT
BEGIN:STANDARD
TZOFFSETFROM:+0200
TZOFFSETTO:+0100
TZNAME:CET
DTSTART:20261025T010000
END:STANDARD
BEGIN:DAYLIGHT
TZOFFSETFROM:+0100
TZOFFSETTO:+0200
TZNAME:CEST
DTSTART:20270328T010000
END:DAYLIGHT
BEGIN:STANDARD
TZOFFSETFROM:+0200
TZOFFSETTO:+0100
TZNAME:CET
DTSTART:20271031T010000
END:STANDARD
END:VTIMEZONE
BEGIN:VEVENT
DTSTART;TZID=Europe/Prague:20260303T190000
DTEND;TZID=Europe/Prague:20260303T220000
DTSTAMP:20260419T172346
CREATED:20251102T172454Z
LAST-MODIFIED:20251102T172454Z
UID:5709-1772564400-1772575200@kulturniradce.cz
SUMMARY:Hourglass III - Jíša\, Vacík\, Dusilová a Musica Florea
DESCRIPTION:Hourglass III – Jíša\, Vacík\, Dusilová a Musica Florea se uskuteční dne 2026-03-03 v 19:00 v Praha\, České muzeum hudby. \n🎟️ Koupit vstupenku \n\nHourglass\, neboli přesýpací hodiny\, je jemná trilogie koncertů\, kombinující staletí staré nástroje\, world music a nejmodernější výstřelky současné hudební technologie do téměř meditativního celku. Toto je třetí část\, kde Vám zahrajeme na téma hledání frekvencí společně s Lenkou Dusilovou. \nKontemplativní koncerty v Muzeu hudby. \nKdyž se barokní soubor setká se Seaboardem. \nKaždodenní život nám připomíná\, že čím dál tím víc potřebujeme čas\, kdy se zastavíme.Čas pro uvědomění si životních priorit a nabrání sil do dalšího dne. \nRobert Jíša\, absolvent prestižní bostonské školy Berklee College of Music\, obor hudební kompozice se zaměřením na filmovou skladbu\, si Vás dovoluje pozvat na hudební projekt „HOURGLASS“\, který v sobě snoubí vystoupení prvotřídních muzikantů\, uznávaného komorního orchestru specializujícího se na barokní hudbu Musica Florea pod vedením profesora Marka Štryncla\, perkusionisty\, jazzmana a improvizátora Miloše Vacíka a jeho samého hrajícího na specifický moderní nástroj ROLI Seaboard. Přijměte pozvání na hudební pout‘ znějící hudbou historickou i tou velmi současnou\, která má za cíl naše zklidnění\, kontemplaci a odpočinek duše. \nRobert dlouhodobě pracuje s vlivy zvukových frekvencí na naše tělo a mysl. Ačkoliv to někomu může znít zvláštně\, dle prastarých tibetských nauk\, ale i aktuálních výzkumů předních světových univerzit publikovaných v prestižních magazínech\, má náš organismus několik energetických center citlivě reagujících na konkrétní zvukové frekvence. Je obecně známo\, že různé frekvence světelné\, barvy\, mají vliv na naši psychiku. V případě zvuku to není jinak\, jeho vliv je ale ještě silnější a širší veřejnosti neznámý. \nJíšův dlouholetý výzkum na toto téma byl oceněn například vídeňským Museumsquaterem\, který si u něj objednal právě z důvodů jeho výzkumu vlivu konkrétních frekvencí v hudební kompozici na náš organismus\, vytvoření opery DURST. Místní kulturní kritici dílo pochválili jako mimořádný přínos k tématu vlivu současné hudby na naše emoce\, tělo i duši. Tato opera byla ve Vídni úspěšně provedena a následně objednána a provedena i festivalem klasické hudby Dvořákova Olomouc.Práce se zvukovými frekvencemi v hudební skladbě byla také opakovaně oceněna nositelkou Velké Prešerenovy ceny za kulturu\, slovinskou umělkyní Emou Kugler\, při jejích filmech a instalacích. \nPokračováním využívání těchto poznatků je právě projekt HOURGLASS\, který nyní přinášíme do Muzea hudby. Nachází se na jednom z nejkrásnějších míst v Evropě\, na milované a hluboce spirituální Malé Straně\, a proto bychom se měli být schopni lehce naladit na kombinaci krásné hudby v provedení renomovaných hudebníků a tónů\, frekvencí\, které jsou návštěvníkům představeny takovou formou\, aby jim přinesly téměř až meditativní zážitek. \nMiloš Vacík – jako muzikant\, malíř zvuku perkusí\, působil ve skupinách Šum svistu\, Sluneční orchestr\, Laura a její tygři a Tam Tam Orchestra. Od roku 1999 vystupuje se svým hudebním tělesem Tam Tam Batucada\, se kterým v roce 2004 vydal první desku. Jako předskokani vystupovali například před finskou skupinou Värtinä nebo britskými Transglobal Underground. Každým rokem vytváří bubenické aranžmá některé z českých vánočních koled. \nMusica Florea je hudební soubor\, který roku 1992 založil violoncellista a dirigent Marek Štryncl. \nRepertoár souboru sahá od hudby raného baroka přes vrcholná díla této epochy až po klasicismus. Od roku 2004\, kdy Musica Florea provedla na dobové nástroje orchestrální díla Antonína Dvořáka\, čímž se součástí jejího repertoáru stává i hudba období romantismu. \nSpolečně s mezinárodním týmem se Musica Florea v letech 1999-2002 podílela na výjimečném provedení představení opery Castor et Polux od Jeana-Philippa Rameaua v Národním divadle v Praze a v novodobé premiéře provedla na Pražském hradě korunovační hru Jana Dismase Zelenky Sub olea pacis et palma virtutis. \nOd roku 2002 pořádá Musica Florea vlastní koncerty s důrazem na prezentaci nově objevených děl zejména českého původu i na interpretaci již známého hudebního materiálu s přihlédnutím k dobové interpretační praxi. \nPro společnost Supraphon soubor natočil komplet Braniborských koncertů Johanna Sebastiana Bacha. \nLenka Dusilová\, devítinásobná držitelka výročních hudebních cen Anděl\, není zvyklá stagnovat a opakovat se. Stal se z ní mimořádný úkaz české hudební scény\, z pozice rockové a popové hvězdy putuje k osobnímu vyjádření\, jež svobodně přijímá impulzy z nejrůznějších stylů a mimohudebních zážitků. \n  \n\nTento tip na kulturní akci v Praha najdete v přehledu na KulturníRádce.cz spolu s dalšími koncerty\, festivaly a divadelními představeními.
URL:https://kulturniradce.cz/event/hourglass-iii-jisa-vacik-dusilova-a-musica-florea/
LOCATION:České muzeum hudby\, Praha\, České muzeum hudby\, Praha\, Česká republika
CATEGORIES:Koncert
ATTACH;FMTTYPE=image/jpeg:https://kulturniradce.cz/wp-content/uploads/2025/11/320-5657c6af6ba340da85f8a2d03039bed3.jpg
END:VEVENT
BEGIN:VEVENT
DTSTART;TZID=Europe/Prague:20260303T190000
DTEND;TZID=Europe/Prague:20260303T220000
DTSTAMP:20260419T172346
CREATED:20251214T071921Z
LAST-MODIFIED:20251214T071921Z
UID:8069-1772564400-1772575200@kulturniradce.cz
SUMMARY:Ludovico Einaudi Music | Hranice
DESCRIPTION:Ludovico Einaudi Music | Hranice se uskuteční dne 2026-03-03 v 19:00 v Hranice\, Divadlo Stará střelnice. \n🎟️ Koupit vstupenku \n\nNenechte si ujít nezapomenutelný večer krásné hudby\, kde zazní melodie jednoho z nejlepších pianistů a skladatelů na světe\, Ludovica Einaudiho v podání předního českého klavíristy Františka Panáčka. \nEinaudi je známý svými jednoduchými\, ale strašidelně krásnými minimalistickými díly pro klavír a ohromující filmovou hudbou. Za téměř třicet let své činnosti vydal řadu alb\, která se dostala na přední příčky poslechovosti\, vyprodává nejprestižnější koncertní sály po celém světě a jeho hudba zazněla v mnoha slavných filmech (Nedotknutelní\, Doktor Živago\, To je Anglie\, Nomadland a další). \nTento jedinečný koncert nabídne více než jen hudbu. Symfonie třpytivých svíček rozsvítí celý prostor a přidá na mystičnu a kouzlu večera. Každá svíčka přispěje k vytvoření kouzelného prostředí\, které dokonale doplní hudební zážitek. \nV rámci Evropské tour alternují také: Alexandr Starý a Lucie Kubátová.  \nAkce je přístupná od 12 let. Každý účastník musí předložit platnou vstupenku  zakoupenou výhradně v síti smsticket. \n\nTento tip na kulturní akci v Hranice najdete v přehledu na KulturníRádce.cz spolu s dalšími koncerty\, festivaly a divadelními představeními.
URL:https://kulturniradce.cz/event/ludovico-einaudi-music-hranice/
LOCATION:Divadlo Stará střelnice\, Hranice\, Divadlo Stará střelnice\, Hranice\, Česká republika
CATEGORIES:Koncert
ATTACH;FMTTYPE=image/jpeg:https://kulturniradce.cz/wp-content/uploads/2025/12/320-15b116658dbf43159d7e89dcd8ee3367.jpg
END:VEVENT
END:VCALENDAR