BEGIN:VCALENDAR
VERSION:2.0
PRODID:-//www.kulturniradce.cz - ECPv6.15.20//NONSGML v1.0//EN
CALSCALE:GREGORIAN
METHOD:PUBLISH
X-ORIGINAL-URL:https://kulturniradce.cz
X-WR-CALDESC:Akce na www.kulturniradce.cz
REFRESH-INTERVAL;VALUE=DURATION:PT1H
X-Robots-Tag:noindex
X-PUBLISHED-TTL:PT1H
BEGIN:VTIMEZONE
TZID:Europe/Prague
BEGIN:DAYLIGHT
TZOFFSETFROM:+0100
TZOFFSETTO:+0200
TZNAME:CEST
DTSTART:20250330T010000
END:DAYLIGHT
BEGIN:STANDARD
TZOFFSETFROM:+0200
TZOFFSETTO:+0100
TZNAME:CET
DTSTART:20251026T010000
END:STANDARD
BEGIN:DAYLIGHT
TZOFFSETFROM:+0100
TZOFFSETTO:+0200
TZNAME:CEST
DTSTART:20260329T010000
END:DAYLIGHT
BEGIN:STANDARD
TZOFFSETFROM:+0200
TZOFFSETTO:+0100
TZNAME:CET
DTSTART:20261025T010000
END:STANDARD
BEGIN:DAYLIGHT
TZOFFSETFROM:+0100
TZOFFSETTO:+0200
TZNAME:CEST
DTSTART:20270328T010000
END:DAYLIGHT
BEGIN:STANDARD
TZOFFSETFROM:+0200
TZOFFSETTO:+0100
TZNAME:CET
DTSTART:20271031T010000
END:STANDARD
END:VTIMEZONE
BEGIN:VEVENT
DTSTART;TZID=Europe/Prague:20260308T170000
DTEND;TZID=Europe/Prague:20260308T200000
DTSTAMP:20260419T172353
CREATED:20260304T094415Z
LAST-MODIFIED:20260304T094416Z
UID:11843-1772989200-1773000000@kulturniradce.cz
SUMMARY:Michal Mašek - klavírní recitál
DESCRIPTION:Michal Mašek – klavírní recitál se uskuteční dne 2026-03-08 v 17:00 v Brno\, KD Rubín. \n🎟️ Koupit vstupenku \n\nNechte se unést klavírním recitálem virtuóza Michala Maška a jeho jedinečným pojetím skladeb W. A. Mozarta\, F. Chopina a L. van Beethovena. \n  \nMichal Mašek je český klavírista\, umělecký manager\, producent\, organizátor hudebního života. Jeho texty publikovaly renomovaná periodika a festivaly\, v minulosti připravil pořady pro rozhlas a televizi\, realizoval rozsáhlý a evropskou unií podpoření projekt KOPT – Kultura a umění od první třídy\, který seznamoval a zapojil nejmenší školáky do divadelních her z příběhů české historie. Jako klavírista spolupracoval třeba s Jiřím Bělohlávkem\, Josefem Sukem\, pořídil nahrávku pro EMI classics a stal se členem prestižní rodiny Steinway Artist. \nDnes je však zejména zakladatel a pořadatel významného festivalu Hudební setkání\, který se koná již 15 let v severních Čechách a kde propojuje své získané zkušenosti a také externě přednáší na univerzitě Jana Evangelisty Purkyně.   \n\nTento tip na kulturní akci v Brno najdete v přehledu na KulturníRádce.cz spolu s dalšími koncerty\, festivaly a divadelními představeními.
URL:https://kulturniradce.cz/event/michal-masek-klavirni-recital/
LOCATION:KD Rubín\, Brno\, KD Rubín\, Brno\, Česká republika
CATEGORIES:Koncert
ATTACH;FMTTYPE=image/jpeg:https://kulturniradce.cz/wp-content/uploads/2026/03/320-281fb8de86e144f2a257d3f0573cf6dc.jpg
END:VEVENT
BEGIN:VEVENT
DTSTART;TZID=Europe/Prague:20260308T183000
DTEND;TZID=Europe/Prague:20260308T213000
DTSTAMP:20260419T172353
CREATED:20251211T054153Z
LAST-MODIFIED:20251211T054153Z
UID:7775-1772994600-1773005400@kulturniradce.cz
SUMMARY:Světová hudba pro 4 saxofony a zpěv
DESCRIPTION:Světová hudba pro 4 saxofony a zpěv se uskuteční dne 2026-03-08 v 18:30 v České Budějovice\, DK Metropol . \n🎟️ Koupit vstupenku \n\nPojďte si užít zbrusu nový program pro 4 saxofony a zpěv v dramaturgicky pestrém koncertu od klasiky\, přes swing a jazz až k moderní hudbě\, včetně aranží písniček Beatles do vytápěné Malé scény KD Metropol v Českých Budějovicích \n  \nSaxofonové kvarteto FOUR + ONEPetr RANDÍK – soprán saxofon\, Zdeněk ZADRAŽIL – alt saxofon\,Tomáš PUDIVÍTR – tenor saxofon\, Vít DĚDIČ – baryton saxofona Andrea KAŇKOVÁ – zpěv \nPROGRAM:A. VIVALDI – Jaro ze Čtyř ročních období (v úpravě pro saxofony)A. DVOŘÁK – Largo z NovosvětskéE. MORRICONE – Tenkrát na západěJ. KANDER – New York\, New YorkL. COHEN – HallelujahJ. JEŽEK – Bugatti StepG. GERSHWIN – I got rhytmBEATLES – Eleanor RigbyBEATLES – IMAGINEBEATLES – Can´t buy me loveQUEEN – Crazy Little Think Called LoveB. STREISAND – MEMORYW. HOUSTON – I will always love youB. STREISAND – Tell HimB. LISTON – BrazilB. Mc FERRIN – Don´t Worry Be HappyF. SINATRA – My Wayzměna programu a účinkujících vyhrazena\, délka cca 65 minut \n\nTento tip na kulturní akci v České Budějovice najdete v přehledu na KulturníRádce.cz spolu s dalšími koncerty\, festivaly a divadelními představeními.
URL:https://kulturniradce.cz/event/svetova-hudba-pro-4-saxofony-a-zpev-2/
LOCATION:DK Metropol \, České Budějovice\, DK Metropol \, České Budějovice\, Česká republika
CATEGORIES:Koncert
ATTACH;FMTTYPE=image/jpeg:https://kulturniradce.cz/wp-content/uploads/2025/12/320-10570e244cd549d7a7dc4c9bdea0a9fb.jpg
END:VEVENT
BEGIN:VEVENT
DTSTART;TZID=Europe/Prague:20260308T190000
DTEND;TZID=Europe/Prague:20260308T220000
DTSTAMP:20260419T172353
CREATED:20260226T180002Z
LAST-MODIFIED:20260226T180002Z
UID:11714-1772996400-1773007200@kulturniradce.cz
SUMMARY:Mozart a Josefína
DESCRIPTION:Mozart a Josefína se uskuteční dne 2026-03-08 v 19:00 v Jihlava\, Gotická síň. \n🎟️ Koupit vstupenku \n\nOceňovaný a mimořádně pozitivně přijímaný koncert\, který dojímá krásnou hudbou a sílou příběhu. Vše se odehrává na pražské Bertramce na podzim 1787\, kde se setkávají Wolfgang Amadeus Mozart s Josefínou Duškovou. Oba mladí\, oba úspěšní a nalézající silné emoční pouto v předvečer slavné premiéry opery Don Giovanni v Praze. Koncert propojuje text Vladimíra Holeše\, mistrovské úpravy Mozartovy hudby pro komorní orchestr Jiřího Jakeše a skvostný soprán Miroslavy Časarové\, která září v roli Josefíny Duškové. \nProgram \npředehra\, Figarova svatba \nSymfonie č. 23 \nárie Zerliny “Vedrai carino”\, Don Giovanni \nDuet Papageny a Papagena\, Kouzelná flétna \nKoncert pro klavír a orchestr č. 22 \nLaudate Dominum \nRequiem\, část Confutatis \nárie Cherubína “Voi che sapete”\, Figarova svatba \nExsultate\, jubilate \nKoncert pro klavír a orchestr č. 20 \nárie donny Anny “Non mi dir”\, Don Giovanni \n\nTento tip na kulturní akci v Jihlava najdete v přehledu na KulturníRádce.cz spolu s dalšími koncerty\, festivaly a divadelními představeními.
URL:https://kulturniradce.cz/event/mozart-a-josefina/
LOCATION:Gotická síň\, Jihlava\, Gotická síň\, Jihlava\, Česká republika
CATEGORIES:Koncert
ATTACH;FMTTYPE=image/jpeg:https://kulturniradce.cz/wp-content/uploads/2026/02/320-5c998bf082894359bae26cffcfe3f5bc.jpg
END:VEVENT
END:VCALENDAR