BEGIN:VCALENDAR
VERSION:2.0
PRODID:-//www.kulturniradce.cz - ECPv6.15.20//NONSGML v1.0//EN
CALSCALE:GREGORIAN
METHOD:PUBLISH
X-WR-CALNAME:www.kulturniradce.cz
X-ORIGINAL-URL:https://kulturniradce.cz
X-WR-CALDESC:Akce na www.kulturniradce.cz
REFRESH-INTERVAL;VALUE=DURATION:PT1H
X-Robots-Tag:noindex
X-PUBLISHED-TTL:PT1H
BEGIN:VTIMEZONE
TZID:Europe/Prague
BEGIN:DAYLIGHT
TZOFFSETFROM:+0100
TZOFFSETTO:+0200
TZNAME:CEST
DTSTART:20250330T010000
END:DAYLIGHT
BEGIN:STANDARD
TZOFFSETFROM:+0200
TZOFFSETTO:+0100
TZNAME:CET
DTSTART:20251026T010000
END:STANDARD
BEGIN:DAYLIGHT
TZOFFSETFROM:+0100
TZOFFSETTO:+0200
TZNAME:CEST
DTSTART:20260329T010000
END:DAYLIGHT
BEGIN:STANDARD
TZOFFSETFROM:+0200
TZOFFSETTO:+0100
TZNAME:CET
DTSTART:20261025T010000
END:STANDARD
BEGIN:DAYLIGHT
TZOFFSETFROM:+0100
TZOFFSETTO:+0200
TZNAME:CEST
DTSTART:20270328T010000
END:DAYLIGHT
BEGIN:STANDARD
TZOFFSETFROM:+0200
TZOFFSETTO:+0100
TZNAME:CET
DTSTART:20271031T010000
END:STANDARD
END:VTIMEZONE
BEGIN:VEVENT
DTSTART;TZID=Europe/Prague:20260311T190000
DTEND;TZID=Europe/Prague:20260311T220000
DTSTAMP:20260419T172317
CREATED:20251120T165838Z
LAST-MODIFIED:20251120T165839Z
UID:6536-1773255600-1773266400@kulturniradce.cz
SUMMARY:Hudba Harryho Pottera při svíčkách | Praha
DESCRIPTION:Hudba Harryho Pottera při svíčkách | Praha se uskuteční dne 2026-03-11 v 19:00 v Praha\, Kostel sv. Šimona a Judy. \n🎟️ Koupit vstupenku \n\nNenechte si ujít večer plný magické hudby\, kde zazní ty nejznámější melodie a písně ze všech filmů Harryho Pottera. Světlo stovky svíček vytvoří nezapomenutelnou atmosféru koncertu. \nProgram v jedinečném klavírním provedení představuje výběr filmových skladeb od pětinásobného oscarového skladatele Johna Williamse společně s díly Patricka Doyla\, Nicolase Hoopera a Alexandra Desplata\, držitele Oscara\, a nabízí to nejlepší z hudby Harryho Pottera. \nTento magický koncert nabídne víc než jen hudbu; stovky svíček rozzáří prostor a přidají na tajemné atmosféře plné mystiky a kouzel. \nMůžete se těšit na známé melodie a písně z filmů Harryho Pottera\, upravené pro klavírní koncert a to v podání předního českého klavíristy Alexandra Starého. \nV rámci Evropské tour alternují také: František Panáček a Lucie Kubátová.  \nAkce je přístupná od 12 let. Každý účastník musí předložit platnou vstupenku  zakoupenou výhradně v síti smsticket. \n  \n\nTento tip na kulturní akci v Praha najdete v přehledu na KulturníRádce.cz spolu s dalšími koncerty\, festivaly a divadelními představeními.
URL:https://kulturniradce.cz/event/hudba-harryho-pottera-pri-svickach-praha/
LOCATION:Kostel sv. Šimona a Judy\, Praha\, Kostel sv. Šimona a Judy\, Praha\, Česká republika
CATEGORIES:Koncert
ATTACH;FMTTYPE=image/jpeg:https://kulturniradce.cz/wp-content/uploads/2025/11/320-6da464f447da4c19a1500faee076e107.jpg
END:VEVENT
BEGIN:VEVENT
DTSTART;TZID=Europe/Prague:20260311T190000
DTEND;TZID=Europe/Prague:20260311T220000
DTSTAMP:20260419T172317
CREATED:20251209T192910Z
LAST-MODIFIED:20251209T192911Z
UID:7708-1773255600-1773266400@kulturniradce.cz
SUMMARY:Hudba Coldplay při svíčkách
DESCRIPTION:Hudba Coldplay při svíčkách se uskuteční dne 2026-03-11 v 19:00 v Chomutov\, Městské divadlo. \n🎟️ Koupit vstupenku \n\nNenechte si ujít večer plný energie a emocí\, kde zazní ty největší hity britské kapely Coldplay. Světlo stovky svíček vytvoří nezapomenutelnou atmosféru tohoto jedinečného koncertu. \nProgram v podání smyčcového kvarteta nabídne výběr těch nejznámějších skladeb Coldplay\, včetně hitů jako „Fix You“\, „Yellow“ či „Viva La Vida“\, které si získaly srdce fanoušků po celém světě. \nTento koncert přinese víc než jen hudbu; stovky svíček rozzáří prostor a vytvoří atmosféru plnou emocí\, melancholie a nezapomenutelných melodií\, které vás vezmou na hudební cestu s Coldplay. \nAkce je přístupná od 12 let. Každý účastník musí předložit platnou vstupenku  zakoupenou výhradně v síti smsticket. \n\nTento tip na kulturní akci v Chomutov najdete v přehledu na KulturníRádce.cz spolu s dalšími koncerty\, festivaly a divadelními představeními.
URL:https://kulturniradce.cz/event/hudba-coldplay-pri-svickach-16/
LOCATION:Městské divadlo\, Chomutov\, Městské divadlo\, Chomutov\, Česká republika
CATEGORIES:Koncert
ATTACH;FMTTYPE=image/jpeg:https://kulturniradce.cz/wp-content/uploads/2025/12/320-9a386a0074a64bf4a65e92eb7a9ce8f0.jpg
END:VEVENT
BEGIN:VEVENT
DTSTART;TZID=Europe/Prague:20260311T190000
DTEND;TZID=Europe/Prague:20260311T220000
DTSTAMP:20260419T172317
CREATED:20260130T151747Z
LAST-MODIFIED:20260130T151748Z
UID:10021-1773255600-1773266400@kulturniradce.cz
SUMMARY:Tom Killner Band (UK)
DESCRIPTION:Tom Killner Band (UK) se uskuteční dne 2026-03-11 v 19:00 v Znojmo\, Sklepení U císaře Zikmunda. \n🎟️ Koupit vstupenku \n\nTom Killner\, mladý\, ale již vysoce ceněný zpěvák a kytarista\, se pohybuje na pomezí žánrů jako jsou: soul\, blues\, jižanský rock\, country a americana. Svou vysoce dynamickou show získává stále nové publikum jak ve Velké Británii\, tak v celé Evropě. Jeho koncerty jsou horkou kombinací svižných riffů a procítěných písní z Tomova zpěvníku. Na začátku své kariéry podepsal Tom smlouvu s vydavatelstvím Cleopatra Records se sídlem v Los Angeles a vydal dvě alba „Hard Road“ a „Live“. Jeho nezávislé nahrávky „Get Back Up“\, „Church House Sessions“ a singl „Home“ byly přijaty s velkým ohlasem u kritiky\, byly pozitivně hodnoceny v mnoha hudebních časopisech a získaly skvělé recenze jak mezinárodním radiovém vysílání\, tak na rádiu BBC. \nÚčinkující: \nTom Killner – kytara\, zpěvWes Brook – klávesy\, hammondyCallum Houghton – baskytaraRich Hunter – bicí \n\nTento tip na kulturní akci v Znojmo najdete v přehledu na KulturníRádce.cz spolu s dalšími koncerty\, festivaly a divadelními představeními.
URL:https://kulturniradce.cz/event/tom-killner-band-uk/
LOCATION:Sklepení U císaře Zikmunda\, Znojmo\, Sklepení U císaře Zikmunda\, Znojmo\, Česká republika
CATEGORIES:Festival
ATTACH;FMTTYPE=image/jpeg:https://kulturniradce.cz/wp-content/uploads/2026/01/320-ae15e06e94904ed2a9547e0aaa44ad41.jpg
END:VEVENT
BEGIN:VEVENT
DTSTART;TZID=Europe/Prague:20260311T200000
DTEND;TZID=Europe/Prague:20260311T230000
DTSTAMP:20260419T172317
CREATED:20251002T091230Z
LAST-MODIFIED:20251002T091232Z
UID:3870-1773259200-1773270000@kulturniradce.cz
SUMMARY:Souboj Klavírů v Hodoníně
DESCRIPTION:Souboj Klavírů v Hodoníně se uskuteční dne 2026-03-11 v 20:00 v Hodonín\, Dům kultury. \n🎟️ Koupit vstupenku \n\nZveme vás na jedinečný koncert dvou výjimečných klavíristů a hudebních skladatelů – Ondřeje Brzobohatého a Ondřeje Brouska! Tito celoživotní přátelé spojí své hudební mistrovství na pódiu v Domě kultury v Hodoníně! Přijďte si užít večer plný virtuózní klavírní hry a nezapomenutelných melodií! \nJak by zněla „Osudová“\, kdyby byl Beethoven optimista? Proč pláčeme při banálním filmovém dialogu? Co je to „nevhodná“ hudba? Že se u klasické hudby nedá pořádně zasmát? Může mít „Souboj klavírů“ vítěze? \nNa tyto otázky vám stylově odpoví duo Brousek – Brzobohatý\, které připravilo nezapomenutelný večer plný hudebních vtipů s dvěma klavíry. \n\nTento tip na kulturní akci v Hodonín najdete v přehledu na KulturníRádce.cz spolu s dalšími koncerty\, festivaly a divadelními představeními.
URL:https://kulturniradce.cz/event/souboj-klaviru-v-hodonine/
LOCATION:Dům kultury\, Hodonín\, Dům kultury\, Hodonín\, Česká republika
CATEGORIES:Koncert
ATTACH;FMTTYPE=image/jpeg:https://kulturniradce.cz/wp-content/uploads/2025/10/320-3fd51d7ed9f44b5d814cac5c885a6e4d.jpg
END:VEVENT
END:VCALENDAR