BEGIN:VCALENDAR
VERSION:2.0
PRODID:-//www.kulturniradce.cz - ECPv6.15.20//NONSGML v1.0//EN
CALSCALE:GREGORIAN
METHOD:PUBLISH
X-ORIGINAL-URL:https://kulturniradce.cz
X-WR-CALDESC:Akce na www.kulturniradce.cz
REFRESH-INTERVAL;VALUE=DURATION:PT1H
X-Robots-Tag:noindex
X-PUBLISHED-TTL:PT1H
BEGIN:VTIMEZONE
TZID:Europe/Prague
BEGIN:DAYLIGHT
TZOFFSETFROM:+0100
TZOFFSETTO:+0200
TZNAME:CEST
DTSTART:20250330T010000
END:DAYLIGHT
BEGIN:STANDARD
TZOFFSETFROM:+0200
TZOFFSETTO:+0100
TZNAME:CET
DTSTART:20251026T010000
END:STANDARD
BEGIN:DAYLIGHT
TZOFFSETFROM:+0100
TZOFFSETTO:+0200
TZNAME:CEST
DTSTART:20260329T010000
END:DAYLIGHT
BEGIN:STANDARD
TZOFFSETFROM:+0200
TZOFFSETTO:+0100
TZNAME:CET
DTSTART:20261025T010000
END:STANDARD
BEGIN:DAYLIGHT
TZOFFSETFROM:+0100
TZOFFSETTO:+0200
TZNAME:CEST
DTSTART:20270328T010000
END:DAYLIGHT
BEGIN:STANDARD
TZOFFSETFROM:+0200
TZOFFSETTO:+0100
TZNAME:CET
DTSTART:20271031T010000
END:STANDARD
END:VTIMEZONE
BEGIN:VEVENT
DTSTART;TZID=Europe/Prague:20260322T183000
DTEND;TZID=Europe/Prague:20260322T213000
DTSTAMP:20260419T185210
CREATED:20251209T190601Z
LAST-MODIFIED:20251209T190602Z
UID:7554-1774204200-1774215000@kulturniradce.cz
SUMMARY:Filmové melodie a Queen 2
DESCRIPTION:Filmové melodie a Queen 2 se uskuteční dne 2026-03-22 v 18:30 v Plzeň\, Betlémská kaple Plzeň. \n🎟️ Koupit vstupenku \n\nPojďte si užít zbrusu nový program\, který v zajímavé dramaturgii kombinuje aranže písniček skupiny Queen s filmovou hudbouze známých filmů v úpravě pro Esferas kvarteto do vytápěné Betlémské kaple \n  \nFILMOVÉ MELODIE a QUEEN 2 s Esferas KvartetemI. housle Ivana MorysováII. housle: Nikola Mikešováviola: Jan Forestvioloncello: Petr Špaček  \nPROGRAM: \nQUEEN                            Love of my life \nQUEEN                            Bohemian Rhapsody \nQUEEN                            We are the Champions \nQUEEN                            Show must go on \nQUEEN                            Don´t stop me now \nPÁN PRSTENŮ                Howard Shore:  Concerning Hobbits    \nHVĚZDNÁ BRÁNA          David Arnold: hlavní téma  \nPIRÁTI Z KARIBIKU        H. Zimmer  \nFORREST GUMP             Alan Silvestri:  Feather Theme \nROCKY                             Survivor:  Eye of the Tiger \nTENKRÁT NA ZÁPADĚ   Ennio Morricone:  hlavní téma \nSTAR WARS                     J. Williams: Love Theme \nGLADIÁTOR                     H. Zimmer: Now we are free \nZRODILA SE HVĚZDA     Shallow                                                                              \nHRA O TRŮNY                  The Rains of Castamere \nHRA O TRŮNY                  Ramin Djawadi: hlavní téma           \nJAK VYCVIČIT DRAKA     J. Powell: Romantic Flight \nSTAR WARS                      John Williams: Star Wars:  main theme \nSTAR WARS                      John Williams: Cantina Bar Music \n  \ndélka 65 minut\, změna programu vyhrazena \n  \n\nTento tip na kulturní akci v Plzeň najdete v přehledu na KulturníRádce.cz spolu s dalšími koncerty\, festivaly a divadelními představeními.
URL:https://kulturniradce.cz/event/filmove-melodie-a-queen-2-2/
LOCATION:Betlémská kaple Plzeň\, Plzeň\, Betlémská kaple Plzeň\, Plzeň\, Česká republika
CATEGORIES:Koncert
ATTACH;FMTTYPE=image/jpeg:https://kulturniradce.cz/wp-content/uploads/2025/12/320-ae5edc808b934417a86d4136b12f1862.jpg
END:VEVENT
BEGIN:VEVENT
DTSTART;TZID=Europe/Prague:20260322T190000
DTEND;TZID=Europe/Prague:20260322T220000
DTSTAMP:20260419T185210
CREATED:20260130T151747Z
LAST-MODIFIED:20260130T151747Z
UID:10018-1774206000-1774216800@kulturniradce.cz
SUMMARY:Stefan Orins Trio (FR)
DESCRIPTION:Stefan Orins Trio (FR) se uskuteční dne 2026-03-22 v 19:00 v Znojmo\, Sklepení U císaře Zikmunda. \n🎟️ Koupit vstupenku \n\nJazzová formace Stefan Orins Trio prezentuje hudbu ovlivněnou skandinávským jazzem a nabízí též návrat k hudbě Keitha Jarretta ze 70. let. Autorská tvorba a interpretační mistrovství lídra a klavíristy Stefana Orinse doplňují Gauthier Dubuis na kontrabas a Tristan Orins na bicí. Kdo očekává klasickou hudební produkci v sestavě klavír-kontrabas-bicí\, bude velmi mile překvapen vzájemnou hudební komunikací členů tohoto jazzového seskupení z Francie. \nÚčinkující: \nStefan Orins – klavírGauthier Dubuis – kontrabasTristan Orins – bicí \n\nTento tip na kulturní akci v Znojmo najdete v přehledu na KulturníRádce.cz spolu s dalšími koncerty\, festivaly a divadelními představeními.
URL:https://kulturniradce.cz/event/stefan-orins-trio-fr/
LOCATION:Sklepení U císaře Zikmunda\, Znojmo\, Sklepení U císaře Zikmunda\, Znojmo\, Česká republika
CATEGORIES:Festival
ATTACH;FMTTYPE=image/jpeg:https://kulturniradce.cz/wp-content/uploads/2026/01/320-6f72f0d6b00e4abd8c3d092051875a65.jpg
END:VEVENT
END:VCALENDAR