BEGIN:VCALENDAR
VERSION:2.0
PRODID:-//www.kulturniradce.cz - ECPv6.15.20//NONSGML v1.0//EN
CALSCALE:GREGORIAN
METHOD:PUBLISH
X-WR-CALNAME:www.kulturniradce.cz
X-ORIGINAL-URL:https://kulturniradce.cz
X-WR-CALDESC:Akce na www.kulturniradce.cz
REFRESH-INTERVAL;VALUE=DURATION:PT1H
X-Robots-Tag:noindex
X-PUBLISHED-TTL:PT1H
BEGIN:VTIMEZONE
TZID:Europe/Prague
BEGIN:DAYLIGHT
TZOFFSETFROM:+0100
TZOFFSETTO:+0200
TZNAME:CEST
DTSTART:20250330T010000
END:DAYLIGHT
BEGIN:STANDARD
TZOFFSETFROM:+0200
TZOFFSETTO:+0100
TZNAME:CET
DTSTART:20251026T010000
END:STANDARD
BEGIN:DAYLIGHT
TZOFFSETFROM:+0100
TZOFFSETTO:+0200
TZNAME:CEST
DTSTART:20260329T010000
END:DAYLIGHT
BEGIN:STANDARD
TZOFFSETFROM:+0200
TZOFFSETTO:+0100
TZNAME:CET
DTSTART:20261025T010000
END:STANDARD
BEGIN:DAYLIGHT
TZOFFSETFROM:+0100
TZOFFSETTO:+0200
TZNAME:CEST
DTSTART:20270328T010000
END:DAYLIGHT
BEGIN:STANDARD
TZOFFSETFROM:+0200
TZOFFSETTO:+0100
TZNAME:CET
DTSTART:20271031T010000
END:STANDARD
END:VTIMEZONE
BEGIN:VEVENT
DTSTART;TZID=Europe/Prague:20260408T190000
DTEND;TZID=Europe/Prague:20260408T220000
DTSTAMP:20260419T154934
CREATED:20251214T082133Z
LAST-MODIFIED:20251214T082134Z
UID:8310-1775674800-1775685600@kulturniradce.cz
SUMMARY:Hudba Bridgerton při svíčkách
DESCRIPTION:Hudba Bridgerton při svíčkách se uskuteční dne 2026-04-08 v 19:00 v Říčany\, KC Labuť. \n🎟️ Koupit vstupenku \n\nNenechte si ujít večer plný romantiky a elegance\, kde zazní ty nejznámější melodie a písně z oblíbeného seriálu Bridgerton. Světlo stovky svíček vytvoří okouzlující atmosféru koncertu. \nProgram v jedinečném provedení smyčcového kvarteta představí výběr hudebních skladeb z tohoto populárního seriálu\, inspirovaných klasickými díly i moderními popovými melodiemi\, které si získaly srdce diváků po celém světě. \nTento koncert nabídne víc než jen hudbu; stovky svíček rozzáří prostor a vytvoří atmosféru plnou noblesy\, romantiky a neodolatelného kouzla historické doby. \nAkce je přístupná od 12 let. Každý účastník musí předložit platnou vstupenku  zakoupenou výhradně v síti smsticket. \n\nTento tip na kulturní akci v Říčany najdete v přehledu na KulturníRádce.cz spolu s dalšími koncerty\, festivaly a divadelními představeními.
URL:https://kulturniradce.cz/event/hudba-bridgerton-pri-svickach-29/
LOCATION:KC Labuť\, Říčany\, KC Labuť\, Říčany\, Česká republika
CATEGORIES:Koncert
ATTACH;FMTTYPE=image/jpeg:https://kulturniradce.cz/wp-content/uploads/2025/12/320-5e4e644fcc034163b19081ef2bf2fe88.jpg
END:VEVENT
BEGIN:VEVENT
DTSTART;TZID=Europe/Prague:20260408T190000
DTEND;TZID=Europe/Prague:20260408T220000
DTSTAMP:20260419T154934
CREATED:20260103T095952Z
LAST-MODIFIED:20260103T095954Z
UID:8845-1775674800-1775685600@kulturniradce.cz
SUMMARY:Hudba Coldplay při svíčkách
DESCRIPTION:Hudba Coldplay při svíčkách se uskuteční dne 2026-04-08 v 19:00 v Brno\, Sál Milosrdných bratří. \n🎟️ Koupit vstupenku \n\nNenechte si ujít večer plný energie a emocí\, kde zazní ty největší hity britské kapely Coldplay. Světlo stovky svíček vytvoří nezapomenutelnou atmosféru tohoto jedinečného koncertu. \nProgram v podání smyčcového kvarteta nabídne výběr těch nejznámějších skladeb Coldplay\, včetně hitů jako „Fix You“\, „Yellow“ či „Viva La Vida“\, které si získaly srdce fanoušků po celém světě. \nTento koncert přinese víc než jen hudbu; stovky svíček rozzáří prostor a vytvoří atmosféru plnou emocí\, melancholie a nezapomenutelných melodií\, které vás vezmou na hudební cestu s Coldplay. \nAkce je přístupná od 12 let. Každý účastník musí předložit platnou vstupenku  zakoupenou výhradně v síti smsticket. \n\nTento tip na kulturní akci v Brno najdete v přehledu na KulturníRádce.cz spolu s dalšími koncerty\, festivaly a divadelními představeními.
URL:https://kulturniradce.cz/event/hudba-coldplay-pri-svickach-18/
LOCATION:Sál Milosrdných bratří\, Brno\, Sál Milosrdných bratří\, Brno\, Česká republika
CATEGORIES:Koncert
ATTACH;FMTTYPE=image/jpeg:https://kulturniradce.cz/wp-content/uploads/2026/01/320-14a0b7c52e5e419b9592f431ff85e51c.jpg
END:VEVENT
BEGIN:VEVENT
DTSTART;TZID=Europe/Prague:20260408T190000
DTEND;TZID=Europe/Prague:20260408T220000
DTSTAMP:20260419T154934
CREATED:20260103T100141Z
LAST-MODIFIED:20260103T100143Z
UID:8863-1775674800-1775685600@kulturniradce.cz
SUMMARY:Ludovico Einaudi Music | Litomyšl
DESCRIPTION:Ludovico Einaudi Music | Litomyšl se uskuteční dne 2026-04-08 v 19:00 v Litomyšl\, Smetanův dům. \n🎟️ Koupit vstupenku \n\nNenechte si ujít nezapomenutelný večer krásné hudby\, kde zazní melodie jednoho z nejlepších pianistů a skladatelů na světe\, Ludovica Einaudiho v podání předního českého klavíristy Tomáše Vrány. \nEinaudi je známý svými jednoduchými\, ale strašidelně krásnými minimalistickými díly pro klavír a ohromující filmovou hudbou. Za téměř třicet let své činnosti vydal řadu alb\, která se dostala na přední příčky poslechovosti\, vyprodává nejprestižnější koncertní sály po celém světě a jeho hudba zazněla v mnoha slavných filmech (Nedotknutelní\, Doktor Živago\, To je Anglie\, Nomadland a další). \nTento jedinečný koncert nabídne více než jen hudbu. Symfonie třpytivých svíček rozsvítí celý prostor a přidá na mystičnu a kouzlu večera. Každá svíčka přispěje k vytvoření kouzelného prostředí\, které dokonale doplní hudební zážitek. \nV rámci Evropské tour alternují také: Alexandr Starý a Lucie Kubátová.  \nAkce je přístupná od 12 let. Každý účastník musí předložit platnou vstupenku  zakoupenou výhradně v síti smsticket. \n\nTento tip na kulturní akci v Litomyšl najdete v přehledu na KulturníRádce.cz spolu s dalšími koncerty\, festivaly a divadelními představeními.
URL:https://kulturniradce.cz/event/ludovico-einaudi-music-litomysl/
LOCATION:Smetanův dům\, Litomyšl\, Smetanův dům\, Litomyšl\, Česká republika
CATEGORIES:Koncert
ATTACH;FMTTYPE=image/jpeg:https://kulturniradce.cz/wp-content/uploads/2026/01/320-c66fa3f64cb54eb892766d6e5beb67d0.jpg
END:VEVENT
BEGIN:VEVENT
DTSTART;TZID=Europe/Prague:20260408T210000
DTEND;TZID=Europe/Prague:20260409T000000
DTSTAMP:20260419T154934
CREATED:20260315T154031Z
LAST-MODIFIED:20260315T154031Z
UID:13075-1775682000-1775692800@kulturniradce.cz
SUMMARY:Hudba QUEEN & ABBA při svíčkách
DESCRIPTION:Hudba QUEEN & ABBA při svíčkách se uskuteční dne 2026-04-08 v 21:00 v Brno\, Sál Milosrdných bratří. \n🎟️ Koupit vstupenku \n\nNenechte si ujít večer plný energie\, emocí a nestárnoucích melodií\, kde zazní ty největší hity legendárních kapel Queen a ABBA. Světlo stovek svíček vytvoří jedinečnou a intimní atmosféru tohoto výjimečného koncertního zážitku. \nProgram v podání smyčcového kvarteta nabídne výběr nejznámějších skladeb obou kapel – od ikonických hymn Queen až po melodické popové hity ABBA\, které si získaly miliony fanoušků po celém světě. Zazní skladby\, které definovaly celé generace a dodnes fungují napříč publikem. \nTento koncert přinese víc než jen hudbu. Stovky svíček rozzáří prostor a vytvoří atmosféru plnou emocí\, nostalgie i radosti\, kde se spojuje síla rockových melodií s elegancí popové klasiky v netradičním\, komorním pojetí. \nAkce je přístupná od 12 let. Každý účastník musí předložit platnou vstupenku zakoupenou výhradně v síti smsticket. \n\nTento tip na kulturní akci v Brno najdete v přehledu na KulturníRádce.cz spolu s dalšími koncerty\, festivaly a divadelními představeními.
URL:https://kulturniradce.cz/event/hudba-queen-abba-pri-svickach/
LOCATION:Sál Milosrdných bratří\, Brno\, Sál Milosrdných bratří\, Brno\, Česká republika
CATEGORIES:Koncert
ATTACH;FMTTYPE=image/jpeg:https://kulturniradce.cz/wp-content/uploads/2026/03/320-a4ebe837275c44f5bf2e8e27048f7129.jpg
END:VEVENT
END:VCALENDAR