BEGIN:VCALENDAR
VERSION:2.0
PRODID:-//www.kulturniradce.cz - ECPv6.15.20//NONSGML v1.0//EN
CALSCALE:GREGORIAN
METHOD:PUBLISH
X-WR-CALNAME:www.kulturniradce.cz
X-ORIGINAL-URL:https://kulturniradce.cz
X-WR-CALDESC:Akce na www.kulturniradce.cz
REFRESH-INTERVAL;VALUE=DURATION:PT1H
X-Robots-Tag:noindex
X-PUBLISHED-TTL:PT1H
BEGIN:VTIMEZONE
TZID:Europe/Prague
BEGIN:DAYLIGHT
TZOFFSETFROM:+0100
TZOFFSETTO:+0200
TZNAME:CEST
DTSTART:20250330T010000
END:DAYLIGHT
BEGIN:STANDARD
TZOFFSETFROM:+0200
TZOFFSETTO:+0100
TZNAME:CET
DTSTART:20251026T010000
END:STANDARD
BEGIN:DAYLIGHT
TZOFFSETFROM:+0100
TZOFFSETTO:+0200
TZNAME:CEST
DTSTART:20260329T010000
END:DAYLIGHT
BEGIN:STANDARD
TZOFFSETFROM:+0200
TZOFFSETTO:+0100
TZNAME:CET
DTSTART:20261025T010000
END:STANDARD
BEGIN:DAYLIGHT
TZOFFSETFROM:+0100
TZOFFSETTO:+0200
TZNAME:CEST
DTSTART:20270328T010000
END:DAYLIGHT
BEGIN:STANDARD
TZOFFSETFROM:+0200
TZOFFSETTO:+0100
TZNAME:CET
DTSTART:20271031T010000
END:STANDARD
END:VTIMEZONE
BEGIN:VEVENT
DTSTART;TZID=Europe/Prague:20260418T183000
DTEND;TZID=Europe/Prague:20260418T213000
DTSTAMP:20260419T155022
CREATED:20260308T190620Z
LAST-MODIFIED:20260308T190621Z
UID:12304-1776537000-1776547800@kulturniradce.cz
SUMMARY:ABBA a Beatles klasicky v Plzni
DESCRIPTION:ABBA a Beatles klasicky v Plzni se uskuteční dne 2026-04-18 v 18:30 v Plzeň\, Betlémská kaple Plzeň. \n🎟️ Koupit vstupenku \n\nPojďte si užít nový program s aranžemi známých písniček skupiny ABBA a Beatles úpravě pro smyčcové Klárovo kvarteto do vytápěné Betlémské kaple \n. \nKLÁROVO KVARTETO \nPavel Hrda – I. housle\, Tom Klár – II. housle\, Libor Kaňka – viola\, Václav Fleissig – violoncello \n  \nPROGRAM: \nBEATLES:                                            ABBA:                        \nAll you need is Love                           Dancing Queen \nObladi – oblada                                   S.O.S. \nYesterday                                             Waterloo \nI want to hold your hand                    Super Trouper  \nHey\, Jude                                             Fernando \nFrom me to you                                   Mamma mia \nShe loves you                                      Money\, money\, money \nOh\, darling \nSomething \nDizzy miss Lizzy \nLady Madonna \nA hard day´s Night \nDÉLKA cca 65 minut \ndélka 65 minut\, změna programu vyhrazena \n  \n\nTento tip na kulturní akci v Plzeň najdete v přehledu na KulturníRádce.cz spolu s dalšími koncerty\, festivaly a divadelními představeními.
URL:https://kulturniradce.cz/event/abba-a-beatles-klasicky-v-plzni/
LOCATION:Betlémská kaple Plzeň\, Plzeň\, Betlémská kaple Plzeň\, Plzeň\, Česká republika
CATEGORIES:Koncert
ATTACH;FMTTYPE=image/jpeg:https://kulturniradce.cz/wp-content/uploads/2026/03/320-8a9653bacb814b2f817762ca2e9a7590.jpg
END:VEVENT
END:VCALENDAR