BEGIN:VCALENDAR
VERSION:2.0
PRODID:-//www.kulturniradce.cz - ECPv6.15.20//NONSGML v1.0//EN
CALSCALE:GREGORIAN
METHOD:PUBLISH
X-ORIGINAL-URL:https://kulturniradce.cz
X-WR-CALDESC:Akce na www.kulturniradce.cz
REFRESH-INTERVAL;VALUE=DURATION:PT1H
X-Robots-Tag:noindex
X-PUBLISHED-TTL:PT1H
BEGIN:VTIMEZONE
TZID:Europe/Prague
BEGIN:DAYLIGHT
TZOFFSETFROM:+0100
TZOFFSETTO:+0200
TZNAME:CEST
DTSTART:20250330T010000
END:DAYLIGHT
BEGIN:STANDARD
TZOFFSETFROM:+0200
TZOFFSETTO:+0100
TZNAME:CET
DTSTART:20251026T010000
END:STANDARD
BEGIN:DAYLIGHT
TZOFFSETFROM:+0100
TZOFFSETTO:+0200
TZNAME:CEST
DTSTART:20260329T010000
END:DAYLIGHT
BEGIN:STANDARD
TZOFFSETFROM:+0200
TZOFFSETTO:+0100
TZNAME:CET
DTSTART:20261025T010000
END:STANDARD
BEGIN:DAYLIGHT
TZOFFSETFROM:+0100
TZOFFSETTO:+0200
TZNAME:CEST
DTSTART:20270328T010000
END:DAYLIGHT
BEGIN:STANDARD
TZOFFSETFROM:+0200
TZOFFSETTO:+0100
TZNAME:CET
DTSTART:20271031T010000
END:STANDARD
END:VTIMEZONE
BEGIN:VEVENT
DTSTART;TZID=Europe/Prague:20260424T190000
DTEND;TZID=Europe/Prague:20260424T220000
DTSTAMP:20260419T155139
CREATED:20260109T201413Z
LAST-MODIFIED:20260109T201413Z
UID:9023-1777057200-1777068000@kulturniradce.cz
SUMMARY:Hudba Bridgerton při svíčkách
DESCRIPTION:Hudba Bridgerton při svíčkách se uskuteční dne 2026-04-24 v 19:00 v Opava\, kostel sv. Václava. \n🎟️ Koupit vstupenku \n\nNenechte si ujít večer plný romantiky a elegance\, kde zazní ty nejznámější melodie a písně z oblíbeného seriálu Bridgerton. Světlo stovky svíček vytvoří okouzlující atmosféru koncertu. \nProgram v jedinečném provedení smyčcového kvarteta představí výběr hudebních skladeb z tohoto populárního seriálu\, inspirovaných klasickými díly i moderními popovými melodiemi\, které si získaly srdce diváků po celém světě. \nTento koncert nabídne víc než jen hudbu; stovky svíček rozzáří prostor a vytvoří atmosféru plnou noblesy\, romantiky a neodolatelného kouzla historické doby. \nAkce je přístupná od 12 let. Každý účastník musí předložit platnou vstupenku  zakoupenou výhradně v síti smsticket. \n\nTento tip na kulturní akci v Opava najdete v přehledu na KulturníRádce.cz spolu s dalšími koncerty\, festivaly a divadelními představeními.
URL:https://kulturniradce.cz/event/hudba-bridgerton-pri-svickach-35/
LOCATION:kostel Sv. Václava\, Opava\, kostel Sv. Václava\, Opava\, Česká republika
CATEGORIES:Koncert
ATTACH;FMTTYPE=image/jpeg:https://kulturniradce.cz/wp-content/uploads/2026/01/320-647bcb293440416ea89988e720cd484e.jpg
END:VEVENT
BEGIN:VEVENT
DTSTART;TZID=Europe/Prague:20260424T190000
DTEND;TZID=Europe/Prague:20260424T220000
DTSTAMP:20260419T155139
CREATED:20260314T192318Z
LAST-MODIFIED:20260314T192319Z
UID:12442-1777057200-1777068000@kulturniradce.cz
SUMMARY:Václav Hudeček & Musici Boemi
DESCRIPTION:Václav Hudeček & Musici Boemi se uskuteční dne 2026-04-24 v 19:00 v Rájec-Jestřebí\, Kulturní centrum – sokolovna. \n🎟️ Koupit vstupenku \n\nVÁCLAV HUDEČEK & komorní orchestr MUSICI BOEMIČtvero ročních dob.Charismatický houslový virtuos Václav Hudeček\, legenda české hudební scény\, se představí ve společném koncertu s vynikajícím komorním orchestrem Musici Boemi. \nVýjimečný ansámbl složený z předních českých hudebníků přináší interpretační preciznost\, energii\, stylovou rozmanitost a slibuje nezapomenutelný večer plný emocí\, technické brilance a hudební krásy. \n\nTento tip na kulturní akci v Rájec-Jestřebí najdete v přehledu na KulturníRádce.cz spolu s dalšími koncerty\, festivaly a divadelními představeními.
URL:https://kulturniradce.cz/event/vaclav-hudecek-musici-boemi/
LOCATION:Kulturní centrum – sokolovna\, Rájec-Jestřebí\, Kulturní centrum - sokolovna\, Rájec-Jestřebí\, Česká republika
CATEGORIES:Koncert
ATTACH;FMTTYPE=image/jpeg:https://kulturniradce.cz/wp-content/uploads/2026/03/320-1a6202db0e804be49a288b79fa5a13dd.jpg
END:VEVENT
END:VCALENDAR