BEGIN:VCALENDAR
VERSION:2.0
PRODID:-//www.kulturniradce.cz - ECPv6.15.20//NONSGML v1.0//EN
CALSCALE:GREGORIAN
METHOD:PUBLISH
X-WR-CALNAME:www.kulturniradce.cz
X-ORIGINAL-URL:https://kulturniradce.cz
X-WR-CALDESC:Akce na www.kulturniradce.cz
REFRESH-INTERVAL;VALUE=DURATION:PT1H
X-Robots-Tag:noindex
X-PUBLISHED-TTL:PT1H
BEGIN:VTIMEZONE
TZID:Europe/Prague
BEGIN:DAYLIGHT
TZOFFSETFROM:+0100
TZOFFSETTO:+0200
TZNAME:CEST
DTSTART:20250330T010000
END:DAYLIGHT
BEGIN:STANDARD
TZOFFSETFROM:+0200
TZOFFSETTO:+0100
TZNAME:CET
DTSTART:20251026T010000
END:STANDARD
BEGIN:DAYLIGHT
TZOFFSETFROM:+0100
TZOFFSETTO:+0200
TZNAME:CEST
DTSTART:20260329T010000
END:DAYLIGHT
BEGIN:STANDARD
TZOFFSETFROM:+0200
TZOFFSETTO:+0100
TZNAME:CET
DTSTART:20261025T010000
END:STANDARD
BEGIN:DAYLIGHT
TZOFFSETFROM:+0100
TZOFFSETTO:+0200
TZNAME:CEST
DTSTART:20270328T010000
END:DAYLIGHT
BEGIN:STANDARD
TZOFFSETFROM:+0200
TZOFFSETTO:+0100
TZNAME:CET
DTSTART:20271031T010000
END:STANDARD
END:VTIMEZONE
BEGIN:VEVENT
DTSTART;TZID=Europe/Prague:20260505T190000
DTEND;TZID=Europe/Prague:20260505T220000
DTSTAMP:20260419T172231
CREATED:20260117T195252Z
LAST-MODIFIED:20260117T195253Z
UID:9227-1778007600-1778018400@kulturniradce.cz
SUMMARY:Hudba Coldplay při svíčkách
DESCRIPTION:Hudba Coldplay při svíčkách se uskuteční dne 2026-05-05 v 19:00 v Valašské Meziříčí\, Kulturní zařízení. \n🎟️ Koupit vstupenku \n\nNenechte si ujít večer plný energie a emocí\, kde zazní ty největší hity britské kapely Coldplay. Světlo stovky svíček vytvoří nezapomenutelnou atmosféru tohoto jedinečného koncertu. \nProgram v podání smyčcového kvarteta nabídne výběr těch nejznámějších skladeb Coldplay\, včetně hitů jako „Fix You“\, „Yellow“ či „Viva La Vida“\, které si získaly srdce fanoušků po celém světě. \nTento koncert přinese víc než jen hudbu; stovky svíček rozzáří prostor a vytvoří atmosféru plnou emocí\, melancholie a nezapomenutelných melodií\, které vás vezmou na hudební cestu s Coldplay. \nAkce je přístupná od 12 let. Každý účastník musí předložit platnou vstupenku  zakoupenou výhradně v síti smsticket. \n\nTento tip na kulturní akci v Valašské Meziříčí najdete v přehledu na KulturníRádce.cz spolu s dalšími koncerty\, festivaly a divadelními představeními.
URL:https://kulturniradce.cz/event/hudba-coldplay-pri-svickach-22/
LOCATION:Kulturní zařízení\, Valašské Meziříčí\, Kulturní zařízení\, Valašské Meziříčí\, Česká republika
CATEGORIES:Koncert
ATTACH;FMTTYPE=image/jpeg:https://kulturniradce.cz/wp-content/uploads/2026/01/320-4659107a44004a1d8346efe02d1617e4.jpg
END:VEVENT
BEGIN:VEVENT
DTSTART;TZID=Europe/Prague:20260505T190000
DTEND;TZID=Europe/Prague:20260505T220000
DTSTAMP:20260419T172231
CREATED:20260121T184558Z
LAST-MODIFIED:20260121T184559Z
UID:9425-1778007600-1778018400@kulturniradce.cz
SUMMARY:Hudba Bridgerton při svíčkách
DESCRIPTION:Hudba Bridgerton při svíčkách se uskuteční dne 2026-05-05 v 19:00 v Třinec\, Kulturní dům TRISIA. \n🎟️ Koupit vstupenku \n\nNenechte si ujít večer plný romantiky a elegance\, kde zazní ty nejznámější melodie a písně z oblíbeného seriálu Bridgerton. Světlo stovky svíček vytvoří okouzlující atmosféru koncertu. \nProgram v jedinečném provedení smyčcového kvarteta představí výběr hudebních skladeb z tohoto populárního seriálu\, inspirovaných klasickými díly i moderními popovými melodiemi\, které si získaly srdce diváků po celém světě. \nTento koncert nabídne víc než jen hudbu; stovky svíček rozzáří prostor a vytvoří atmosféru plnou noblesy\, romantiky a neodolatelného kouzla historické doby. \nAkce je přístupná od 12 let. Každý účastník musí předložit platnou vstupenku  zakoupenou výhradně v síti smsticket. \n\nTento tip na kulturní akci v Třinec najdete v přehledu na KulturníRádce.cz spolu s dalšími koncerty\, festivaly a divadelními představeními.
URL:https://kulturniradce.cz/event/hudba-bridgerton-pri-svickach-41/
LOCATION:Kulturní dům TRISIA\, Třinec\, Kulturní dům TRISIA\, Třinec\, Česká republika
CATEGORIES:Koncert
ATTACH;FMTTYPE=image/jpeg:https://kulturniradce.cz/wp-content/uploads/2026/01/320-54dcb51d1b7d479da14a79fc82e33479.jpg
END:VEVENT
BEGIN:VEVENT
DTSTART;TZID=Europe/Prague:20260505T190000
DTEND;TZID=Europe/Prague:20260505T220000
DTSTAMP:20260419T172231
CREATED:20260315T150156Z
LAST-MODIFIED:20260315T150156Z
UID:12907-1778007600-1778018400@kulturniradce.cz
SUMMARY:Hudba Harryho Pottera při svíčkách | Čáslav
DESCRIPTION:Hudba Harryho Pottera při svíčkách | Čáslav se uskuteční dne 2026-05-05 v 19:00 v Čáslav\, Dusíkovo divadlo. \n🎟️ Koupit vstupenku \n\nNenechte si ujít večer plný magické hudby\, kde zazní ty nejznámější melodie a písně ze všech filmů Harryho Pottera. Světlo stovky svíček vytvoří nezapomenutelnou atmosféru koncertu. \nProgram v jedinečném klavírním provedení představuje výběr filmových skladeb od pětinásobného oscarového skladatele Johna Williamse společně s díly Patricka Doyla\, Nicolase Hoopera a Alexandra Desplata\, držitele Oscara\, a nabízí to nejlepší z hudby Harryho Pottera. \nTento magický koncert nabídne víc než jen hudbu; stovky svíček rozzáří prostor a přidají na tajemné atmosféře plné mystiky a kouzel. \nMůžete se těšit na známé melodie a písně z filmů Harryho Pottera\, upravené pro klavírní koncert a to v podání předního klavíristy Mateje Arendárika. \nV rámci Evropské tour alternují také: František Panáček a Lucie Kubátová.  \nAkce je přístupná od 12 let. Každý účastník musí předložit platnou vstupenku  zakoupenou výhradně v síti smsticket. \n  \n\nTento tip na kulturní akci v Čáslav najdete v přehledu na KulturníRádce.cz spolu s dalšími koncerty\, festivaly a divadelními představeními.
URL:https://kulturniradce.cz/event/hudba-harryho-pottera-pri-svickach-caslav/
LOCATION:Dusíkovo divadlo\, Čáslav\, Dusíkovo divadlo\, Čáslav\, Česká republika
CATEGORIES:Koncert
ATTACH;FMTTYPE=image/jpeg:https://kulturniradce.cz/wp-content/uploads/2026/03/320-45b96cc79f4446c1861a5535043fb248.jpg
END:VEVENT
END:VCALENDAR