BEGIN:VCALENDAR
VERSION:2.0
PRODID:-//www.kulturniradce.cz - ECPv6.15.20//NONSGML v1.0//EN
CALSCALE:GREGORIAN
METHOD:PUBLISH
X-WR-CALNAME:www.kulturniradce.cz
X-ORIGINAL-URL:https://kulturniradce.cz
X-WR-CALDESC:Akce na www.kulturniradce.cz
REFRESH-INTERVAL;VALUE=DURATION:PT1H
X-Robots-Tag:noindex
X-PUBLISHED-TTL:PT1H
BEGIN:VTIMEZONE
TZID:Europe/Prague
BEGIN:DAYLIGHT
TZOFFSETFROM:+0100
TZOFFSETTO:+0200
TZNAME:CEST
DTSTART:20250330T010000
END:DAYLIGHT
BEGIN:STANDARD
TZOFFSETFROM:+0200
TZOFFSETTO:+0100
TZNAME:CET
DTSTART:20251026T010000
END:STANDARD
BEGIN:DAYLIGHT
TZOFFSETFROM:+0100
TZOFFSETTO:+0200
TZNAME:CEST
DTSTART:20260329T010000
END:DAYLIGHT
BEGIN:STANDARD
TZOFFSETFROM:+0200
TZOFFSETTO:+0100
TZNAME:CET
DTSTART:20261025T010000
END:STANDARD
BEGIN:DAYLIGHT
TZOFFSETFROM:+0100
TZOFFSETTO:+0200
TZNAME:CEST
DTSTART:20270328T010000
END:DAYLIGHT
BEGIN:STANDARD
TZOFFSETFROM:+0200
TZOFFSETTO:+0100
TZNAME:CET
DTSTART:20271031T010000
END:STANDARD
END:VTIMEZONE
BEGIN:VEVENT
DTSTART;TZID=Europe/Prague:20260507T190000
DTEND;TZID=Europe/Prague:20260507T220000
DTSTAMP:20260419T172219
CREATED:20260315T150334Z
LAST-MODIFIED:20260315T150335Z
UID:12917-1778180400-1778191200@kulturniradce.cz
SUMMARY:Petr Tomeček / Motiv lásky
DESCRIPTION:Petr Tomeček / Motiv lásky se uskuteční dne 2026-05-07 v 19:00 v Písek\, Koncertní síň „Trojice“. \n🎟️ Koupit vstupenku \n\nSrdečně vás zveme na jedinečný hudební zážitek\, který se uskuteční v nádherném prostředí koncertní síně Trojice v Písku.V podmanivém souznění zazní Kouzelná Panova flétna – nástroj s neobyčejně jemným a éterickým zvukem\, který dokáže rozechvět duši i srdce. \nV jedinečném spojení s historickými varhanami\, jež kdysi patřily slavnému cestovateli Jiřímu Hanzelkovi\, a s romantickým tónem koncertního křídla se rozezní hudba plná emocí\, lyriky a kouzla dávných melodií. \nNechte se unést atmosférou podzimního večera\, v němž se setká krása\, poezie i zvuková magie.Zazní romantické melodie\, které pohladí duši a připomenou\, že hudba dokáže mluvit beze slov. \n\nTento tip na kulturní akci v Písek najdete v přehledu na KulturníRádce.cz spolu s dalšími koncerty\, festivaly a divadelními představeními.
URL:https://kulturniradce.cz/event/petr-tomecek-motiv-lasky-4/
LOCATION:Koncertní síň „Trojice“\, Písek\, Koncertní síň "Trojice"\, Písek\, Česká republika
CATEGORIES:Koncert
ATTACH;FMTTYPE=image/jpeg:https://kulturniradce.cz/wp-content/uploads/2026/03/320-e44bb0af85d94c36a70ce6ce4323dc0c-1.jpg
END:VEVENT
BEGIN:VEVENT
DTSTART;TZID=Europe/Prague:20260507T190000
DTEND;TZID=Europe/Prague:20260507T220000
DTSTAMP:20260419T172219
CREATED:20260315T150334Z
LAST-MODIFIED:20260315T150335Z
UID:12918-1778180400-1778191200@kulturniradce.cz
SUMMARY:Petr Tomeček / Motiv lásky
DESCRIPTION:Petr Tomeček / Motiv lásky se uskuteční dne 2026-05-07 v 19:00 v Písek\, Koncertní síň „Trojice“. \n🎟️ Koupit vstupenku \n\nSrdečně vás zveme na jedinečný hudební zážitek\, který se uskuteční v nádherném prostředí koncertní síně Trojice v Písku.V podmanivém souznění zazní Kouzelná Panova flétna – nástroj s neobyčejně jemným a éterickým zvukem\, který dokáže rozechvět duši i srdce. \nV jedinečném spojení s historickými varhanami\, jež kdysi patřily slavnému cestovateli Jiřímu Hanzelkovi\, a s romantickým tónem koncertního křídla se rozezní hudba plná emocí\, lyriky a kouzla dávných melodií. \nNechte se unést atmosférou podzimního večera\, v němž se setká krása\, poezie i zvuková magie.Zazní romantické melodie\, které pohladí duši a připomenou\, že hudba dokáže mluvit beze slov. \n\nTento tip na kulturní akci v Písek najdete v přehledu na KulturníRádce.cz spolu s dalšími koncerty\, festivaly a divadelními představeními.
URL:https://kulturniradce.cz/event/petr-tomecek-motiv-lasky-4/
LOCATION:Koncertní síň „Trojice“\, Písek\, Koncertní síň "Trojice"\, Písek\, Česká republika
CATEGORIES:Koncert
ATTACH;FMTTYPE=image/jpeg:https://kulturniradce.cz/wp-content/uploads/2026/03/320-e44bb0af85d94c36a70ce6ce4323dc0c.jpg
END:VEVENT
END:VCALENDAR