BEGIN:VCALENDAR
VERSION:2.0
PRODID:-//www.kulturniradce.cz - ECPv6.15.20//NONSGML v1.0//EN
CALSCALE:GREGORIAN
METHOD:PUBLISH
X-WR-CALNAME:www.kulturniradce.cz
X-ORIGINAL-URL:https://kulturniradce.cz
X-WR-CALDESC:Akce na www.kulturniradce.cz
REFRESH-INTERVAL;VALUE=DURATION:PT1H
X-Robots-Tag:noindex
X-PUBLISHED-TTL:PT1H
BEGIN:VTIMEZONE
TZID:Europe/Prague
BEGIN:DAYLIGHT
TZOFFSETFROM:+0100
TZOFFSETTO:+0200
TZNAME:CEST
DTSTART:20250330T010000
END:DAYLIGHT
BEGIN:STANDARD
TZOFFSETFROM:+0200
TZOFFSETTO:+0100
TZNAME:CET
DTSTART:20251026T010000
END:STANDARD
BEGIN:DAYLIGHT
TZOFFSETFROM:+0100
TZOFFSETTO:+0200
TZNAME:CEST
DTSTART:20260329T010000
END:DAYLIGHT
BEGIN:STANDARD
TZOFFSETFROM:+0200
TZOFFSETTO:+0100
TZNAME:CET
DTSTART:20261025T010000
END:STANDARD
BEGIN:DAYLIGHT
TZOFFSETFROM:+0100
TZOFFSETTO:+0200
TZNAME:CEST
DTSTART:20270328T010000
END:DAYLIGHT
BEGIN:STANDARD
TZOFFSETFROM:+0200
TZOFFSETTO:+0100
TZNAME:CET
DTSTART:20271031T010000
END:STANDARD
END:VTIMEZONE
BEGIN:VEVENT
DTSTART;TZID=Europe/Prague:20260523T190000
DTEND;TZID=Europe/Prague:20260523T220000
DTSTAMP:20260419T172228
CREATED:20260118T104705Z
LAST-MODIFIED:20260118T104708Z
UID:9245-1779562800-1779573600@kulturniradce.cz
SUMMARY:Hudba Coldplay při svíčkách
DESCRIPTION:Hudba Coldplay při svíčkách se uskuteční dne 2026-05-23 v 19:00 v Pardubice\, Sukova síň Domu hudby. \n🎟️ Koupit vstupenku \n\nNenechte si ujít večer plný energie a emocí\, kde zazní ty největší hity britské kapely Coldplay. Světlo stovky svíček vytvoří nezapomenutelnou atmosféru tohoto jedinečného koncertu. \nProgram v podání smyčcového kvarteta nabídne výběr těch nejznámějších skladeb Coldplay\, včetně hitů jako „Fix You“\, „Yellow“ či „Viva La Vida“\, které si získaly srdce fanoušků po celém světě. \nTento koncert přinese víc než jen hudbu; stovky svíček rozzáří prostor a vytvoří atmosféru plnou emocí\, melancholie a nezapomenutelných melodií\, které vás vezmou na hudební cestu s Coldplay. \nAkce je přístupná od 12 let. Každý účastník musí předložit platnou vstupenku  zakoupenou výhradně v síti  smsticket. \n\nTento tip na kulturní akci v Pardubice najdete v přehledu na KulturníRádce.cz spolu s dalšími koncerty\, festivaly a divadelními představeními.
URL:https://kulturniradce.cz/event/hudba-coldplay-pri-svickach-28/
LOCATION:Sukova síň Domu hudby\, Pardubice\, Sukova síň Domu hudby\, Pardubice\, Česká republika
CATEGORIES:Koncert
ATTACH;FMTTYPE=image/jpeg:https://kulturniradce.cz/wp-content/uploads/2026/01/320-68446476dd0648b49dc1c925aae49cb8.jpg
END:VEVENT
BEGIN:VEVENT
DTSTART;TZID=Europe/Prague:20260523T210000
DTEND;TZID=Europe/Prague:20260524T000000
DTSTAMP:20260419T172228
CREATED:20260207T110536Z
LAST-MODIFIED:20260207T110538Z
UID:10115-1779570000-1779580800@kulturniradce.cz
SUMMARY:James Bond v kostele 2\, Koncert filmové hudby s iluminacemi
DESCRIPTION:James Bond v kostele 2\, Koncert filmové hudby s iluminacemi se uskuteční dne 2026-05-23 v 21:00 v Brno\, Červený kostel. \n🎟️ Koupit vstupenku \n\nJames Bond v kostele 2 – koncert Moravského klavírního tria se světelnými iluminacemi \nZveme Vás na nezapomenutelný večer plný ikonických melodií z oblíbených filmů! \nNejznámější filmoví hrdinové ožijí ve velkolepě osvětleném magickém Červeném kostele.  \nMimo Jamese Bonda Vás čekají další úžasní hrdinové. \n  \n\nTento tip na kulturní akci v Brno najdete v přehledu na KulturníRádce.cz spolu s dalšími koncerty\, festivaly a divadelními představeními.
URL:https://kulturniradce.cz/event/james-bond-v-kostele-2-koncert-filmove-hudby-s-iluminacemi/
LOCATION:Červený kostel\, Brno\, Červený kostel\, Brno\, Česká republika
CATEGORIES:Koncert
ATTACH;FMTTYPE=image/jpeg:https://kulturniradce.cz/wp-content/uploads/2026/02/320-83d7e2b600544b6ea3e42c75010ca3b8.jpg
END:VEVENT
END:VCALENDAR