BEGIN:VCALENDAR
VERSION:2.0
PRODID:-//www.kulturniradce.cz - ECPv6.15.20//NONSGML v1.0//EN
CALSCALE:GREGORIAN
METHOD:PUBLISH
X-ORIGINAL-URL:https://kulturniradce.cz
X-WR-CALDESC:Akce na www.kulturniradce.cz
REFRESH-INTERVAL;VALUE=DURATION:PT1H
X-Robots-Tag:noindex
X-PUBLISHED-TTL:PT1H
BEGIN:VTIMEZONE
TZID:Europe/Prague
BEGIN:DAYLIGHT
TZOFFSETFROM:+0100
TZOFFSETTO:+0200
TZNAME:CEST
DTSTART:20250330T010000
END:DAYLIGHT
BEGIN:STANDARD
TZOFFSETFROM:+0200
TZOFFSETTO:+0100
TZNAME:CET
DTSTART:20251026T010000
END:STANDARD
BEGIN:DAYLIGHT
TZOFFSETFROM:+0100
TZOFFSETTO:+0200
TZNAME:CEST
DTSTART:20260329T010000
END:DAYLIGHT
BEGIN:STANDARD
TZOFFSETFROM:+0200
TZOFFSETTO:+0100
TZNAME:CET
DTSTART:20261025T010000
END:STANDARD
BEGIN:DAYLIGHT
TZOFFSETFROM:+0100
TZOFFSETTO:+0200
TZNAME:CEST
DTSTART:20270328T010000
END:DAYLIGHT
BEGIN:STANDARD
TZOFFSETFROM:+0200
TZOFFSETTO:+0100
TZNAME:CET
DTSTART:20271031T010000
END:STANDARD
END:VTIMEZONE
BEGIN:VEVENT
DTSTART;TZID=Europe/Prague:20260609T190000
DTEND;TZID=Europe/Prague:20260609T220000
DTSTAMP:20260419T185209
CREATED:20260208T113655Z
LAST-MODIFIED:20260208T113656Z
UID:10277-1781031600-1781042400@kulturniradce.cz
SUMMARY:Světová hudba pro 4 saxofony a zpěv
DESCRIPTION:Světová hudba pro 4 saxofony a zpěv se uskuteční dne 2026-06-09 v 19:00 v Praha\, Jeruzalémská (Jubilejní) synagoga. \n🎟️ Koupit vstupenku \n\n  \nV nádherné Jeruzalémské (Jubilejní) synagoze zazní ty nejkrásnější světové skladby v úpravách pro saxofony a zpěv \n. \nSaxofonové kvarteto FOUR + ONE \nPetr RANDÍK – soprán saxofon\, Zdeněk ZADRAŽIL – alt saxofon\,  \nTomáš PUDIVÍTR – tenor saxofon\, Vít DĚDIČ – baryton saxofon \na Andrea KAŇKOVÁ – zpěv \n. \nPROGRAM: \nA. VIVALDI – Jaro ze Čtyř ročních období (v úpravě pro saxofony) \nA. DVOŘÁK – Largo z Novosvětské \nE. MORRICONE – Tenkrát na západě \nJ. STRAUSS – Pizzicato polka \nS. YRANDIER – La Paloma \nJ. JEŽEK – Bugatti Step \nG. GERSHWIN – I got rhytm \nBEATLES – Eleanor Rigby \nEVITA – Don´t cry for me\, Argentina \nBEATLES – Can´t buy me love \nQUEEN – Crazy Little Think Called Love \nB. STREISAND – MEMORY \nW. HOUSTON – I will always love you \nB. STREISAND – Tell Him  \nB. LISTON – Brazil \nB. Mc FERRIN – Don´t Worry Be Happy \nF. SINATRA – My way \nDélka cca 65 minut\, změna programu vyhrazena. \n\nTento tip na kulturní akci v Praha najdete v přehledu na KulturníRádce.cz spolu s dalšími koncerty\, festivaly a divadelními představeními.
URL:https://kulturniradce.cz/event/svetova-hudba-pro-4-saxofony-a-zpev-4/
LOCATION:Jeruzalémská (Jubilejní) synagoga\, Praha\, Jeruzalémská (Jubilejní) synagoga\, Praha\, Česká republika
CATEGORIES:Koncert
ATTACH;FMTTYPE=image/jpeg:https://kulturniradce.cz/wp-content/uploads/2026/02/320-423112135bfd4bfe8d8953af163c27a9.jpg
END:VEVENT
END:VCALENDAR