BEGIN:VCALENDAR
VERSION:2.0
PRODID:-//www.kulturniradce.cz - ECPv6.15.20//NONSGML v1.0//EN
CALSCALE:GREGORIAN
METHOD:PUBLISH
X-WR-CALNAME:www.kulturniradce.cz
X-ORIGINAL-URL:https://kulturniradce.cz
X-WR-CALDESC:Akce na www.kulturniradce.cz
REFRESH-INTERVAL;VALUE=DURATION:PT1H
X-Robots-Tag:noindex
X-PUBLISHED-TTL:PT1H
BEGIN:VTIMEZONE
TZID:Europe/Prague
BEGIN:DAYLIGHT
TZOFFSETFROM:+0100
TZOFFSETTO:+0200
TZNAME:CEST
DTSTART:20250330T010000
END:DAYLIGHT
BEGIN:STANDARD
TZOFFSETFROM:+0200
TZOFFSETTO:+0100
TZNAME:CET
DTSTART:20251026T010000
END:STANDARD
BEGIN:DAYLIGHT
TZOFFSETFROM:+0100
TZOFFSETTO:+0200
TZNAME:CEST
DTSTART:20260329T010000
END:DAYLIGHT
BEGIN:STANDARD
TZOFFSETFROM:+0200
TZOFFSETTO:+0100
TZNAME:CET
DTSTART:20261025T010000
END:STANDARD
BEGIN:DAYLIGHT
TZOFFSETFROM:+0100
TZOFFSETTO:+0200
TZNAME:CEST
DTSTART:20270328T010000
END:DAYLIGHT
BEGIN:STANDARD
TZOFFSETFROM:+0200
TZOFFSETTO:+0100
TZNAME:CET
DTSTART:20271031T010000
END:STANDARD
END:VTIMEZONE
BEGIN:VEVENT
DTSTART;TZID=Europe/Prague:20260622T190000
DTEND;TZID=Europe/Prague:20260622T220000
DTSTAMP:20260419T185058
CREATED:20260208T114929Z
LAST-MODIFIED:20260208T114929Z
UID:10291-1782154800-1782165600@kulturniradce.cz
SUMMARY:Nejkrásnější skladby POPu a ROCKu klasicky
DESCRIPTION:Nejkrásnější skladby POPu a ROCKu klasicky se uskuteční dne 2026-06-22 v 19:00 v Praha\, Kostel Sv. Martina ve Zdi. \n🎟️ Koupit vstupenku \n\n  \nPřijdte se zaposlouchat do zbrusu nového programu\, který představí nejkrásnější melodie Popu a Rocku v unikátních aranžích pro smyčcové kvarteto. \n. \nPOP a ROCK klasicky s ESFERAS kvartetemI. housle Ivana MorysováII. housle: Nikola Mikešováviola: Jan Forestvioloncello: Petr Špaček. \nPROGRAM: \n  \nQUEEN – We are the Champions \nQUEEN – Show must go on \nLED ZEPPELIN – Kashmir \nABBA – Money\, Money\, Money \nCOLDPLAY – Viva la vida \nABBA – The Winners takes all \nCOLDPLAY – Sky full of stars \nTHE VERVE – Bittersweet Symphony \nDEEP PURPLE – Smoke on the water \nIMAGINE DRAGONS – Next to me \nGuns N´Roses – November rain \nDavid Bowie – Life on Mars \nEUROPE – Final countdown \nSCORPIONS – The best is yet to come \nOASIS – Wonderwall \nAC/DC – Highway to hell \nMETALICA – Nothing else matters \nRAMMSTEIN – Ohne dich \n(změna programu a účinkujících vyhrazena) \n  \nZměna programu a účinkujících vyhrazena. \n\nTento tip na kulturní akci v Praha najdete v přehledu na KulturníRádce.cz spolu s dalšími koncerty\, festivaly a divadelními představeními.
URL:https://kulturniradce.cz/event/nejkrasnejsi-skladby-popu-a-rocku-klasicky/
LOCATION:Kostel Sv. Martina ve Zdi\, Praha\, Kostel Sv. Martina ve Zdi\, Praha\, Česká republika
CATEGORIES:Koncert
ATTACH;FMTTYPE=image/jpeg:https://kulturniradce.cz/wp-content/uploads/2026/02/320-b4c77568e2804b958fbcafe289f72d46.jpg
END:VEVENT
END:VCALENDAR