BEGIN:VCALENDAR
VERSION:2.0
PRODID:-//www.kulturniradce.cz - ECPv6.15.20//NONSGML v1.0//EN
CALSCALE:GREGORIAN
METHOD:PUBLISH
X-ORIGINAL-URL:https://kulturniradce.cz
X-WR-CALDESC:Akce na www.kulturniradce.cz
REFRESH-INTERVAL;VALUE=DURATION:PT1H
X-Robots-Tag:noindex
X-PUBLISHED-TTL:PT1H
BEGIN:VTIMEZONE
TZID:Europe/Prague
BEGIN:DAYLIGHT
TZOFFSETFROM:+0100
TZOFFSETTO:+0200
TZNAME:CEST
DTSTART:20240331T010000
END:DAYLIGHT
BEGIN:STANDARD
TZOFFSETFROM:+0200
TZOFFSETTO:+0100
TZNAME:CET
DTSTART:20241027T010000
END:STANDARD
BEGIN:DAYLIGHT
TZOFFSETFROM:+0100
TZOFFSETTO:+0200
TZNAME:CEST
DTSTART:20250330T010000
END:DAYLIGHT
BEGIN:STANDARD
TZOFFSETFROM:+0200
TZOFFSETTO:+0100
TZNAME:CET
DTSTART:20251026T010000
END:STANDARD
BEGIN:DAYLIGHT
TZOFFSETFROM:+0100
TZOFFSETTO:+0200
TZNAME:CEST
DTSTART:20260329T010000
END:DAYLIGHT
BEGIN:STANDARD
TZOFFSETFROM:+0200
TZOFFSETTO:+0100
TZNAME:CET
DTSTART:20261025T010000
END:STANDARD
END:VTIMEZONE
BEGIN:VEVENT
DTSTART;TZID=Europe/Prague:20251123T190000
DTEND;TZID=Europe/Prague:20251123T220000
DTSTAMP:20260420T034145
CREATED:20251121T174915Z
LAST-MODIFIED:20251121T174916Z
UID:6545-1763924400-1763935200@kulturniradce.cz
SUMMARY:Muži jsou z Marsu\, ženy z Venuše v Liberci
DESCRIPTION:Muži jsou z Marsu\, ženy z Venuše v Liberci se uskuteční dne 2025-11-23 v 19:00 v Liberec\, Kulturní centrum VRATISLAVICE 101010. \n🎟️ Koupit vstupenku \n\nKdysi za pradávných časů se Marťané a Venušanky setkali\, zamilovali se do sebe a navázali šťastné vztahy\, protože uznávali a respektovali vzájemné rozdíly. Potom však přišli na Zem a stihla je ztráta paměti: zapomněli\, že pocházejí z různých planet. \nNyní Vám předkládáme praktický návod\, jak zlepšit vzájemné porozumění a dosáhnout v partnerských vztazích toho\, co od nich očekáváme. \nTo vše pod pečlivým dozorem Tomáše Měcháčka v jeho one man show inspirované knižním best sellerem Muži jsou z Marsu\, zeny z Venuše. \nHrají: Tomáš Měcháček \n\nTento tip na kulturní akci v Liberec najdete v přehledu na KulturníRádce.cz spolu s dalšími koncerty\, festivaly a divadelními představeními.
URL:https://kulturniradce.cz/event/muzi-jsou-z-marsu-zeny-z-venuse-v-liberci/
LOCATION:Kulturní centrum VRATISLAVICE 101010\, Liberec\, Kulturní centrum VRATISLAVICE 101010\, Liberec\, Česká republika
CATEGORIES:Divadlo
ATTACH;FMTTYPE=image/jpeg:https://kulturniradce.cz/wp-content/uploads/2025/11/320-8b8603cc0e8645ff87588e3b772029b8.jpg
END:VEVENT
END:VCALENDAR