BEGIN:VCALENDAR
VERSION:2.0
PRODID:-//www.kulturniradce.cz - ECPv6.15.20//NONSGML v1.0//EN
CALSCALE:GREGORIAN
METHOD:PUBLISH
X-ORIGINAL-URL:https://kulturniradce.cz
X-WR-CALDESC:Akce na www.kulturniradce.cz
REFRESH-INTERVAL;VALUE=DURATION:PT1H
X-Robots-Tag:noindex
X-PUBLISHED-TTL:PT1H
BEGIN:VTIMEZONE
TZID:Europe/Prague
BEGIN:DAYLIGHT
TZOFFSETFROM:+0100
TZOFFSETTO:+0200
TZNAME:CEST
DTSTART:20250330T010000
END:DAYLIGHT
BEGIN:STANDARD
TZOFFSETFROM:+0200
TZOFFSETTO:+0100
TZNAME:CET
DTSTART:20251026T010000
END:STANDARD
BEGIN:DAYLIGHT
TZOFFSETFROM:+0100
TZOFFSETTO:+0200
TZNAME:CEST
DTSTART:20260329T010000
END:DAYLIGHT
BEGIN:STANDARD
TZOFFSETFROM:+0200
TZOFFSETTO:+0100
TZNAME:CET
DTSTART:20261025T010000
END:STANDARD
BEGIN:DAYLIGHT
TZOFFSETFROM:+0100
TZOFFSETTO:+0200
TZNAME:CEST
DTSTART:20270328T010000
END:DAYLIGHT
BEGIN:STANDARD
TZOFFSETFROM:+0200
TZOFFSETTO:+0100
TZNAME:CET
DTSTART:20271031T010000
END:STANDARD
END:VTIMEZONE
BEGIN:VEVENT
DTSTART;TZID=Europe/Prague:20260206T193000
DTEND;TZID=Europe/Prague:20260206T223000
DTSTAMP:20260419T232703
CREATED:20260130T145221Z
LAST-MODIFIED:20260130T145224Z
UID:9954-1770406200-1770417000@kulturniradce.cz
SUMMARY:Liberecký waldorfský ples
DESCRIPTION:Liberecký waldorfský ples se uskuteční dne 2026-02-06 v 19:30 v Liberec\, Kulturní centrum VRATISLAVICE 101010. \n🎟️ Koupit vstupenku \n\nPřijďte zažít přátelskou atmosféru\, zatančit si\, setkat se se známými či poznat nové tváře z Waldorfských tříd Liberec a lesní mateřské školy Lesmír. \n  \nSvěřte své ratolesti do dobrých rukou\, oprašte taneční šaty  a vyražte do úžasné společnosti! \n  \nO hudbu se postará kapela What The Funk. Můžete se těšit na zajímavou tombolu a na klání o královský pár waldorfského plesu. \n\nTento tip na kulturní akci v Liberec najdete v přehledu na KulturníRádce.cz spolu s dalšími koncerty\, festivaly a divadelními představeními.
URL:https://kulturniradce.cz/event/liberecky-waldorfsky-ples/
LOCATION:Kulturní centrum VRATISLAVICE 101010\, Liberec\, Kulturní centrum VRATISLAVICE 101010\, Liberec\, Česká republika
CATEGORIES:Zábava
ATTACH;FMTTYPE=image/jpeg:https://kulturniradce.cz/wp-content/uploads/2026/01/320-9af94fec1b3a42afbdabe91b89fdcfe0.jpg
END:VEVENT
END:VCALENDAR