BEGIN:VCALENDAR
VERSION:2.0
PRODID:-//www.kulturniradce.cz - ECPv6.15.20//NONSGML v1.0//EN
CALSCALE:GREGORIAN
METHOD:PUBLISH
X-ORIGINAL-URL:https://kulturniradce.cz
X-WR-CALDESC:Akce na www.kulturniradce.cz
REFRESH-INTERVAL;VALUE=DURATION:PT1H
X-Robots-Tag:noindex
X-PUBLISHED-TTL:PT1H
BEGIN:VTIMEZONE
TZID:Europe/Prague
BEGIN:DAYLIGHT
TZOFFSETFROM:+0100
TZOFFSETTO:+0200
TZNAME:CEST
DTSTART:20250330T010000
END:DAYLIGHT
BEGIN:STANDARD
TZOFFSETFROM:+0200
TZOFFSETTO:+0100
TZNAME:CET
DTSTART:20251026T010000
END:STANDARD
BEGIN:DAYLIGHT
TZOFFSETFROM:+0100
TZOFFSETTO:+0200
TZNAME:CEST
DTSTART:20260329T010000
END:DAYLIGHT
BEGIN:STANDARD
TZOFFSETFROM:+0200
TZOFFSETTO:+0100
TZNAME:CET
DTSTART:20261025T010000
END:STANDARD
BEGIN:DAYLIGHT
TZOFFSETFROM:+0100
TZOFFSETTO:+0200
TZNAME:CEST
DTSTART:20270328T010000
END:DAYLIGHT
BEGIN:STANDARD
TZOFFSETFROM:+0200
TZOFFSETTO:+0100
TZNAME:CET
DTSTART:20271031T010000
END:STANDARD
END:VTIMEZONE
BEGIN:VEVENT
DTSTART;TZID=Europe/Prague:20260228T210000
DTEND;TZID=Europe/Prague:20260301T000000
DTSTAMP:20260419T215825
CREATED:20251110T092543Z
LAST-MODIFIED:20251110T092543Z
UID:5783-1772312400-1772323200@kulturniradce.cz
SUMMARY:MANENE | Klub Lípa Liberec
DESCRIPTION:MANENE | Klub Lípa Liberec se uskuteční dne 2026-02-28 v 21:00 v Liberec\, Klub Lípa. \n🎟️ Koupit vstupenku \n\nMANENE v Klubu Lípa Liberec \nV sobotu 28. února 2026 se v Klubu Lípa představí jeden z nejvýraznějších českých DJů a producentů MANENE!O support se postarají Joker a Formas\, v malém sále tě čeká nezapomenutelná jízda Retro Disco s DJ Pradis. \nKe každé vstupence zakoupené v předprodeji získáš drink ZDARMA. \n\nTento tip na kulturní akci v Liberec najdete v přehledu na KulturníRádce.cz spolu s dalšími koncerty\, festivaly a divadelními představeními.
URL:https://kulturniradce.cz/event/manene-klub-lipa-liberec/
LOCATION:Klub Lípa\, Liberec\, Klub Lípa\, Liberec\, Česká republika
CATEGORIES:Zábava
ATTACH;FMTTYPE=image/jpeg:https://kulturniradce.cz/wp-content/uploads/2025/11/320-53e4a0d08bfd4be1a070f3b6a65f9e66.jpg
END:VEVENT
END:VCALENDAR