BEGIN:VCALENDAR
VERSION:2.0
PRODID:-//www.kulturniradce.cz - ECPv6.15.20//NONSGML v1.0//EN
CALSCALE:GREGORIAN
METHOD:PUBLISH
X-ORIGINAL-URL:https://kulturniradce.cz
X-WR-CALDESC:Akce na www.kulturniradce.cz
REFRESH-INTERVAL;VALUE=DURATION:PT1H
X-Robots-Tag:noindex
X-PUBLISHED-TTL:PT1H
BEGIN:VTIMEZONE
TZID:Europe/Prague
BEGIN:DAYLIGHT
TZOFFSETFROM:+0100
TZOFFSETTO:+0200
TZNAME:CEST
DTSTART:20250330T010000
END:DAYLIGHT
BEGIN:STANDARD
TZOFFSETFROM:+0200
TZOFFSETTO:+0100
TZNAME:CET
DTSTART:20251026T010000
END:STANDARD
BEGIN:DAYLIGHT
TZOFFSETFROM:+0100
TZOFFSETTO:+0200
TZNAME:CEST
DTSTART:20260329T010000
END:DAYLIGHT
BEGIN:STANDARD
TZOFFSETFROM:+0200
TZOFFSETTO:+0100
TZNAME:CET
DTSTART:20261025T010000
END:STANDARD
BEGIN:DAYLIGHT
TZOFFSETFROM:+0100
TZOFFSETTO:+0200
TZNAME:CEST
DTSTART:20270328T010000
END:DAYLIGHT
BEGIN:STANDARD
TZOFFSETFROM:+0200
TZOFFSETTO:+0100
TZNAME:CET
DTSTART:20271031T010000
END:STANDARD
END:VTIMEZONE
BEGIN:VEVENT
DTSTART;TZID=Europe/Prague:20260326T190000
DTEND;TZID=Europe/Prague:20260326T220000
DTSTAMP:20260419T215823
CREATED:20260315T145423Z
LAST-MODIFIED:20260315T145423Z
UID:12825-1774551600-1774562400@kulturniradce.cz
SUMMARY:STAND-UP TRIO SHOW - Liberec
DESCRIPTION:STAND-UP TRIO SHOW – Liberec se uskuteční dne 2026-03-26 v 19:00 v Liberec\, Club Warehouse. \n🎟️ Koupit vstupenku \n\nPřipravte se na STAND-UP SHOW roku 2026\, kde se komici z úplně jiných vesmírů sejdou na jednom pódiu. Tři komici\, tři světy a jedna země\, která z nich dělá materiál na nekonečný STAND-UP. \nAlisher: kazachstánský pozorovatel české reality\, který tu žije 13 let legálně\, platí daně a nepobírá dávky — takže je v Česku prakticky exot. Jeho pohled na naši zemi je přesně tak upřímný\, jak byste se báli slyšet… jen mnohem vtipnější. Miluje vepřové koleno a český humor\, protože oboje mu „chutná jak svině“. \nLukáš: empatickej Vidlák z Prahy\, feminní DJ s duší zdravotní sestry\, tělem leváka Boba a životem\, kde se střetává ADHD\, elektronika a vesnická výchova. Umí píchnout infuzi i traktor\, má víc piercingů než úspor a víc pochopení než času. Humor osobní\, otevřenej a trochu zvrácenej — přesně tak\, jak to máte rádi. \nOndra: chebský rodák žijící v Praze\, který má třicítku\, pár vlasů a nulovou finanční stabilitu — zato stabilně žádnou psychickou. Ale berte to pozitivně: jediné\, co mu v životě opravdu funguje\, je humor. A ten si k vám přinese. Nájem už totiž zaplatil… asi. \nU TOHOTO ROZHODNĚ CHCETE BÝT! \n\nTento tip na kulturní akci v Liberec najdete v přehledu na KulturníRádce.cz spolu s dalšími koncerty\, festivaly a divadelními představeními.
URL:https://kulturniradce.cz/event/stand-up-trio-show-liberec/
LOCATION:Club Warehouse\, Liberec\, Club Warehouse\, Liberec\, Česká republika
CATEGORIES:Zábava
ATTACH;FMTTYPE=image/jpeg:https://kulturniradce.cz/wp-content/uploads/2026/03/320-d01701affdf54c84a3ab2497829b6c63.jpg
END:VEVENT
END:VCALENDAR