BEGIN:VCALENDAR
VERSION:2.0
PRODID:-//www.kulturniradce.cz - ECPv6.15.20//NONSGML v1.0//EN
CALSCALE:GREGORIAN
METHOD:PUBLISH
X-WR-CALNAME:www.kulturniradce.cz
X-ORIGINAL-URL:https://kulturniradce.cz
X-WR-CALDESC:Akce na www.kulturniradce.cz
REFRESH-INTERVAL;VALUE=DURATION:PT1H
X-Robots-Tag:noindex
X-PUBLISHED-TTL:PT1H
BEGIN:VTIMEZONE
TZID:Europe/Prague
BEGIN:DAYLIGHT
TZOFFSETFROM:+0100
TZOFFSETTO:+0200
TZNAME:CEST
DTSTART:20250330T010000
END:DAYLIGHT
BEGIN:STANDARD
TZOFFSETFROM:+0200
TZOFFSETTO:+0100
TZNAME:CET
DTSTART:20251026T010000
END:STANDARD
BEGIN:DAYLIGHT
TZOFFSETFROM:+0100
TZOFFSETTO:+0200
TZNAME:CEST
DTSTART:20260329T010000
END:DAYLIGHT
BEGIN:STANDARD
TZOFFSETFROM:+0200
TZOFFSETTO:+0100
TZNAME:CET
DTSTART:20261025T010000
END:STANDARD
BEGIN:DAYLIGHT
TZOFFSETFROM:+0100
TZOFFSETTO:+0200
TZNAME:CEST
DTSTART:20270328T010000
END:DAYLIGHT
BEGIN:STANDARD
TZOFFSETFROM:+0200
TZOFFSETTO:+0100
TZNAME:CET
DTSTART:20271031T010000
END:STANDARD
END:VTIMEZONE
BEGIN:VEVENT
DTSTART;TZID=Europe/Prague:20260328T190000
DTEND;TZID=Europe/Prague:20260328T220000
DTSTAMP:20260419T215721
CREATED:20260222T141307Z
LAST-MODIFIED:20260222T141307Z
UID:11510-1774724400-1774735200@kulturniradce.cz
SUMMARY:Smyčcové trio Eterea
DESCRIPTION:Smyčcové trio Eterea se uskuteční dne 2026-03-28 v 19:00 v Liberec\, MCU Koloseum. \n🎟️ Koupit vstupenku \n\nTři krásné ženy. Tři elektrické nástroje.Přijďte zažít temperamentní koncert Tria Eterea.!!! \nTři rozdílné ženy s různým přístupem k hudbě. Eterea spojuje všechny rozdílné živly. OHEŇ – temperament\, ZEMĚ – sehranost se snoubí s VODOU – plynulostí a VZDUCHEM – lehkostí. \nEterea nabízí populární\, energickou show plnou filmové hudby\, současných a klasických hitů v originálním podání tří krásných žen. Vychutnejte si hudební díla od Antonia Vivaldiho až po Billie Eilish v Neotřelých aranžích elektrických smyčcových nástrojů. Skvěle sehrané a zvukově kompaktní těleso\, ladí uchu i oku posluchače. \nKoncerty mají v sobě originalitu\, náboj a nevšední atmosféru. \nPřijďte to zažít na vlastní kůži!!! \n  \n BARBORA VYCHODILOVÁ: Vystudovala hru na violoncello na konzervatoři v Pardubicích. Je členkou Filharmonie Hradec Králové. Doprovázela Michaela Bublého\, Josého Carerase a další. \nVIKTORIA ENGLBERTH: Vystudovala hru na housle na Pražské konzervatoři\, pokračovala na HAMU. Doprovázela na pódiích Andreu Bocelliho\, Plácida Dominga\, Uli Rotha ze skupiny Scorpions. \nVERONIKA LINHARTOVÁ: Vystudovala hru na housle na Pražské konzervatoři. Podílí se i na řadě nahrávek: Aidkid\, Petr Nikl\, Zvíře jménem podzim\, hudba k představením Cirku La Putyka\, uskupení 5 Out Loud. \n  \nDélka koncertu: 110 minut včetně přestávky \nVIP vstupenka obsahuje:  \n\nke skvělé hudbě skvělé víno z vinařství Tanzberg  dle výběru.\ndrobné občerstvení (chlebíčky\, kanapky)\n\n\nTento tip na kulturní akci v Liberec najdete v přehledu na KulturníRádce.cz spolu s dalšími koncerty\, festivaly a divadelními představeními.
URL:https://kulturniradce.cz/event/smyccove-trio-eterea-2/
LOCATION:MCU Koloseum\, Liberec\, MCU Koloseum\, Liberec\, Česká republika
CATEGORIES:Koncert
ATTACH;FMTTYPE=image/jpeg:https://kulturniradce.cz/wp-content/uploads/2026/02/320-45f9da43d6064613bf66d3a7ad63e785.jpg
END:VEVENT
END:VCALENDAR