BEGIN:VCALENDAR
VERSION:2.0
PRODID:-//www.kulturniradce.cz - ECPv6.15.20//NONSGML v1.0//EN
CALSCALE:GREGORIAN
METHOD:PUBLISH
X-ORIGINAL-URL:https://kulturniradce.cz
X-WR-CALDESC:Akce na www.kulturniradce.cz
REFRESH-INTERVAL;VALUE=DURATION:PT1H
X-Robots-Tag:noindex
X-PUBLISHED-TTL:PT1H
BEGIN:VTIMEZONE
TZID:Europe/Prague
BEGIN:DAYLIGHT
TZOFFSETFROM:+0100
TZOFFSETTO:+0200
TZNAME:CEST
DTSTART:20250330T010000
END:DAYLIGHT
BEGIN:STANDARD
TZOFFSETFROM:+0200
TZOFFSETTO:+0100
TZNAME:CET
DTSTART:20251026T010000
END:STANDARD
BEGIN:DAYLIGHT
TZOFFSETFROM:+0100
TZOFFSETTO:+0200
TZNAME:CEST
DTSTART:20260329T010000
END:DAYLIGHT
BEGIN:STANDARD
TZOFFSETFROM:+0200
TZOFFSETTO:+0100
TZNAME:CET
DTSTART:20261025T010000
END:STANDARD
BEGIN:DAYLIGHT
TZOFFSETFROM:+0100
TZOFFSETTO:+0200
TZNAME:CEST
DTSTART:20270328T010000
END:DAYLIGHT
BEGIN:STANDARD
TZOFFSETFROM:+0200
TZOFFSETTO:+0100
TZNAME:CET
DTSTART:20271031T010000
END:STANDARD
END:VTIMEZONE
BEGIN:VEVENT
DTSTART;TZID=Europe/Prague:20260404T100000
DTEND;TZID=Europe/Prague:20260404T130000
DTSTAMP:20260419T203921
CREATED:20251129T063230Z
LAST-MODIFIED:20251129T063230Z
UID:6702-1775296800-1775307600@kulturniradce.cz
SUMMARY:Muzikál Tlapkové patroly | Vratislavice
DESCRIPTION:Muzikál Tlapkové patroly | Vratislavice se uskuteční dne 2026-04-04 v 10:00 v Liberec\, Kulturní centrum VRATISLAVICE 101010. \n🎟️ Koupit vstupenku \n\nOblíbení hrdinové z Tlapkové patroly se chystají na své jediné rodinné muzikálové turné v České republice\, které se už nikdy nebude opakovat!Populární psí záchranáři přinášejí show\, která nadchne malé i velké diváky.🐶 \nČeká vás nezapomenutelný rodinný muzikál plný hudby\, tance a dobrodružství!Děti se mohou těšit na Chase\, Marshalla\, Skye i další statečné pejsky\, kteří předvedou napínavý příběh v doprovodu pohádkové atmosféry 🌈 \nMuzikál Tlapkové patroly vykouzlí úsměv na tváři každému dítěti a nabídne jedinečnou možnost zažít jejich dobrodružství naživo! 🎭 \n🚨 POZOR! 🚨👉 JEDINÉ turné v ČR\, které se už nikdy nebude opakovat! \n🕤 Otevření sálu: od 9:30🎬 Představení: 10:00 – 11:00⏰ Konec programu: přibližně v 11:30 \nNepropásněte tuto jedinečnou příležitost a zajistěte si své vstupenky včas! 🎟️🌟 \n\nTento tip na kulturní akci v Liberec najdete v přehledu na KulturníRádce.cz spolu s dalšími koncerty\, festivaly a divadelními představeními.
URL:https://kulturniradce.cz/event/muzikal-tlapkove-patroly-vratislavice/
LOCATION:Kulturní centrum VRATISLAVICE 101010\, Liberec\, Kulturní centrum VRATISLAVICE 101010\, Liberec\, Česká republika
CATEGORIES:Zábava
ATTACH;FMTTYPE=image/jpeg:https://kulturniradce.cz/wp-content/uploads/2025/11/320-b34d375f99ce4f75ad4042099a4981aa.jpg
END:VEVENT
BEGIN:VEVENT
DTSTART;TZID=Europe/Prague:20260404T190000
DTEND;TZID=Europe/Prague:20260404T220000
DTSTAMP:20260419T203921
CREATED:20260226T083407Z
LAST-MODIFIED:20260226T083408Z
UID:11622-1775329200-1775340000@kulturniradce.cz
SUMMARY:Ludovico Einaudi Music | Vratislavice
DESCRIPTION:Ludovico Einaudi Music | Vratislavice se uskuteční dne 2026-04-04 v 19:00 v Liberec\, Kulturní centrum VRATISLAVICE 101010. \n🎟️ Koupit vstupenku \n\nNenechte si ujít nezapomenutelný večer krásné hudby\, kde zazní melodie jednoho z nejlepších pianistů a skladatelů na světe\, Ludovica Einaudiho v podání přední české klavíristky Lucie Kubátové. \nEinaudi je známý svými jednoduchými\, ale strašidelně krásnými minimalistickými díly pro klavír a ohromující filmovou hudbou. Za téměř třicet let své činnosti vydal řadu alb\, která se dostala na přední příčky poslechovosti\, vyprodává nejprestižnější koncertní sály po celém světě a jeho hudba zazněla v mnoha slavných filmech (Nedotknutelní\, Doktor Živago\, To je Anglie\, Nomadland a další). \nTento jedinečný koncert nabídne více než jen hudbu. Symfonie třpytivých svíček rozsvítí celý prostor a přidá na mystičnu a kouzlu večera. Každá svíčka přispěje k vytvoření kouzelného prostředí\, které dokonale doplní hudební zážitek. \nV rámci Evropské tour alternují také: František Panáček a Alexandra Starého.  \nAkce je přístupná od 12 let. Každý účastník musí předložit platnou vstupenku  zakoupenou výhradně v síti smsticket. \n„Celé představení si můžete naplno vychutnat\, díky klenotu mezi koncertními klavíry W. HOFFMANN.Tímto děkujeme našemu partnerovi C. Bechstein – www.bechstein.com za podporu akce.“ \n\nTento tip na kulturní akci v Liberec najdete v přehledu na KulturníRádce.cz spolu s dalšími koncerty\, festivaly a divadelními představeními.
URL:https://kulturniradce.cz/event/ludovico-einaudi-music-vratislavice-3/
LOCATION:Kulturní centrum VRATISLAVICE 101010\, Liberec\, Kulturní centrum VRATISLAVICE 101010\, Liberec\, Česká republika
CATEGORIES:Koncert
ATTACH;FMTTYPE=image/jpeg:https://kulturniradce.cz/wp-content/uploads/2026/02/320-42adf80ea208474699149d2165c4141c-1.jpg
END:VEVENT
BEGIN:VEVENT
DTSTART;TZID=Europe/Prague:20260404T190000
DTEND;TZID=Europe/Prague:20260404T220000
DTSTAMP:20260419T203921
CREATED:20260226T083407Z
LAST-MODIFIED:20260226T083408Z
UID:11623-1775329200-1775340000@kulturniradce.cz
SUMMARY:Ludovico Einaudi Music | Vratislavice
DESCRIPTION:Ludovico Einaudi Music | Vratislavice se uskuteční dne 2026-04-04 v 19:00 v Liberec\, Kulturní centrum VRATISLAVICE 101010. \n🎟️ Koupit vstupenku \n\nNenechte si ujít nezapomenutelný večer krásné hudby\, kde zazní melodie jednoho z nejlepších pianistů a skladatelů na světe\, Ludovica Einaudiho v podání přední české klavíristky Lucie Kubátové. \nEinaudi je známý svými jednoduchými\, ale strašidelně krásnými minimalistickými díly pro klavír a ohromující filmovou hudbou. Za téměř třicet let své činnosti vydal řadu alb\, která se dostala na přední příčky poslechovosti\, vyprodává nejprestižnější koncertní sály po celém světě a jeho hudba zazněla v mnoha slavných filmech (Nedotknutelní\, Doktor Živago\, To je Anglie\, Nomadland a další). \nTento jedinečný koncert nabídne více než jen hudbu. Symfonie třpytivých svíček rozsvítí celý prostor a přidá na mystičnu a kouzlu večera. Každá svíčka přispěje k vytvoření kouzelného prostředí\, které dokonale doplní hudební zážitek. \nV rámci Evropské tour alternují také: František Panáček a Alexandra Starého.  \nAkce je přístupná od 12 let. Každý účastník musí předložit platnou vstupenku  zakoupenou výhradně v síti smsticket. \n„Celé představení si můžete naplno vychutnat\, díky klenotu mezi koncertními klavíry W. HOFFMANN.Tímto děkujeme našemu partnerovi C. Bechstein – www.bechstein.com za podporu akce.“ \n\nTento tip na kulturní akci v Liberec najdete v přehledu na KulturníRádce.cz spolu s dalšími koncerty\, festivaly a divadelními představeními.
URL:https://kulturniradce.cz/event/ludovico-einaudi-music-vratislavice-3/
LOCATION:Kulturní centrum VRATISLAVICE 101010\, Liberec\, Kulturní centrum VRATISLAVICE 101010\, Liberec\, Česká republika
CATEGORIES:Koncert
ATTACH;FMTTYPE=image/jpeg:https://kulturniradce.cz/wp-content/uploads/2026/02/320-42adf80ea208474699149d2165c4141c.jpg
END:VEVENT
END:VCALENDAR