BEGIN:VCALENDAR
VERSION:2.0
PRODID:-//www.kulturniradce.cz - ECPv6.15.20//NONSGML v1.0//EN
CALSCALE:GREGORIAN
METHOD:PUBLISH
X-ORIGINAL-URL:https://kulturniradce.cz
X-WR-CALDESC:Akce na www.kulturniradce.cz
REFRESH-INTERVAL;VALUE=DURATION:PT1H
X-Robots-Tag:noindex
X-PUBLISHED-TTL:PT1H
BEGIN:VTIMEZONE
TZID:Europe/Prague
BEGIN:DAYLIGHT
TZOFFSETFROM:+0100
TZOFFSETTO:+0200
TZNAME:CEST
DTSTART:20250330T010000
END:DAYLIGHT
BEGIN:STANDARD
TZOFFSETFROM:+0200
TZOFFSETTO:+0100
TZNAME:CET
DTSTART:20251026T010000
END:STANDARD
BEGIN:DAYLIGHT
TZOFFSETFROM:+0100
TZOFFSETTO:+0200
TZNAME:CEST
DTSTART:20260329T010000
END:DAYLIGHT
BEGIN:STANDARD
TZOFFSETFROM:+0200
TZOFFSETTO:+0100
TZNAME:CET
DTSTART:20261025T010000
END:STANDARD
BEGIN:DAYLIGHT
TZOFFSETFROM:+0100
TZOFFSETTO:+0200
TZNAME:CEST
DTSTART:20270328T010000
END:DAYLIGHT
BEGIN:STANDARD
TZOFFSETFROM:+0200
TZOFFSETTO:+0100
TZNAME:CET
DTSTART:20271031T010000
END:STANDARD
END:VTIMEZONE
BEGIN:VEVENT
DTSTART;TZID=Europe/Prague:20261119T190000
DTEND;TZID=Europe/Prague:20261119T220000
DTSTAMP:20260420T022527
CREATED:20260315T144148Z
LAST-MODIFIED:20260315T144148Z
UID:12737-1795114800-1795125600@kulturniradce.cz
SUMMARY:Muzikály Naruby | Liberec
DESCRIPTION:Muzikály Naruby | Liberec se uskuteční dne 2026-11-19 v 19:00 v Liberec\, Dům Kultury. \n🎟️ Koupit vstupenku \n\nMUZIKÁLY NARUBY – Josef Vágner & Petr Ryšavý & Jan KopečnýKoncertní zábavná show naplněná těmi největšími hity z českých i světových muzikálů. \nMuzikály Naruby\, to je koncert živé kapely\, která hraje známe hity tak\, jak je ještě nikdy nikdo neslyšel. Přední čeští zpěváci a muzikáloví herci Josef Vágner\, Jan Kopečný a Petr Ryšavý zpívají hity nejen z tradičních muzikálů jako jsou Bídníci\, Kleopatra\, Angelika\, Tři mušketýři\, ale také z českých hit-muzikálů. \nV programu tak zní ty největší hity Waldemara Matušky\, Václava Neckáře\, kapely Lucie\, Janka Ledeckého\, Karla Gotta\, Michala Davida\, Heleny Vondráčkové\, Lucie Bílé a dalších. \nKoncert je prokládán vtipnými historkami ze zákulisí divadla a české hudební scény. Muzikály Naruby tradičně do posledního místa vyprodávají divadelní sály po celé ČR. A nesmíme zapomenout ani na jejich vyprodanou pražskou Lucernu. \nÚčinkujíJosef VágnerPetr RyšavýJan Kopečný…v doprovodu živé kapely \n\nTento tip na kulturní akci v Liberec najdete v přehledu na KulturníRádce.cz spolu s dalšími koncerty\, festivaly a divadelními představeními.
URL:https://kulturniradce.cz/event/muzikaly-naruby-liberec/
LOCATION:Dům kultury\, Liberec\, Dům kultury\, Liberec\, Česká republika
CATEGORIES:Koncert
ATTACH;FMTTYPE=image/jpeg:https://kulturniradce.cz/wp-content/uploads/2026/03/320-d3b4c5a9258e4919a8d1b7d6787100a1.jpg
END:VEVENT
BEGIN:VEVENT
DTSTART;TZID=Europe/Prague:20261207T190000
DTEND;TZID=Europe/Prague:20261207T220000
DTSTAMP:20260420T022527
CREATED:20260209T195025Z
LAST-MODIFIED:20260209T195026Z
UID:10790-1796670000-1796680800@kulturniradce.cz
SUMMARY:ŠVANCI SHOW - JÁ SU JÁ - Liberec
DESCRIPTION:ŠVANCI SHOW – JÁ SU JÁ – Liberec se uskuteční dne 2026-12-07 v 19:00 v Liberec\, Dům Kultury. \n🎟️ Koupit vstupenku \n\nNová zábavná show „JÁ SU JÁ“ vyráží na TOUR po celé České republice. \nČekají vás vtipné historky\, od kariéry fotbalisty\, velkolepé rozlučky za Lužánkami\, návštěv různých zábavních pořadů\, až po účast v reality show Survivor. Dále se těšte na prostor pro otázky na tělo\, autogramiádu\, focení a mnoho dalšího. \nJak moc dobře mě znáš? Jak vypadá můj život po kariéře fotbalisty? Chceš znát více informací o reality show Surviror? \nNejen to se dozvíš ve zbrusu nové zábavné show „JÁ SU JÁ“. \nPřijď se podívat a užít si legraci\, popovídat si s legendou fotbalu\, moderátorem\, bavičem a dát si třeba fotku\, nebo si nechat cokoliv podepsat. \nPořad není vhodný mladším 15 let! \n\nTento tip na kulturní akci v Liberec najdete v přehledu na KulturníRádce.cz spolu s dalšími koncerty\, festivaly a divadelními představeními.
URL:https://kulturniradce.cz/event/svanci-show-ja-su-ja-liberec/
LOCATION:Dům kultury\, Liberec\, Dům kultury\, Liberec\, Česká republika
CATEGORIES:Zábava
ATTACH;FMTTYPE=image/jpeg:https://kulturniradce.cz/wp-content/uploads/2026/02/320-363f20d7e30d4f4180fff7146e6e74d7.jpg
END:VEVENT
END:VCALENDAR