BEGIN:VCALENDAR
VERSION:2.0
PRODID:-//www.kulturniradce.cz - ECPv6.15.20//NONSGML v1.0//EN
CALSCALE:GREGORIAN
METHOD:PUBLISH
X-WR-CALNAME:www.kulturniradce.cz
X-ORIGINAL-URL:https://kulturniradce.cz
X-WR-CALDESC:Akce na www.kulturniradce.cz
REFRESH-INTERVAL;VALUE=DURATION:PT1H
X-Robots-Tag:noindex
X-PUBLISHED-TTL:PT1H
BEGIN:VTIMEZONE
TZID:Europe/Prague
BEGIN:DAYLIGHT
TZOFFSETFROM:+0100
TZOFFSETTO:+0200
TZNAME:CEST
DTSTART:20240331T010000
END:DAYLIGHT
BEGIN:STANDARD
TZOFFSETFROM:+0200
TZOFFSETTO:+0100
TZNAME:CET
DTSTART:20241027T010000
END:STANDARD
BEGIN:DAYLIGHT
TZOFFSETFROM:+0100
TZOFFSETTO:+0200
TZNAME:CEST
DTSTART:20250330T010000
END:DAYLIGHT
BEGIN:STANDARD
TZOFFSETFROM:+0200
TZOFFSETTO:+0100
TZNAME:CET
DTSTART:20251026T010000
END:STANDARD
BEGIN:DAYLIGHT
TZOFFSETFROM:+0100
TZOFFSETTO:+0200
TZNAME:CEST
DTSTART:20260329T010000
END:DAYLIGHT
BEGIN:STANDARD
TZOFFSETFROM:+0200
TZOFFSETTO:+0100
TZNAME:CET
DTSTART:20261025T010000
END:STANDARD
END:VTIMEZONE
BEGIN:VEVENT
DTSTART;TZID=Europe/Prague:20251209T190000
DTEND;TZID=Europe/Prague:20251209T220000
DTSTAMP:20260420T003938
CREATED:20250924T180655Z
LAST-MODIFIED:20250924T180656Z
UID:2138-1765306800-1765317600@kulturniradce.cz
SUMMARY:Václav Noid Bárta - Vánoční koncert
DESCRIPTION:Václav Noid Bárta – Vánoční koncert se uskuteční dne 2025-12-09 v 19:00 v Liberec\, Dům kultury. \n🎟️ Koupit vstupenku \n\nVáclav Noid Bárta a jeho vánoční koncert v Liberci! \nCharismatický zpěvák s nezaměnitelným hlasem Václav Noid Bárta rozezní svůj vánoční koncert v Liberci! \nNa poli populární a rockové hudby v průběhu let spolupracoval jako skladatel\, aranžér a zpěvák například s Lucií Bílou\, Bárou Basikovou\, Helenou Vondráčkovou\, Kamilem Střihavkou\, Lucií Vondráčkovou a dalšími. \nJe předním sólistou Hudebního divadla Karlín\, kde exceloval v muzikálech Carmen\, Aida\, Lucie\, The Addams Family\, Bonnie and Clyde\, Jesus Christ Superstar a Sestra v akci. \nVstupenky jsou právě v prodeji\, ale neváhejte dlouho – rychle mizí a brzy nebudou k dispozici.  \n\nTento tip na kulturní akci v Liberec najdete v přehledu na KulturníRádce.cz spolu s dalšími koncerty\, festivaly a divadelními představeními.
URL:https://kulturniradce.cz/event/vaclav-noid-barta-vanocni-koncert-8/
LOCATION:Dům kultury\, Liberec\, Dům kultury\, Liberec\, Česká republika
CATEGORIES:Koncert
ATTACH;FMTTYPE=image/jpeg:https://kulturniradce.cz/wp-content/uploads/2025/09/320-ab716e04fb074008a200febbe036e157.jpg
END:VEVENT
END:VCALENDAR