BEGIN:VCALENDAR
VERSION:2.0
PRODID:-//www.kulturniradce.cz - ECPv6.15.20//NONSGML v1.0//EN
CALSCALE:GREGORIAN
METHOD:PUBLISH
X-ORIGINAL-URL:https://kulturniradce.cz
X-WR-CALDESC:Akce na www.kulturniradce.cz
REFRESH-INTERVAL;VALUE=DURATION:PT1H
X-Robots-Tag:noindex
X-PUBLISHED-TTL:PT1H
BEGIN:VTIMEZONE
TZID:Europe/Prague
BEGIN:DAYLIGHT
TZOFFSETFROM:+0100
TZOFFSETTO:+0200
TZNAME:CEST
DTSTART:20240331T010000
END:DAYLIGHT
BEGIN:STANDARD
TZOFFSETFROM:+0200
TZOFFSETTO:+0100
TZNAME:CET
DTSTART:20241027T010000
END:STANDARD
BEGIN:DAYLIGHT
TZOFFSETFROM:+0100
TZOFFSETTO:+0200
TZNAME:CEST
DTSTART:20250330T010000
END:DAYLIGHT
BEGIN:STANDARD
TZOFFSETFROM:+0200
TZOFFSETTO:+0100
TZNAME:CET
DTSTART:20251026T010000
END:STANDARD
BEGIN:DAYLIGHT
TZOFFSETFROM:+0100
TZOFFSETTO:+0200
TZNAME:CEST
DTSTART:20260329T010000
END:DAYLIGHT
BEGIN:STANDARD
TZOFFSETFROM:+0200
TZOFFSETTO:+0100
TZNAME:CET
DTSTART:20261025T010000
END:STANDARD
END:VTIMEZONE
BEGIN:VEVENT
DTSTART;TZID=Europe/Prague:20251217T190000
DTEND;TZID=Europe/Prague:20251217T220000
DTSTAMP:20260420T004104
CREATED:20250921T194603Z
LAST-MODIFIED:20250921T194603Z
UID:1574-1765998000-1766008800@kulturniradce.cz
SUMMARY:Nohy vzhůru v Liberci
DESCRIPTION:Nohy vzhůru v Liberci se uskuteční dne 2025-12-17 v 19:00 v Liberec\, Dům kultury. \n🎟️ Koupit vstupenku \n\nBláznivá komedie s kriminální zápletkou. Mandy a Tania\, dvě krásné tanečnice z nočního klubu v londýnském Soho\, se dostaly do svízelné situace. Co se stane\, až se nesmlouvavý majitel klubu Velký Mack dozví\, že Mandy má aférku s Gerrym a Tania zase s Terrym a pošle na ně své kumpány? A co se stane\, až se dozví\, že nejde jenom o aférky jeho tanečnic\, ale také o velké peníze? \nHrají:Martin ZounarMarkéta ProcházkováKateřina PechováRobert HájekMartin Kraus nebo Martin PísaříkJiří Štrébl nebo Denny Ratajský \nAutor: Robin HawdonPřekladatelé: A. Jerie a B. PešinováRežie: Antonín ProcházkaProdukce: JT PROMOTION s.r.o. \n\nTento tip na kulturní akci v Liberec najdete v přehledu na KulturníRádce.cz spolu s dalšími koncerty\, festivaly a divadelními představeními.
URL:https://kulturniradce.cz/event/nohy-vzhuru-v-liberci/
LOCATION:Dům kultury\, Liberec\, Dům kultury\, Liberec\, Česká republika
CATEGORIES:Divadlo
ATTACH;FMTTYPE=image/jpeg:https://kulturniradce.cz/wp-content/uploads/2025/09/320-b1111695e2c24ab29780e637f06a2a2f.jpg
END:VEVENT
END:VCALENDAR