BEGIN:VCALENDAR
VERSION:2.0
PRODID:-//www.kulturniradce.cz - ECPv6.15.20//NONSGML v1.0//EN
CALSCALE:GREGORIAN
METHOD:PUBLISH
X-WR-CALNAME:www.kulturniradce.cz
X-ORIGINAL-URL:https://kulturniradce.cz
X-WR-CALDESC:Akce na www.kulturniradce.cz
REFRESH-INTERVAL;VALUE=DURATION:PT1H
X-Robots-Tag:noindex
X-PUBLISHED-TTL:PT1H
BEGIN:VTIMEZONE
TZID:Europe/Prague
BEGIN:DAYLIGHT
TZOFFSETFROM:+0100
TZOFFSETTO:+0200
TZNAME:CEST
DTSTART:20250330T010000
END:DAYLIGHT
BEGIN:STANDARD
TZOFFSETFROM:+0200
TZOFFSETTO:+0100
TZNAME:CET
DTSTART:20251026T010000
END:STANDARD
BEGIN:DAYLIGHT
TZOFFSETFROM:+0100
TZOFFSETTO:+0200
TZNAME:CEST
DTSTART:20260329T010000
END:DAYLIGHT
BEGIN:STANDARD
TZOFFSETFROM:+0200
TZOFFSETTO:+0100
TZNAME:CET
DTSTART:20261025T010000
END:STANDARD
BEGIN:DAYLIGHT
TZOFFSETFROM:+0100
TZOFFSETTO:+0200
TZNAME:CEST
DTSTART:20270328T010000
END:DAYLIGHT
BEGIN:STANDARD
TZOFFSETFROM:+0200
TZOFFSETTO:+0100
TZNAME:CET
DTSTART:20271031T010000
END:STANDARD
END:VTIMEZONE
BEGIN:VEVENT
DTSTART;TZID=Europe/Prague:20260506T190000
DTEND;TZID=Europe/Prague:20260506T220000
DTSTAMP:20260420T034840
CREATED:20251128T204251Z
LAST-MODIFIED:20251128T204251Z
UID:6580-1778094000-1778104800@kulturniradce.cz
SUMMARY:Hudba Harryho Pottera při svíčkách | Liberec
DESCRIPTION:Hudba Harryho Pottera při svíčkách | Liberec se uskuteční dne 2026-05-06 v 19:00 v Liberec\, Kulturní centrum VRATISLAVICE 101010. \n🎟️ Koupit vstupenku \n\nNenechte si ujít večer plný magické hudby\, kde zazní ty nejznámější melodie a písně ze všech filmů Harryho Pottera. Světlo stovky svíček vytvoří nezapomenutelnou atmosféru koncertu. \nProgram v jedinečném klavírním provedení představuje výběr filmových skladeb od pětinásobného oscarového skladatele Johna Williamse společně s díly Patricka Doyla\, Nicolase Hoopera a Alexandra Desplata\, držitele Oscara\, a nabízí to nejlepší z hudby Harryho Pottera. \nTento magický koncert nabídne víc než jen hudbu; stovky svíček rozzáří prostor a přidají na tajemné atmosféře plné mystiky a kouzel. \nMůžete se těšit na známé melodie a písně z filmů Harryho Pottera\, upravené pro klavírní koncert a to v podání předního českého klavíristy Alexandra Starého. \nV rámci Evropské tour alternují také: František Panáček a Lucie Kubátová.  \nAkce je přístupná od 12 let. Každý účastník musí předložit platnou vstupenku  zakoupenou výhradně v síti smsticket. \n  \n\nTento tip na kulturní akci v Liberec najdete v přehledu na KulturníRádce.cz spolu s dalšími koncerty\, festivaly a divadelními představeními.
URL:https://kulturniradce.cz/event/hudba-harryho-pottera-pri-svickach-liberec/
LOCATION:Kulturní centrum VRATISLAVICE 101010\, Liberec\, Kulturní centrum VRATISLAVICE 101010\, Liberec\, Česká republika
CATEGORIES:Koncert
ATTACH;FMTTYPE=image/jpeg:https://kulturniradce.cz/wp-content/uploads/2025/11/320-c3d6b9d632224bd4aa03ca4ac9ffe65a.jpg
END:VEVENT
BEGIN:VEVENT
DTSTART;TZID=Europe/Prague:20260530T200000
DTEND;TZID=Europe/Prague:20260530T230000
DTSTAMP:20260420T034840
CREATED:20260314T193319Z
LAST-MODIFIED:20260314T193320Z
UID:12566-1780171200-1780182000@kulturniradce.cz
SUMMARY:Teenage Dream Party - Liberec
DESCRIPTION:Teenage Dream Party – Liberec se uskuteční dne 2026-05-30 v 20:00 v Liberec\, Club Warehouse. \n🎟️ Koupit vstupenku \n\nTEENAGE DREAM PARTY POPRVÉ V LIBERCI! 🎉 \nUž 30.5. se vidíme v Klubu Warehouse v Liberci s naší pohádkovou párty! \nPřijď si užít jedinečný večer plný nostalgie\, hudby a zábavy. 💃 \n  \nTeenage Dream Party není jen obyčejná párty. Je to jedinečná příležitost vrátit se zpátky do našich mladých let\, kdy jsme s nadšením sledovali Disney pohádky a seriály. Připravili jsme pro vás mix těch nejznámějších písniček z Disney filmů\, které nás provázeli během našich dětských let. ⭐️ \n  \nCelý večer vás bude doprovázet nejen hudba\, ale i videoklipy a záběry z těchto ikonických pohádek a seriálů\, které budeme promítat na plátno za naším DJem.🪩 \n  \nKlub bude otevřený od 20:00\, ve 21:00 začínají Disney Hity s videoprojekcí.🎥 \n  \n🎁VIP vstupenka obsahuje přednostní vstup a Disney ouška🎁 \nMŮŽEŠ SE TĚŠIT NA: \n– videoprojekci 🎥 \n– tématickou výzdobu a maskoty 🐭 \n– světelné efekty 🎇 \n– tematické drinky 🍹 \n– skvělou atmosféru 🎉 \n  \nINFO: \nOPEN: 20:00 ⏰ \nSTART: 21:00  \nVěk: 15+ \n\nTento tip na kulturní akci v Liberec najdete v přehledu na KulturníRádce.cz spolu s dalšími koncerty\, festivaly a divadelními představeními.
URL:https://kulturniradce.cz/event/teenage-dream-party-liberec/
LOCATION:Club Warehouse\, Liberec\, Club Warehouse\, Liberec\, Česká republika
CATEGORIES:Zábava
ATTACH;FMTTYPE=image/jpeg:https://kulturniradce.cz/wp-content/uploads/2026/03/320-841cdcde8cf84d439b79e56d048b04b6.jpg
END:VEVENT
BEGIN:VEVENT
DTSTART;TZID=Europe/Prague:20260616T190000
DTEND;TZID=Europe/Prague:20260616T220000
DTSTAMP:20260420T034840
CREATED:20260121T184326Z
LAST-MODIFIED:20260121T184327Z
UID:9404-1781636400-1781647200@kulturniradce.cz
SUMMARY:Hudba Coldplay při svíčkách
DESCRIPTION:Hudba Coldplay při svíčkách se uskuteční dne 2026-06-16 v 19:00 v Liberec\, Kulturní centrum VRATISLAVICE 101010. \n🎟️ Koupit vstupenku \n\nNenechte si ujít večer plný energie a emocí\, kde zazní ty největší hity britské kapely Coldplay. Světlo stovky svíček vytvoří nezapomenutelnou atmosféru tohoto jedinečného koncertu. \nProgram v podání smyčcového kvarteta nabídne výběr těch nejznámějších skladeb Coldplay\, včetně hitů jako „Fix You“\, „Yellow“ či „Viva La Vida“\, které si získaly srdce fanoušků po celém světě. \nTento koncert přinese víc než jen hudbu; stovky svíček rozzáří prostor a vytvoří atmosféru plnou emocí\, melancholie a nezapomenutelných melodií\, které vás vezmou na hudební cestu s Coldplay. \nAkce je přístupná od 12 let. Každý účastník musí předložit platnou vstupenku  zakoupenou výhradně v síti smsticket. \n\nTento tip na kulturní akci v Liberec najdete v přehledu na KulturníRádce.cz spolu s dalšími koncerty\, festivaly a divadelními představeními.
URL:https://kulturniradce.cz/event/hudba-coldplay-pri-svickach-31/
LOCATION:Kulturní centrum VRATISLAVICE 101010\, Liberec\, Kulturní centrum VRATISLAVICE 101010\, Liberec\, Česká republika
CATEGORIES:Koncert
ATTACH;FMTTYPE=image/jpeg:https://kulturniradce.cz/wp-content/uploads/2026/01/320-6cb014bee84b434fae7ad99191092c1a-1.jpg
END:VEVENT
BEGIN:VEVENT
DTSTART;TZID=Europe/Prague:20260616T190000
DTEND;TZID=Europe/Prague:20260616T220000
DTSTAMP:20260420T034840
CREATED:20260121T184326Z
LAST-MODIFIED:20260121T184327Z
UID:9405-1781636400-1781647200@kulturniradce.cz
SUMMARY:Hudba Coldplay při svíčkách
DESCRIPTION:Hudba Coldplay při svíčkách se uskuteční dne 2026-06-16 v 19:00 v Liberec\, Kulturní centrum VRATISLAVICE 101010. \n🎟️ Koupit vstupenku \n\nNenechte si ujít večer plný energie a emocí\, kde zazní ty největší hity britské kapely Coldplay. Světlo stovky svíček vytvoří nezapomenutelnou atmosféru tohoto jedinečného koncertu. \nProgram v podání smyčcového kvarteta nabídne výběr těch nejznámějších skladeb Coldplay\, včetně hitů jako „Fix You“\, „Yellow“ či „Viva La Vida“\, které si získaly srdce fanoušků po celém světě. \nTento koncert přinese víc než jen hudbu; stovky svíček rozzáří prostor a vytvoří atmosféru plnou emocí\, melancholie a nezapomenutelných melodií\, které vás vezmou na hudební cestu s Coldplay. \nAkce je přístupná od 12 let. Každý účastník musí předložit platnou vstupenku  zakoupenou výhradně v síti smsticket. \n\nTento tip na kulturní akci v Liberec najdete v přehledu na KulturníRádce.cz spolu s dalšími koncerty\, festivaly a divadelními představeními.
URL:https://kulturniradce.cz/event/hudba-coldplay-pri-svickach-32/
LOCATION:Kulturní centrum VRATISLAVICE 101010\, Liberec\, Kulturní centrum VRATISLAVICE 101010\, Liberec\, Česká republika
CATEGORIES:Koncert
ATTACH;FMTTYPE=image/jpeg:https://kulturniradce.cz/wp-content/uploads/2026/01/320-6cb014bee84b434fae7ad99191092c1a.jpg
END:VEVENT
BEGIN:VEVENT
DTSTART;TZID=Europe/Prague:20261024T193000
DTEND;TZID=Europe/Prague:20261024T223000
DTSTAMP:20260420T034840
CREATED:20260315T143638Z
LAST-MODIFIED:20260315T143639Z
UID:12709-1792870200-1792881000@kulturniradce.cz
SUMMARY:Kateřina Marie Tichá a Bandjeez
DESCRIPTION:Kateřina Marie Tichá a Bandjeez se uskuteční dne 2026-10-24 v 19:30 v Liberec\, Dům Kultury. \n🎟️ Koupit vstupenku \n\nAgentura Brnokoncert s potěšením oznamuje koncerty žádané české písničkářky Kateřiny Marie Tiché s doprovodnou skupinou Bandjeez na podzim 2026. \n  \nKateřina Marie Tichá a BandjeezPátek 23.10. 2026 od 19:30 h – Hradec Králové\, PETROF GallerySobota 24.10. 2026 od 19:30 h – Liberec\, Dům kultury \n  \nRodačka z Vlašimi Kateřina Marie Tichá byla v roce 2013 nominována na Českého Slavíka v kategorii Objev roku\, ve stejném roce také zahájila dosud trvající spolupráci s tehdy právě vznikající kapelou Jelen. V roce 2015 vydala pěti písňové EP Otazníky a v roce 2020 potom debutové album Sami\, které patřilo k nejpříjemnějším překvapením české hudební scény. Na Andělem oceněnou prvotinu zpěvačka navázala očekávanou druhou řadovou deskou Plamen – první nahranou ve spolupráci s kapelou Bandjeez\, kterou převzala po Davidu Stypkovi. Novinku opět produkoval multitalentovaný Ondřej Turták a podle všech indicií jde o jednu z hudebních událostí tohoto roku. \n  \nRok 2024 byl pro charismatickou zpěvačku přelomovým. Její deska Plamen\, která vyšla začátkem února\, patřila k hudebním událostem roku. Album se zařadilo mezi nejprodávanější alba v ČR\, singl dosáhl 3. pozice mezi vůbec nejhranějšími skladbami (včetně zahraniční konkurence) v českých rádiích. Stejnojmenné turné se 13 zastávkami bylo vyprodané\, a to včetně dvou koncertů v pražském Lucerna Music Baru a v brněnském Sono Music Club. Vzhledem k nevídanému úspěchu turné bylo přidáno dalších 18 koncertů po celé ČR. \n  \nNávštěvníci se shodují v tom\, že koncerty Kateřiny Marie Tiché v doprovodu kapely Bandjeez a dechové sekce jsou povznášejícím a emotivním zážitkem. Už není pochyb: českému popu se zrodila hvězda. \n  \nNenechte si ujít! \n\nTento tip na kulturní akci v Liberec najdete v přehledu na KulturníRádce.cz spolu s dalšími koncerty\, festivaly a divadelními představeními.
URL:https://kulturniradce.cz/event/katerina-marie-ticha-a-bandjeez-2/
LOCATION:Dům kultury\, Liberec\, Dům kultury\, Liberec\, Česká republika
CATEGORIES:Koncert
ATTACH;FMTTYPE=image/jpeg:https://kulturniradce.cz/wp-content/uploads/2026/03/320-2a6d68fd6c6e4e73bae9e66cd359d194.jpg
END:VEVENT
BEGIN:VEVENT
DTSTART;TZID=Europe/Prague:20261027T190000
DTEND;TZID=Europe/Prague:20261027T220000
DTSTAMP:20260420T034840
CREATED:20260208T120941Z
LAST-MODIFIED:20260208T120941Z
UID:10391-1793127600-1793138400@kulturniradce.cz
SUMMARY:Legendární Karel Kahovec 80 Tour + The Beatles Revival
DESCRIPTION:Legendární Karel Kahovec 80 Tour + The Beatles Revival se uskuteční dne 2026-10-27 v 19:00 v Liberec\, Kulturní centrum VRATISLAVICE 101010. \n🎟️ Koupit vstupenku \n\nNarozeninový koncert legendárního Karla Kahovce 2026!  \nv úterý 27.10.2026 od 19:00 Liberec-Vratislavice Kulturní centrum 101010 \nNEČÍSLOVANÉ SEZENÍ A STÁNÍ \nZveme vás na výjimečný hudební večer\, kde své životní jubileum oslaví nezaměnitelný Karel Kahovec – ikona českého bigbítu a jeden z nejvýraznějších hlasů své generace. \nNa jednom pódiu se představí společně se skupinou The Beatles Revival\, která koncert obohatí o nesmrtelné hity slavných „Brouků“. \nMůžete se těšit na největší Kahovcovy písně\, mezi nimi například: \n\nHáj Modřínů\nPaní v černém\nSvou lásku jsem rozdal\nPoprava blond holky\n\nA samozřejmě nebudou chybět legendární skladby The Beatles\, které dodají večeru jedinečnou atmosféru. \nSoučástí koncertu bude také vzpomínka na Petra Nováka\, jednoho z největších hlasů české hudby. Připomeneme si jeho nezapomenutelné hity: \n\nPovídej\nHvězdičko blýskavá\nJá budu chodit po špičkách\nNáhrobní kámen\n\nPřijďte zažít večer plný emocí\, velkých hitů a pocty třem hudebním legendám.Tahle narozeninová oslava bude stát za to! \n\nTento tip na kulturní akci v Liberec najdete v přehledu na KulturníRádce.cz spolu s dalšími koncerty\, festivaly a divadelními představeními.
URL:https://kulturniradce.cz/event/legendarni-karel-kahovec-80-tour-the-beatles-revival/
LOCATION:Kulturní centrum VRATISLAVICE 101010\, Liberec\, Kulturní centrum VRATISLAVICE 101010\, Liberec\, Česká republika
CATEGORIES:Koncert
ATTACH;FMTTYPE=image/jpeg:https://kulturniradce.cz/wp-content/uploads/2026/02/320-2b0f24e1f58947cdaab4e90eba4eb5df.jpg
END:VEVENT
BEGIN:VEVENT
DTSTART;TZID=Europe/Prague:20261103T190000
DTEND;TZID=Europe/Prague:20261103T220000
DTSTAMP:20260420T034840
CREATED:20260315T151231Z
LAST-MODIFIED:20260315T151231Z
UID:13008-1793732400-1793743200@kulturniradce.cz
SUMMARY:Slavné muzikály a filmová hudba
DESCRIPTION:Slavné muzikály a filmová hudba se uskuteční dne 2026-11-03 v 19:00 v Liberec\, Kulturní centrum VRATISLAVICE 101010. \n🎟️ Koupit vstupenku \n\nV Kulturním centru Vratislavice si přijďte vychutnat nový zajímavý program plný písní ze světových muzikálů a filmové  hudby v podání kvarteta Musica festviva \n  \nMUSICA FESTIVA \nBronislava Smržová – soprán\, Šárka Trávníčková – housle\,                          \nGabriela Plachá – hoboj\, Petr Štěpán – kytara                                           \n. \nPROGRAM: \nCATS – A. L. WEBBER: Memory \nFANTOM OPERY – A. L. WEBBER: Think of me \nWEST SIDE STORY – L. BERNSTEIN: I feel pretty \nSNÍDANĚ U TIFFANIHO –  H. MANCINI: Moon River \nMY FAIR LADY – F. LOEWE: Chci jen někde svůj plácek mít \nPORGY A BESS – G. GERSHWIN: Summer Time        \nWEST SIDE STORY – L. BERNSTEIN: Tonight \nJESUS CHRIST SUPERSTAR – A. L. WEBBER: I don´t know how to love him        \nMISE – E. MORRICONE: Gabriel´s Oboe \nJAMES BOND – M. NORMAN: James Bond Theme \nMAMMA MIA – B. ANDERSON: I do\, I do\, I do \nFORREST GUMP – A. SILVESTRI \nKMOTR – N. ROTA: The Godfather theme \nLÁSKA NEBESKÁ – L. ARMSTRONG: Portuguese love theme \nJAMES BOND – Adele: Skyfall \nRŮŽOVÝ PANTER – H. MANCINI: Pink Panther \nPEARL HARBOUR – H. ZIMMER: Tennessee \nDélka asi 65 minut \n\nTento tip na kulturní akci v Liberec najdete v přehledu na KulturníRádce.cz spolu s dalšími koncerty\, festivaly a divadelními představeními.
URL:https://kulturniradce.cz/event/slavne-muzikaly-a-filmova-hudba-2/
LOCATION:Kulturní centrum VRATISLAVICE 101010\, Liberec\, Kulturní centrum VRATISLAVICE 101010\, Liberec\, Česká republika
CATEGORIES:Koncert
ATTACH;FMTTYPE=image/jpeg:https://kulturniradce.cz/wp-content/uploads/2026/03/320-39bb6c9ed659401c852a46edaa6819cf.jpg
END:VEVENT
BEGIN:VEVENT
DTSTART;TZID=Europe/Prague:20261119T190000
DTEND;TZID=Europe/Prague:20261119T220000
DTSTAMP:20260420T034840
CREATED:20260315T144148Z
LAST-MODIFIED:20260315T144148Z
UID:12737-1795114800-1795125600@kulturniradce.cz
SUMMARY:Muzikály Naruby | Liberec
DESCRIPTION:Muzikály Naruby | Liberec se uskuteční dne 2026-11-19 v 19:00 v Liberec\, Dům Kultury. \n🎟️ Koupit vstupenku \n\nMUZIKÁLY NARUBY – Josef Vágner & Petr Ryšavý & Jan KopečnýKoncertní zábavná show naplněná těmi největšími hity z českých i světových muzikálů. \nMuzikály Naruby\, to je koncert živé kapely\, která hraje známe hity tak\, jak je ještě nikdy nikdo neslyšel. Přední čeští zpěváci a muzikáloví herci Josef Vágner\, Jan Kopečný a Petr Ryšavý zpívají hity nejen z tradičních muzikálů jako jsou Bídníci\, Kleopatra\, Angelika\, Tři mušketýři\, ale také z českých hit-muzikálů. \nV programu tak zní ty největší hity Waldemara Matušky\, Václava Neckáře\, kapely Lucie\, Janka Ledeckého\, Karla Gotta\, Michala Davida\, Heleny Vondráčkové\, Lucie Bílé a dalších. \nKoncert je prokládán vtipnými historkami ze zákulisí divadla a české hudební scény. Muzikály Naruby tradičně do posledního místa vyprodávají divadelní sály po celé ČR. A nesmíme zapomenout ani na jejich vyprodanou pražskou Lucernu. \nÚčinkujíJosef VágnerPetr RyšavýJan Kopečný…v doprovodu živé kapely \n\nTento tip na kulturní akci v Liberec najdete v přehledu na KulturníRádce.cz spolu s dalšími koncerty\, festivaly a divadelními představeními.
URL:https://kulturniradce.cz/event/muzikaly-naruby-liberec/
LOCATION:Dům kultury\, Liberec\, Dům kultury\, Liberec\, Česká republika
CATEGORIES:Koncert
ATTACH;FMTTYPE=image/jpeg:https://kulturniradce.cz/wp-content/uploads/2026/03/320-d3b4c5a9258e4919a8d1b7d6787100a1.jpg
END:VEVENT
BEGIN:VEVENT
DTSTART;TZID=Europe/Prague:20261207T190000
DTEND;TZID=Europe/Prague:20261207T220000
DTSTAMP:20260420T034840
CREATED:20260209T195025Z
LAST-MODIFIED:20260209T195026Z
UID:10790-1796670000-1796680800@kulturniradce.cz
SUMMARY:ŠVANCI SHOW - JÁ SU JÁ - Liberec
DESCRIPTION:ŠVANCI SHOW – JÁ SU JÁ – Liberec se uskuteční dne 2026-12-07 v 19:00 v Liberec\, Dům Kultury. \n🎟️ Koupit vstupenku \n\nNová zábavná show „JÁ SU JÁ“ vyráží na TOUR po celé České republice. \nČekají vás vtipné historky\, od kariéry fotbalisty\, velkolepé rozlučky za Lužánkami\, návštěv různých zábavních pořadů\, až po účast v reality show Survivor. Dále se těšte na prostor pro otázky na tělo\, autogramiádu\, focení a mnoho dalšího. \nJak moc dobře mě znáš? Jak vypadá můj život po kariéře fotbalisty? Chceš znát více informací o reality show Surviror? \nNejen to se dozvíš ve zbrusu nové zábavné show „JÁ SU JÁ“. \nPřijď se podívat a užít si legraci\, popovídat si s legendou fotbalu\, moderátorem\, bavičem a dát si třeba fotku\, nebo si nechat cokoliv podepsat. \nPořad není vhodný mladším 15 let! \n\nTento tip na kulturní akci v Liberec najdete v přehledu na KulturníRádce.cz spolu s dalšími koncerty\, festivaly a divadelními představeními.
URL:https://kulturniradce.cz/event/svanci-show-ja-su-ja-liberec/
LOCATION:Dům kultury\, Liberec\, Dům kultury\, Liberec\, Česká republika
CATEGORIES:Zábava
ATTACH;FMTTYPE=image/jpeg:https://kulturniradce.cz/wp-content/uploads/2026/02/320-363f20d7e30d4f4180fff7146e6e74d7.jpg
END:VEVENT
END:VCALENDAR