BEGIN:VCALENDAR
VERSION:2.0
PRODID:-//www.kulturniradce.cz - ECPv6.15.20//NONSGML v1.0//EN
CALSCALE:GREGORIAN
METHOD:PUBLISH
X-WR-CALNAME:www.kulturniradce.cz
X-ORIGINAL-URL:https://kulturniradce.cz
X-WR-CALDESC:Akce na www.kulturniradce.cz
REFRESH-INTERVAL;VALUE=DURATION:PT1H
X-Robots-Tag:noindex
X-PUBLISHED-TTL:PT1H
BEGIN:VTIMEZONE
TZID:Europe/Prague
BEGIN:DAYLIGHT
TZOFFSETFROM:+0100
TZOFFSETTO:+0200
TZNAME:CEST
DTSTART:20240331T010000
END:DAYLIGHT
BEGIN:STANDARD
TZOFFSETFROM:+0200
TZOFFSETTO:+0100
TZNAME:CET
DTSTART:20241027T010000
END:STANDARD
BEGIN:DAYLIGHT
TZOFFSETFROM:+0100
TZOFFSETTO:+0200
TZNAME:CEST
DTSTART:20250330T010000
END:DAYLIGHT
BEGIN:STANDARD
TZOFFSETFROM:+0200
TZOFFSETTO:+0100
TZNAME:CET
DTSTART:20251026T010000
END:STANDARD
BEGIN:DAYLIGHT
TZOFFSETFROM:+0100
TZOFFSETTO:+0200
TZNAME:CEST
DTSTART:20260329T010000
END:DAYLIGHT
BEGIN:STANDARD
TZOFFSETFROM:+0200
TZOFFSETTO:+0100
TZNAME:CET
DTSTART:20261025T010000
END:STANDARD
END:VTIMEZONE
BEGIN:VEVENT
DTSTART;TZID=Europe/Prague:20251022T190000
DTEND;TZID=Europe/Prague:20251022T220000
DTSTAMP:20260420T021739
CREATED:20250928T185753Z
LAST-MODIFIED:20250928T185753Z
UID:3042-1761159600-1761170400@kulturniradce.cz
SUMMARY:Jsme Zločinožrouti Tour II. - Liberec
DESCRIPTION:Jsme Zločinožrouti Tour II. – Liberec se uskuteční dne 2025-10-22 v 19:00 v Liberec\, Dům kultury. \n🎟️ Koupit vstupenku \n\nPřiprav se na večer plný true crime příběhů a černého humoru. V řijnu a listopadu 2025 jedeme na podzimní tour. \n  \n\nTento tip na kulturní akci v Liberec najdete v přehledu na KulturníRádce.cz spolu s dalšími koncerty\, festivaly a divadelními představeními.
URL:https://kulturniradce.cz/event/jsme-zlocinozrouti-tour-ii-liberec/
LOCATION:Dům kultury\, Liberec\, Dům kultury\, Liberec\, Česká republika
CATEGORIES:Zábava
ATTACH;FMTTYPE=image/jpeg:https://kulturniradce.cz/wp-content/uploads/2025/09/320-2496fad6acdd4afb872b18d7cfa84bcf.jpg
END:VEVENT
BEGIN:VEVENT
DTSTART;TZID=Europe/Prague:20251021T190000
DTEND;TZID=Europe/Prague:20251021T220000
DTSTAMP:20260420T021739
CREATED:20250921T075537Z
LAST-MODIFIED:20250921T075538Z
UID:826-1761073200-1761084000@kulturniradce.cz
SUMMARY:ABBA a Beatles klasicky
DESCRIPTION:ABBA a Beatles klasicky se uskuteční dne 2025-10-21 v 19:00 v Liberec\, Kulturní centrum VRATISLAVICE 101010. \n🎟️ Koupit vstupenku \n\nV Kulturním centru Vratislavice připravujeme další koncert\, kde na vás čekají vynikající aranže slavných písniček skupin ABBA a Beatles v unikátních aranžích Klárovo smyčcového kvarteta \n  \nKLÁROVO KVARTETO \nPavel Hrda – I. housle\, Tom Klár – II. housle\, Libor Kaňka – viola\, Václav Fleissig – violoncello \n  \nPROGRAM: \nBEATLES:                                            ABBA:                        \nAll you need is Love                           Dancing Queen \nObladi – oblada                                   S.O.S. \nYesterday                                             Waterloo \nI want to hold your hand                    Super Trouper  \nHey\, Jude                                             Fernando \nFrom me to you                                   Mamma mia \nShe loves you                                      Money\, money\, money \nOh\, darling \nSomething \nDizzy miss Lizzy \nLady Madonna \nA hard day´s Night \n\nTento tip na kulturní akci v Liberec najdete v přehledu na KulturníRádce.cz spolu s dalšími koncerty\, festivaly a divadelními představeními.
URL:https://kulturniradce.cz/event/abba-a-beatles-klasicky-2/
LOCATION:Kulturní centrum VRATISLAVICE 101010\, Liberec\, Kulturní centrum VRATISLAVICE 101010\, Liberec\, Česká republika
CATEGORIES:Koncert
ATTACH;FMTTYPE=image/jpeg:https://kulturniradce.cz/wp-content/uploads/2025/09/320-3fa64c62ed244a289ef9beb818c90d03-1.jpg
END:VEVENT
BEGIN:VEVENT
DTSTART;TZID=Europe/Prague:20251021T190000
DTEND;TZID=Europe/Prague:20251021T220000
DTSTAMP:20260420T021739
CREATED:20250921T075537Z
LAST-MODIFIED:20250921T075538Z
UID:825-1761073200-1761084000@kulturniradce.cz
SUMMARY:ABBA a Beatles klasicky
DESCRIPTION:ABBA a Beatles klasicky se uskuteční dne 2025-10-21 v 19:00 v Liberec\, Kulturní centrum VRATISLAVICE 101010. \n🎟️ Koupit vstupenku \n\nV Kulturním centru Vratislavice připravujeme další koncert\, kde na vás čekají vynikající aranže slavných písniček skupin ABBA a Beatles v unikátních aranžích Klárovo smyčcového kvarteta \n  \nKLÁROVO KVARTETO \nPavel Hrda – I. housle\, Tom Klár – II. housle\, Libor Kaňka – viola\, Václav Fleissig – violoncello \n  \nPROGRAM: \nBEATLES:                                            ABBA:                        \nAll you need is Love                           Dancing Queen \nObladi – oblada                                   S.O.S. \nYesterday                                             Waterloo \nI want to hold your hand                    Super Trouper  \nHey\, Jude                                             Fernando \nFrom me to you                                   Mamma mia \nShe loves you                                      Money\, money\, money \nOh\, darling \nSomething \nDizzy miss Lizzy \nLady Madonna \nA hard day´s Night \n\nTento tip na kulturní akci v Liberec najdete v přehledu na KulturníRádce.cz spolu s dalšími koncerty\, festivaly a divadelními představeními.
URL:https://kulturniradce.cz/event/abba-a-beatles-klasicky-2/
LOCATION:Kulturní centrum VRATISLAVICE 101010\, Liberec\, Kulturní centrum VRATISLAVICE 101010\, Liberec\, Česká republika
CATEGORIES:Koncert
ATTACH;FMTTYPE=image/jpeg:https://kulturniradce.cz/wp-content/uploads/2025/09/320-3fa64c62ed244a289ef9beb818c90d03-2.jpg
END:VEVENT
BEGIN:VEVENT
DTSTART;TZID=Europe/Prague:20251018T193000
DTEND;TZID=Europe/Prague:20251018T223000
DTSTAMP:20260420T021739
CREATED:20250924T181148Z
LAST-MODIFIED:20250924T181148Z
UID:2205-1760815800-1760826600@kulturniradce.cz
SUMMARY:Veselé Velikonoce v Liberci
DESCRIPTION:Veselé Velikonoce v Liberci se uskuteční dne 2025-10-18 v 19:30 v Liberec\, Dům kultury. \n🎟️ Koupit vstupenku \n\nNenapravitelný rošťák\, profesionál i zvíře chystá bezva fintu. \nŘekne-li se kultovní francouzská komedie\, nemůže ve výčtu chybět titul Veselé Velikonoce. \nSlavná divadelní hra\, která získala svou proslulost i díky filmovému zpracování\, ve kterém exceluje Jean-Paul Belmondo. \nHRAJÍ:Martin HofmannMichaela BadinkováFilip Cíl / Tomáš KůgelEliška Hanušová / Anna Jiřina DaňhelováMonika ZoubkováJelena JuklováJiří Wohanka \nVěčný příběh nenapravitelného zmatkáře Stéphana\, který se odhodlá podvést svou manželku Sophii. Ta ho jednou přistihne ve společnosti půvabné dívky a Stéphane ji bez váhání představí jako svou dceru.  V té chvíli začne zamotávání se do vlastních lží\, skrývání a nečekaných překvapení. \nVeselé Velikonoce jsou skvostnou situační komedií\, která vychází z nejlepších tradic tohoto žánru. \nAutor: Jean PoiretRežie: Miroslav HanušPřeklad: Jiří ŽákProdukce: Pantheon production \n\nTento tip na kulturní akci v Liberec najdete v přehledu na KulturníRádce.cz spolu s dalšími koncerty\, festivaly a divadelními představeními.
URL:https://kulturniradce.cz/event/vesele-velikonoce-v-liberci/
LOCATION:Dům kultury\, Liberec\, Dům kultury\, Liberec\, Česká republika
CATEGORIES:Divadlo
ATTACH;FMTTYPE=image/jpeg:https://kulturniradce.cz/wp-content/uploads/2025/09/320-90b47430febc4991b84facdf60d6f8bf.jpg
END:VEVENT
BEGIN:VEVENT
DTSTART;TZID=Europe/Prague:20251018T100000
DTEND;TZID=Europe/Prague:20251018T130000
DTSTAMP:20260420T021739
CREATED:20251002T162815Z
LAST-MODIFIED:20251002T162816Z
UID:4103-1760781600-1760792400@kulturniradce.cz
SUMMARY:Festival Nalehko — 6. ročník
DESCRIPTION:Festival Nalehko — 6. ročník se uskuteční dne 2025-10-18 v 10:00 v Liberec\, Kulturní centrum VRATISLAVICE 101010. \n🎟️ Koupit vstupenku \n\n6. ročník pohodového outdoorového festivalu\, který je nabušený inspirací pro velká\, životní dobrodružství. \nPovídání o nejdelších světových trecích\, extrémním běhání\, bikepackingu\, lezení a dalších posedlostech\, které dělají život zábavným. \nSoučástí festivalu je i výstava ultralehkých stanů a tarpů. Můžete si také osahat to nejlehčí outdoorové vybavení na trhu. S výhodnou slevou potom můžete doplnit své outdoorové vybavení a sportovní šatník. \nK dispozici je stanové městečko\, kde můžete přespat ve svém vlastním stanu nebo si můžete vybrat z mnoha nabídek ubytování v Liberci a okolí. \nFestival probíhá v novém moderním Kulturním centru VRATISLAVICE 101010 ve Vratislavicích nad Nisou\, jen kousek od centra Liberce. Součástí je i skvělá Kavárna Bez Konceptu\, která Vám bude po celou dobu festivalu k dispozici. \n  \nPROGRAM: \nSobota: \n10:00 — Jiří Kostínek: Řízení rizika v outdooru \n12:30 — Martin Souček: Ze západu na východ — 8 dní pro paliativu s Domestiky \n15:00 — Marie Šnajdrová: Pacific Northwest Trail \n17:30 — Ivan Mitrus\, Jakub Šolc\, Daniel Pumr: 7 000 km pěšky přes Chile \n19:00 — závěr sobotního večera: DJ DaRoot \n  \nNeděle: \n10:00 — Lucie Hromková: Great Divide Trail \n12:30 — Martin Zhoř: Na vrchol snu — Manaslu \n15:00 — Veronika Jiříčková: Kuba na koloběžkách \n  \nVSTUP PRO DĚTI DO 15 LET ZDARMA. \nVstupné v předprodeji je cenově výhodnější. \nVstupné na místě: \n1 den / 500 Kč \n2 dny / 700 Kč \n\nTento tip na kulturní akci v Liberec najdete v přehledu na KulturníRádce.cz spolu s dalšími koncerty\, festivaly a divadelními představeními.
URL:https://kulturniradce.cz/event/festival-nalehko-6-rocnik/
LOCATION:Kulturní centrum VRATISLAVICE 101010\, Liberec\, Kulturní centrum VRATISLAVICE 101010\, Liberec\, Česká republika
CATEGORIES:Festival
ATTACH;FMTTYPE=image/jpeg:https://kulturniradce.cz/wp-content/uploads/2025/10/320-a513dd72970b4d51966019c87d8719cc.jpg
END:VEVENT
BEGIN:VEVENT
DTSTART;TZID=Europe/Prague:20251016T170000
DTEND;TZID=Europe/Prague:20251016T200000
DTSTAMP:20260420T021739
CREATED:20250924T180456Z
LAST-MODIFIED:20250924T180457Z
UID:2101-1760634000-1760644800@kulturniradce.cz
SUMMARY:Alenka v říši divů I Liberec
DESCRIPTION:Alenka v říši divů I Liberec se uskuteční dne 2025-10-16 v 17:00 v Liberec\, Kulturní centrum VRATISLAVICE 101010. \n🎟️ Koupit vstupenku \n\n✨Vezměte děti do světa\, kde realita ztrácí pevnou půdu pod nohama – do říše divů\, která ožije přímo před jejich očima! \n„Alenka v říši divů“ – interaktivní muzikál\, který přenese děti do světa fantazie\, kde se stěny hýbou\, stropy dýchají a housenky se plazí světelnými projekcemi po celém divadle. \n⏰Nečekejte obyčejné představení – čeká vás vizuální velkolepost\, která doslova vtáhne malé diváky přímo do příběhu! Kombinace špičkové datové projekce\, interaktivních scén\, světelných efektů a živé hudby promění divadlo v dechberoucí svět plný zázraků. \n🧒 Vaše děti nebudou jen sedět v hledišti – stanou se součástí děje: \n\n\npomohou Alence řešit tajemné hádanky\, \n\n\nzazpívají s ní kouzelné písničky\, \n\n\nzapojí se do pátrání po neviditelném kocourovi\, \n\n\na po představení se vyfotí přímo na jevišti se všemi postavami z říše divů! \n\n\n  \n🎭Tohle je zážitek\, na který se nezapomíná – tohle je jejich první opravdové dobrodružství v divadle. \nČeká vás říše\, kde se čaj pije o půlnoci\, králíci nosí hodinky\, kočky mluví a všechno dává smysl dětské fantazii. Příběh je hravě a srozumitelně upraven i pro nejmenší děti. \n  \nMuzikál od zkušených tvůrců inscenací Popelka a Vánoční loupež! \n\nTento tip na kulturní akci v Liberec najdete v přehledu na KulturníRádce.cz spolu s dalšími koncerty\, festivaly a divadelními představeními.
URL:https://kulturniradce.cz/event/alenka-v-risi-divu-i-liberec/
LOCATION:Kulturní centrum VRATISLAVICE 101010\, Liberec\, Kulturní centrum VRATISLAVICE 101010\, Liberec\, Česká republika
CATEGORIES:Divadlo
ATTACH;FMTTYPE=image/jpeg:https://kulturniradce.cz/wp-content/uploads/2025/09/320-63803b420b274ddd943cab09a99ea0a0.jpg
END:VEVENT
BEGIN:VEVENT
DTSTART;TZID=Europe/Prague:20251015T190000
DTEND;TZID=Europe/Prague:20251015T220000
DTSTAMP:20260420T021739
CREATED:20251001T191034Z
LAST-MODIFIED:20251001T191035Z
UID:3757-1760554800-1760565600@kulturniradce.cz
SUMMARY:QUEENSHOW Liberec
DESCRIPTION:QUEENSHOW Liberec se uskuteční dne 2025-10-15 v 19:00 v Liberec\, Dům kultury. \n🎟️ Koupit vstupenku \n\nQUEENSHOW /2025/ – Bohemian Rhapsody: Půl století legendy a oslava 40. výročí legendárního koncertu Live Aid (1985). \nPřijďte zažít nezapomenutelný koncert skupiny QUEENSHOW\, která vzdává hold nesmrtelné hudbě Freddieho Mercuryho a QUEEN!  \nU příležitosti 40. výročí legendárního koncertu Live Aid (1985) a 50 let od vydání ikonické „Bohemian Rhapsody“\, která se stala jednou z největších písní všech dob\, vás čeká večer plný největších hitů\, jako jsou „We Will Rock You“\, „Radio Ga Ga“\, „We Are the Champions“\, či „Bohemian Rhapsody“.  \nPřipomeňte si vystoupení na Live Aid (1985)\, které změnilo hudební historii. Nechte se unést energií\, vášní a dokonalou show v duchu QUEEN! \nQUEENSHOW je jediná tribute kapela na světě\, která na svých vystoupeních používá tak rozsáhlý výběr dobových nebo dokonce stejných nástrojů\, jaké používal QUEEN na svých koncertech!  \nDíky své neuvěřitelné autenticitě\, která dokonale zachycuje nejen zvuk\, ale i magii a energii původní formace\, je uznávána jako jedna z nejlepších QUEEN tribute kapel vůbec.  \nKaždý koncert je oslavou mistrovství Queen a jejich nadčasového odkazu\, každé vystoupení QUEENSHOW je jedinečným zážitkem\, který vás přenese do doby\, kdy Freddie Mercury ovládal pódia a hudba QUEEN dobývala svět. \nOd roku 2024 se kapele připojil italský hudebník Marco Giuseppe Di Marco\, uznávaný ve světě QUEEN jako brilantní kytarista\, který dokáže s precizností napodobit nezaměnitelnou techniku Briana Maye. Jeho hra přidává vystoupení další úroveň dokonalosti a autentičnosti\, což dělá z QUEENSHOW výjimečnou hudební událost\, kterou si nesmíte nechat ujít! \n\nTento tip na kulturní akci v Liberec najdete v přehledu na KulturníRádce.cz spolu s dalšími koncerty\, festivaly a divadelními představeními.
URL:https://kulturniradce.cz/event/queenshow-liberec/
LOCATION:Dům kultury\, Liberec\, Dům kultury\, Liberec\, Česká republika
CATEGORIES:Koncert
ATTACH;FMTTYPE=image/jpeg:https://kulturniradce.cz/wp-content/uploads/2025/10/320-3d866097648847c08872689fbcb05b26.jpg
END:VEVENT
BEGIN:VEVENT
DTSTART;TZID=Europe/Prague:20251013T190000
DTEND;TZID=Europe/Prague:20251013T220000
DTSTAMP:20260420T021739
CREATED:20250925T190033Z
LAST-MODIFIED:20250925T190034Z
UID:2245-1760382000-1760392800@kulturniradce.cz
SUMMARY:Michael Szatmary - Lokálny sexsymbol - Stand-up speciál
DESCRIPTION:Michael Szatmary – Lokálny sexsymbol – Stand-up speciál se uskuteční dne 2025-10-13 v 19:00 v Liberec\, Kulturní centrum VRATISLAVICE 101010. \n🎟️ Koupit vstupenku \n\nMichael Szatmary\, jedno z největších a nejzářivějších jmen slovenské stand-up komediální scény\, který je velmi oblíbený i českým publikem\, vyráží na turné se svým Stand-up comedy speciálem. \nMůžete se těšit na 80. minutovou show\, ve které vás Michael nebude šetřit a celý večer se budete smát jeho nejlepším historkám. \n\nTento tip na kulturní akci v Liberec najdete v přehledu na KulturníRádce.cz spolu s dalšími koncerty\, festivaly a divadelními představeními.
URL:https://kulturniradce.cz/event/michael-szatmary-lokalny-sexsymbol-stand-up-special/
LOCATION:Kulturní centrum VRATISLAVICE 101010\, Liberec\, Kulturní centrum VRATISLAVICE 101010\, Liberec\, Česká republika
CATEGORIES:Zábava
ATTACH;FMTTYPE=image/jpeg:https://kulturniradce.cz/wp-content/uploads/2025/09/320-b6c4486f14564f1585b585f415da60f9.jpg
END:VEVENT
BEGIN:VEVENT
DTSTART;TZID=Europe/Prague:20251011T200000
DTEND;TZID=Europe/Prague:20251011T230000
DTSTAMP:20260420T021739
CREATED:20250930T070021Z
LAST-MODIFIED:20250930T070022Z
UID:3293-1760212800-1760223600@kulturniradce.cz
SUMMARY:Kvietah v Liberci
DESCRIPTION:Kvietah v Liberci se uskuteční dne 2025-10-11 v 20:00 v Liberec\, Klub Stamina. \n🎟️ Koupit vstupenku \n\nKVIETAH – mladá písničkářka\, která vyniká otevřeností a opravdovostí ve svých textech a zároveň silou hudební výpovědi o často smutné realitě. Dokáže poutavě sdílet své pocity a zároveň vyhmátnout podstatu situace načrtnuté jen prostřednictvím detailů. V hudbě umně střídá zkreslené alternativně rockové kytary\, popově chytlavé melodie\, elektronické beaty i čistý baladický klavír. V letošním dubnu získala Cenu Anděl v kategorii Objev roku a v rámci projektu Dialogy 24/25 byly společně s Lenkou Dusilovou nominovány na Ceny Apollo 2024. \n\nTento tip na kulturní akci v Liberec najdete v přehledu na KulturníRádce.cz spolu s dalšími koncerty\, festivaly a divadelními představeními.
URL:https://kulturniradce.cz/event/kvietah-v-liberci/
LOCATION:Klub Stamina\, Liberec\, Klub Stamina\, Liberec\, Česká republika
CATEGORIES:Koncert
ATTACH;FMTTYPE=image/jpeg:https://kulturniradce.cz/wp-content/uploads/2025/09/320-1b4ecfed194043a980efe8c67a92c015.jpg
END:VEVENT
BEGIN:VEVENT
DTSTART;TZID=Europe/Prague:20251010T200000
DTEND;TZID=Europe/Prague:20251010T230000
DTSTAMP:20260420T021739
CREATED:20251010T150001Z
LAST-MODIFIED:20251010T150002Z
UID:5434-1760126400-1760137200@kulturniradce.cz
SUMMARY:Na stojáka Liberec
DESCRIPTION:Na stojáka Liberec se uskuteční dne 2025-10-10 v 20:00 v Liberec\, Club Warehouse. \n🎟️ Koupit vstupenku \n\nStand-up večer v Liberci: Smích\, který rozhýbe i JeštědVe čtvrtek 10. října od 20:00 se v Club Warehouse odehraje večer\, který vám zvedne náladu rychleji než výtah na horu. Připravte se na stand-up show\, kde budou pointy svištět vzduchem a trapné ticho zůstane doma.Na scéně se představí tři osobnosti\, které ví\, jak rozesmát i kamennou sochu:Karel Hynek – básník všedního dne\, který místo veršů hází trefné glosy a ironii ostrou jako břitva.Iva Pazderková – blondýna s mozkem a mikrofonem\, která se nezalekne žádného tématu a vtipy dávkuje s chirurgickou přesností.Petr “Nasty” Cerha – moderátor\, DJ\, bavič… ale hlavně pozorovatel života\, který z každodenní absurdity udělá zážitek k popukání.Mikrofony budou zapnuté\, světla nasměrovaná a bar připravený. Přijďte si užít večer plný chytrého humoru\, nečekaných momentů a smíchu\, co vydrží ještě cestou domů.Akce není vhodná pro osoby mladší 15. let. \n\nTento tip na kulturní akci v Liberec najdete v přehledu na KulturníRádce.cz spolu s dalšími koncerty\, festivaly a divadelními představeními.
URL:https://kulturniradce.cz/event/na-stojaka-liberec/
LOCATION:Club Warehouse\, Liberec\, Club Warehouse\, Liberec\, Česká republika
CATEGORIES:Zábava
ATTACH;FMTTYPE=image/jpeg:https://kulturniradce.cz/wp-content/uploads/2025/10/320-4a0bfc6531c0454293d1e76c8c3982db.jpg
END:VEVENT
BEGIN:VEVENT
DTSTART;TZID=Europe/Prague:20251001T190000
DTEND;TZID=Europe/Prague:20251001T220000
DTSTAMP:20260420T021739
CREATED:20250921T194603Z
LAST-MODIFIED:20250921T194603Z
UID:1571-1759345200-1759356000@kulturniradce.cz
SUMMARY:Vzpomínky zůstanou v Liberci
DESCRIPTION:Vzpomínky zůstanou v Liberci se uskuteční dne 2025-10-01 v 19:00 v Liberec\, Dům kultury. \n🎟️ Koupit vstupenku \n\nMilostný příběh barového klavíristy a jeho dvou osudových žen. Hra o lásce a rodinných poutech plná úsměvných\, dojemných\, ale i vážnějších momentů. Herecký koncert Zlaty Adamovské\, Petra Štěpánka a Jany Strykové či Lucie Štěpánkové. Od autora brilantní komedie Každý rok ve stejnou dobu\, která oslovila diváky na celém světě. \n„Tato neobvyklá love story splétá smích\, slzy a nostalgické písně\, aby utkala okouzlující pozdrav romantickým hrám minulosti.“ \nObsazení:Zlata AdamovskáPetr ŠtěpánekLucie Štěpánková / Jana StrykováVilém Udatný \nAutor: Bernard SladePřeklad: Rostislav M. ČernýRežie: Viktor PolesnýHudba: Petr MalásekInscenace Studio DVA divadla. \n\nTento tip na kulturní akci v Liberec najdete v přehledu na KulturníRádce.cz spolu s dalšími koncerty\, festivaly a divadelními představeními.
URL:https://kulturniradce.cz/event/vzpominky-zustanou-v-liberci/
LOCATION:Dům kultury\, Liberec\, Dům kultury\, Liberec\, Česká republika
CATEGORIES:Divadlo
ATTACH;FMTTYPE=image/jpeg:https://kulturniradce.cz/wp-content/uploads/2025/09/320-f8ae6eff16444d3b99f7faf80f17302c.jpg
END:VEVENT
END:VCALENDAR