BEGIN:VCALENDAR
VERSION:2.0
PRODID:-//www.kulturniradce.cz - ECPv6.15.20//NONSGML v1.0//EN
CALSCALE:GREGORIAN
METHOD:PUBLISH
X-WR-CALNAME:www.kulturniradce.cz
X-ORIGINAL-URL:https://kulturniradce.cz
X-WR-CALDESC:Akce na www.kulturniradce.cz
REFRESH-INTERVAL;VALUE=DURATION:PT1H
X-Robots-Tag:noindex
X-PUBLISHED-TTL:PT1H
BEGIN:VTIMEZONE
TZID:Europe/Prague
BEGIN:DAYLIGHT
TZOFFSETFROM:+0100
TZOFFSETTO:+0200
TZNAME:CEST
DTSTART:20250330T010000
END:DAYLIGHT
BEGIN:STANDARD
TZOFFSETFROM:+0200
TZOFFSETTO:+0100
TZNAME:CET
DTSTART:20251026T010000
END:STANDARD
BEGIN:DAYLIGHT
TZOFFSETFROM:+0100
TZOFFSETTO:+0200
TZNAME:CEST
DTSTART:20260329T010000
END:DAYLIGHT
BEGIN:STANDARD
TZOFFSETFROM:+0200
TZOFFSETTO:+0100
TZNAME:CET
DTSTART:20261025T010000
END:STANDARD
BEGIN:DAYLIGHT
TZOFFSETFROM:+0100
TZOFFSETTO:+0200
TZNAME:CEST
DTSTART:20270328T010000
END:DAYLIGHT
BEGIN:STANDARD
TZOFFSETFROM:+0200
TZOFFSETTO:+0100
TZNAME:CET
DTSTART:20271031T010000
END:STANDARD
END:VTIMEZONE
BEGIN:VEVENT
DTSTART;TZID=Europe/Prague:20260118T180000
DTEND;TZID=Europe/Prague:20260118T210000
DTSTAMP:20260420T022337
CREATED:20251209T190147Z
LAST-MODIFIED:20251209T190148Z
UID:7476-1768759200-1768770000@kulturniradce.cz
SUMMARY:MUDr. Marie Skalská: Výživa mladého sportovce on-line
DESCRIPTION:MUDr. Marie Skalská: Výživa mladého sportovce on-line se uskuteční dne 2026-01-18 v 18:00 v Online\, Zoom. \n🎟️ Koupit vstupenku \n\nOblíbená přednáška v on-line verzi na živo určená zejména rodičům mladých sportovců\, trenérům mládeže\, mladým sportovcům samotným o výživě od A do Z.  \nO vlivu výživy na sportovní a mentální výkon mladého sportovce\, na jeho zdravotní prognozu. \nJak výživou zlepšovat výkon\, předcházet zranění a nemoci.  \n\nTento tip na kulturní akci v Online najdete v přehledu na KulturníRádce.cz spolu s dalšími koncerty\, festivaly a divadelními představeními.
URL:https://kulturniradce.cz/event/mudr-marie-skalska-vyziva-mladeho-sportovce-on-line/
LOCATION:Zoom\, Online\, Zoom\, Online\, Česká republika
CATEGORIES:Zábava
ATTACH;FMTTYPE=image/jpeg:https://kulturniradce.cz/wp-content/uploads/2025/12/320-866af3f8c8a448a6ba720b5b61b8e23f.jpg
END:VEVENT
END:VCALENDAR