BEGIN:VCALENDAR
VERSION:2.0
PRODID:-//www.kulturniradce.cz - ECPv6.15.20//NONSGML v1.0//EN
CALSCALE:GREGORIAN
METHOD:PUBLISH
X-WR-CALNAME:www.kulturniradce.cz
X-ORIGINAL-URL:https://kulturniradce.cz
X-WR-CALDESC:Akce na www.kulturniradce.cz
REFRESH-INTERVAL;VALUE=DURATION:PT1H
X-Robots-Tag:noindex
X-PUBLISHED-TTL:PT1H
BEGIN:VTIMEZONE
TZID:Europe/Prague
BEGIN:DAYLIGHT
TZOFFSETFROM:+0100
TZOFFSETTO:+0200
TZNAME:CEST
DTSTART:20240331T010000
END:DAYLIGHT
BEGIN:STANDARD
TZOFFSETFROM:+0200
TZOFFSETTO:+0100
TZNAME:CET
DTSTART:20241027T010000
END:STANDARD
BEGIN:DAYLIGHT
TZOFFSETFROM:+0100
TZOFFSETTO:+0200
TZNAME:CEST
DTSTART:20250330T010000
END:DAYLIGHT
BEGIN:STANDARD
TZOFFSETFROM:+0200
TZOFFSETTO:+0100
TZNAME:CET
DTSTART:20251026T010000
END:STANDARD
BEGIN:DAYLIGHT
TZOFFSETFROM:+0100
TZOFFSETTO:+0200
TZNAME:CEST
DTSTART:20260329T010000
END:DAYLIGHT
BEGIN:STANDARD
TZOFFSETFROM:+0200
TZOFFSETTO:+0100
TZNAME:CET
DTSTART:20261025T010000
END:STANDARD
BEGIN:DAYLIGHT
TZOFFSETFROM:+0100
TZOFFSETTO:+0200
TZNAME:CEST
DTSTART:20270328T010000
END:DAYLIGHT
BEGIN:STANDARD
TZOFFSETFROM:+0200
TZOFFSETTO:+0100
TZNAME:CET
DTSTART:20271031T010000
END:STANDARD
END:VTIMEZONE
BEGIN:VEVENT
DTSTART;TZID=Europe/Prague:20260505T183000
DTEND;TZID=Europe/Prague:20260505T213000
DTSTAMP:20260420T023501
CREATED:20260308T185833Z
LAST-MODIFIED:20260308T185845Z
UID:12239-1778005800-1778016600@kulturniradce.cz
SUMMARY:Jak získat zpět ztracenou energii a dobře se vyspat
DESCRIPTION:Jak získat zpět ztracenou energii a dobře se vyspat se uskuteční dne 2026-05-05 v 18:30 v Online\, YouTube. \n🎟️ Koupit vstupenku \n\nCo dělat\, když ráno těžko vstáváš a odpoledne už padáš únavou? \nNauč se konečně pořádně spát\, zkrotit závislost na cukru a získat energii\, která vydrží od rána do večera. \n2\,5 hodinový praktický masterclass webinář \nOnline záznam: Záznam k dispozici do 24 hodin po skončení. Ale protože věříme\, že nejlepší věci se dějí živě a jen jednou\, budeme rády\, když budeš s námi online a ne pouze ze záznamu. Do mailu přijde souhrnný přehledný materiál vč. cheat sheetů (taháků)\, které si můžeš vytisknout a dát třeba na lednici v hodnotě 590 Kč. \nDůležité upozornění:Odkaz na webinář najdeš v mailu. První email přijde ráno v den akce a pak ti přijdou remindery – 1 hodinu před akcí a další 15 minut před startem. Pokud email nenajdeš\, nezapomeň kouknout i do složky Hromadné\, Spam či Newsletters\, kam se emaily rády schovávají. \nKaždé ráno se cítíš\, jako by tě přejel vlak. A odpoledne už jen přežíváš? \nNení to normální. A dá se s tím něco dělat. \nMožná jsi už zkoušel/a dřív chodit spát\, pít víc kávy nebo sáhnout po energetických nápojích. A možná to chvíli pomohlo – jen aby se únava vrátila ještě silněji. \nKdyž nevíš\, PROČ ráno těžko vstáváš a odpoledne padáš\, jen to zhoršuješ. \nTady přichází ta dobrá zpráva:Výzkumy ukazují\, že kvalitní spánek dokáže zlepšit tvou energii a výkon až o 40 %\, stabilní hladina cukru v krvi ti dodá o 35 % víc energie a správná hydratace sníží únavu až o 30 %. To znamená\, že se konečně probudíš svěží\, přežiješ odpoledne bez kávy a večer ještě budeš mít sílu na to\, co tě baví. \nNení to o tom víc spát nebo pít víc kávy.Jen o tom pochopit\, co se děje v tvém těle – a pak to napravit. \nZajímavosti z výzkumů: \n\nKdyž špatně spíš\, tvé tělo produkuje víc ghrelinu (hormonu hladu) a míň leptinu (hormonu sytosti) – proto máš po špatné noci chuť na všechno sladké\nTvůj kortizol (stresový hormon) má být ráno nejvyšší a večer nejnižší – ale chronický stres a špatný spánek to úplně převrátí naruby\nUž po 3 dnech špatného spánku se tvé tělo začne chovat\, jako by mělo cukrovku – inzulinová rezistence je realita\n75 % lidí má nedostatek hořčíku\, což způsobuje únavu\, špatný spánek a bažení po cukru\n\n(A ano\, máme na to studie – ne jen Instagram posty.) \nPro koho je webinář vhodný? \n\nPro lidi\, kteří ráno těžko vstávají – i když spali celou noc\n\n\nPro ty\, co kolem třetí odpoledne padají únavou – a zachraňují se kávou nebo sladkým\n\n\nPro lidi\, kteří mají neustálou chuť na cukr – zvlášť když jsou unavení\n\n\nPro ty\, kteří večer špatně usínají – protože hlava nemůže vypnout\n\n\nPro každého\, kdo se budí v noci – a pak se těžko vrací zpět ke spánku\n\n\nPro ty\, kteří chtějí mít energii celý den – bez závislosti na kávě a sladkostech\n\nJe ti to povědomé? \n\nRáno těžko vstáváš – jako by ses vůbec nevyspal/a?\n\n\nBez ranní kávy to prostě nejde – a odpoledne potřebuješ další?\n\n\nKolem třetí odpoledne už padáš – a sáhneš po čemkoli sladkém nebo energetickém?\n\n\nVečer máš hlad na něco sladkého – i když jsi se najedl/a?\n\n\nHlava ti večer běží na plné obrátky – a nemůžeš usnout?\n\n\nV noci se budíš – a pak hodinu hledíš do stropu?\n\n\nCelý den se cítíš vyčerpaný/á – i když jsi skoro nic nedělal/a?\n\nNejsi na to sám/sama! Ranní únava\, odpolední propad a bažení po cukru jsou signály\, že tvé tělo něco potřebuje. A s porozuměním a správnými nástroji to můžeš konečně vyřešit – BEZ dramatických změn a s viditelnými výsledky. \nCo se ve webináři naučíš: \nPorozumíš\, proč ráno těžko vstáváš \n\nJak funguje cirkadiánní rytmus a proč je klíčem k tvé energii\nCo se děje s kortizolem během dne – a proč máš ráno mlhu a večer nemůžeš usnout\nJak spánek ovlivňuje hormony hladu (leptin\, ghrelin\, inzulin)\nProč po špatné noci bažíš po sladkém – a jak to ovlivňuje hladinu cukru v krvi\n\nPochopíš\, proč odpoledne padáš únavou \n\nOdkud se bere odpolední energetický propad – a jak s tím souvisí oběd\nCo způsobuje glukózové houpačky – a proč po nich padáš jako podťatý/á\nJak káva a cukr situaci zhoršují – místo aby pomáhaly\nCo dělat\, aby sis udržel/a energii po celý den\n\nNaučíš se kvalitně spát a mít stabilní energii \n\nProtokol pro kvalitní spánek (večerní rituály\, suplementy\, správný timing)\nJak nastavit cirkadiánní rytmus (ranní světlo\, večerní rutina\, teplota)\nJak zkrotit závislost na cukru – krok za krokem\, bez dramatů\nJak stabilizovat glukózu v krvi (jaké jídlo\, kdy a v jaké kombinaci)\nJak zvýšit energii přirozeně – bez nekonečných šálků kávy\n\nOsvojíš si správnou výživu pro energii \n\nJaké potraviny podporují kvalitní spánek (hořčík\, tryptofan\, GABA)\nJak jíst\, aby ses po obědě necítil/a jako po narkóze – glykemický index a kombinace potravin\nKteré doplňky stravy opravdu pomáhají (hořčík\, ashwagandha\, melatonin – a kdy je brát)\nJak správně načasovat kávu – aby ti pomáhala\, ne škodila\nPraktické tipy na jídelníček pro stabilní energii od rána do večera\n\nCo ti přinese kvalitní spánek a stabilní energie? \n✓ Konečně se probudíš svěží/á – žádná ranní mlha✓ Odpoledne přežiješ bez propadu – žádné zoufalé hledání kávy nebo sladkého✓ Přestaneš bažit po cukru – stabilní hladina cukru = stabilní nálada✓ Jasná hlava po celý den – žádná mozková mlha✓ Lepší nálada a méně úzkosti – spánek a kortizol ovlivňují tvou psychiku✓ Praktické návody\, které můžeš použít každý den✓ Důvěru v sebe a klid z toho\, že konečně víš\, jak na to \nProč se zúčastnit právě tohoto webináře? \n\nJdeme víc do hloubky než v našich podcastových dílech o spánku a energii\nKombinujeme farmakologické znalosti (Irena) s praktickými zkušenostmi (Míša\, Irena)\nŽádné obecné rady typu „spěte víc“ – jen konkrétní protokoly\, které opravdu fungují\nInteraktivní formát s možností ptát se během webináře\n2\,5 hodiny koncentrovaných informací s praktickými návody a 30 min na dotazy\nPDF materiály na doma – tahák na lednici\, seznam potravin a suplementů\n\nMáš konkrétní otázky? \nCo od webináře očekáváš? Napiš nám své otázky: \nAbychom naplnily tvá očekávání\, pomůže nám\, když nám dopředu pošleš své otázky nebo komentáře. Díky tomu se můžeme lépe připravit a odpovědět na co nejvíc z nich během webináře. \nNeboj\, i v průběhu webináře se samozřejmě můžeš doptávat\, abys odcházel/a s praktickými nástroji a mohl/a je začít používat hned následující den. \nDotazy nám můžeš položit zde  \nČasto kladené otázky (FAQ): \nMusím se zúčastnit živě?Ne\, ale doporučujeme to! Živě můžeš klást otázky a dostaneš odpovědi na míru. Pokud nemůžeš\, dostaneš záznam do 24 hodin. \nJak dlouho budu mít přístup k záznamu?Záznam ti zůstane trvale (minimálně 12 měsíců). \nJsou v ceně i PDF materiály?Ano! Dostaneš souhrnný přehled\, cheat sheety a 21denní protokol pro lepší spánek a energii (hodnota 590 Kč). \nJe webinář vhodný pro mě\, když mám zdravotní potíže?Na webináři se dozvíš\, jak podpořit svůj spánek a energii přirozeně. Pokud bereš léky nebo máš diagnostikované onemocnění\, vždy konzultuj se svým lékařem. \nPotřebuji nějaké speciální vybavení nebo suplementy?Ne! Ukážeme ti\, co funguje a jak na to – s tím\, co už možná máš doma. Suplementy jsou bonus\, ne podmínka. \nJe webinář vhodný i pro muže?Samozřejmě! Spánek\, kortizol a regulace cukru funguje stejně pro muže i ženy. \nTěšíme se na tebe! \nPharmDr. Irena Hončlová a Míša KačenaAutorky podcastu Hackni život \nKdo jsme: \nJsme autorky podcastu Hackni život a naším posláním je pomáhat lidem žít zdravěji\, šťastněji a produktivněji. \nProč vznikl tento webinář? V podcastu probíráme spoustu témat\, ale často nemáme prostor pro hlubší rozbor. Posluchači nás často žádají o konkrétní návody a praktické tipy. Proto jsme se rozhodly nabídnout možnost ponořit se hlouběji do klíčových témat a skutečně si zlepšit život. \nKaždý krůček se počítá! Naším cílem je\, abyste žili život naplno a co nejdéle v plné síle. \n  \n\nTento tip na kulturní akci v Online najdete v přehledu na KulturníRádce.cz spolu s dalšími koncerty\, festivaly a divadelními představeními.
URL:https://kulturniradce.cz/event/jak-ziskat-zpet-ztracenou-energii-a-dobre-se-vyspat/
LOCATION:YouTube\, Online\, YouTube\, Online\, Česká republika
CATEGORIES:Zábava
ATTACH;FMTTYPE=image/jpeg:https://kulturniradce.cz/wp-content/uploads/2026/03/320-82b054cd488b4393a6af6c0bb85578e8.jpg
END:VEVENT
BEGIN:VEVENT
DTSTART;TZID=Europe/Prague:20260412T180000
DTEND;TZID=Europe/Prague:20260412T210000
DTSTAMP:20260420T023501
CREATED:20260317T081404Z
LAST-MODIFIED:20260317T081405Z
UID:13160-1776016800-1776027600@kulturniradce.cz
SUMMARY:MUDr. Marie Skalská: Výživa mladého sportovce on-line
DESCRIPTION:MUDr. Marie Skalská: Výživa mladého sportovce on-line se uskuteční dne 2026-04-12 v 18:00 v Online\, Zoom. \n🎟️ Koupit vstupenku \n\nOblíbená přednáška v on-line verzi na živo určená zejména rodičům mladých sportovců\, trenérům mládeže\, mladým sportovcům samotným o výživě od A do Z.  \nO vlivu výživy na sportovní a mentální výkon mladého sportovce\, na jeho zdravotní prognozu. \nJak výživou zlepšovat výkon\, předcházet zranění a nemoci.  \n\nTento tip na kulturní akci v Online najdete v přehledu na KulturníRádce.cz spolu s dalšími koncerty\, festivaly a divadelními představeními.
URL:https://kulturniradce.cz/event/mudr-marie-skalska-vyziva-mladeho-sportovce-on-line-2/
LOCATION:Zoom\, Online\, Zoom\, Online\, Česká republika
CATEGORIES:Zábava
ATTACH;FMTTYPE=image/jpeg:https://kulturniradce.cz/wp-content/uploads/2026/03/320-e8561797edd84037822c4b0e19b3cb9d.jpg
END:VEVENT
BEGIN:VEVENT
DTSTART;TZID=Europe/Prague:20260322T180000
DTEND;TZID=Europe/Prague:20260322T210000
DTSTAMP:20260420T023501
CREATED:20260317T081405Z
LAST-MODIFIED:20260317T081405Z
UID:13163-1774202400-1774213200@kulturniradce.cz
SUMMARY:MUDr. Marie Skalská: Žena a wellbeing on-line
DESCRIPTION:MUDr. Marie Skalská: Žena a wellbeing on-line se uskuteční dne 2026-03-22 v 18:00 v Online\, Zoom. \n🎟️ Koupit vstupenku \n\n🌸 Žena a wellbeing – webinář o ženském zdraví\, hormonální rovnováze a životní pohodě 🌸 \nKomplexní webinář vedený lékařkou\, který propojuje nejnovější medicínské poznatky s praktickými tipy pro každodenní život ženy.Sestaven s největší laskavostí a pečlivostí na míru ženskému tělu\, duši i realitě. \n🩺 Dozvíte se: \n-co se děje s ženským tělem ve 30\, 40\, 50 i 60 letech \n-jak se mění hormony\, metabolismus a psychika \n-jak upravit jídelníček a pohyb podle fáze života \n-jaká pohybová aktivita prospívá ženskému organismu \n-jak zvládat stres\, dělat smysluplnou prevenci a podpořit zdravé hubnutí \n-kdy má smysl hormonální substituce a jaké doplňky stravy skutečně fungují \n💬 Stovky žen\, které už webinář absolvovaly\, ho hodnotí jako nesmírně přínosný a smysluplný – mnohé říkají\, že by ho měla slyšet každá žena. \n✨ Přijďte si porozumět svému tělu\, hormonům i emocím — odborně\, srozumitelně a s laskavostí.Protože ženské tělo není problém k vyřešení\, ale příběh\, který stojí za to poslouchat. \n\nTento tip na kulturní akci v Online najdete v přehledu na KulturníRádce.cz spolu s dalšími koncerty\, festivaly a divadelními představeními.
URL:https://kulturniradce.cz/event/mudr-marie-skalska-zena-a-wellbeing-on-line-3/
LOCATION:Zoom\, Online\, Zoom\, Online\, Česká republika
CATEGORIES:Zábava
ATTACH;FMTTYPE=image/jpeg:https://kulturniradce.cz/wp-content/uploads/2026/03/320-4f7c6a84308f4ef0ba571a6f3079d3b3.jpg
END:VEVENT
BEGIN:VEVENT
DTSTART;TZID=Europe/Prague:20260118T180000
DTEND;TZID=Europe/Prague:20260118T210000
DTSTAMP:20260420T023501
CREATED:20251209T190147Z
LAST-MODIFIED:20251209T190148Z
UID:7476-1768759200-1768770000@kulturniradce.cz
SUMMARY:MUDr. Marie Skalská: Výživa mladého sportovce on-line
DESCRIPTION:MUDr. Marie Skalská: Výživa mladého sportovce on-line se uskuteční dne 2026-01-18 v 18:00 v Online\, Zoom. \n🎟️ Koupit vstupenku \n\nOblíbená přednáška v on-line verzi na živo určená zejména rodičům mladých sportovců\, trenérům mládeže\, mladým sportovcům samotným o výživě od A do Z.  \nO vlivu výživy na sportovní a mentální výkon mladého sportovce\, na jeho zdravotní prognozu. \nJak výživou zlepšovat výkon\, předcházet zranění a nemoci.  \n\nTento tip na kulturní akci v Online najdete v přehledu na KulturníRádce.cz spolu s dalšími koncerty\, festivaly a divadelními představeními.
URL:https://kulturniradce.cz/event/mudr-marie-skalska-vyziva-mladeho-sportovce-on-line/
LOCATION:Zoom\, Online\, Zoom\, Online\, Česká republika
CATEGORIES:Zábava
ATTACH;FMTTYPE=image/jpeg:https://kulturniradce.cz/wp-content/uploads/2025/12/320-866af3f8c8a448a6ba720b5b61b8e23f.jpg
END:VEVENT
BEGIN:VEVENT
DTSTART;TZID=Europe/Prague:20260111T180000
DTEND;TZID=Europe/Prague:20260111T210000
DTSTAMP:20260420T023501
CREATED:20251214T091731Z
LAST-MODIFIED:20251214T091731Z
UID:8392-1768154400-1768165200@kulturniradce.cz
SUMMARY:MUDr. Marie Skalská: Žena a wellbeing on-line
DESCRIPTION:MUDr. Marie Skalská: Žena a wellbeing on-line se uskuteční dne 2026-01-11 v 18:00 v Online\, Zoom. \n🎟️ Koupit vstupenku \n\n🌸 Žena a wellbeing – webinář o ženském zdraví\, hormonální rovnováze a životní pohodě 🌸 \nKomplexní webinář vedený lékařkou\, který propojuje nejnovější medicínské poznatky s praktickými tipy pro každodenní život ženy.Sestaven s největší laskavostí a pečlivostí na míru ženskému tělu\, duši i realitě. \n🩺 Dozvíte se: \n-co se děje s ženským tělem ve 30\, 40\, 50 i 60 letech \n-jak se mění hormony\, metabolismus a psychika \n-jak upravit jídelníček a pohyb podle fáze života \n-jak zvládat stres\, dělat smysluplnou prevenci a podpořit zdravé hubnutí \n-kdy má smysl hormonální substituce a jaké doplňky stravy skutečně fungují \n💬 Stovky žen\, které už webinář absolvovaly\, ho hodnotí jako nesmírně přínosný a smysluplný – mnohé říkají\, že by ho měla slyšet každá žena. \n✨ Přijďte si porozumět svému tělu\, hormonům i emocím — odborně\, srozumitelně a s laskavostí.Protože ženské tělo není problém k vyřešení\, ale příběh\, který stojí za to poslouchat. \n\nTento tip na kulturní akci v Online najdete v přehledu na KulturníRádce.cz spolu s dalšími koncerty\, festivaly a divadelními představeními.
URL:https://kulturniradce.cz/event/mudr-marie-skalska-zena-a-wellbeing-on-line-2/
LOCATION:Zoom\, Online\, Zoom\, Online\, Česká republika
CATEGORIES:Zábava
ATTACH;FMTTYPE=image/jpeg:https://kulturniradce.cz/wp-content/uploads/2025/12/320-b724d5ef4f404b25a5d454f187ac3707.jpg
END:VEVENT
BEGIN:VEVENT
DTSTART;TZID=Europe/Prague:20251121T100100
DTEND;TZID=Europe/Prague:20251121T130100
DTSTAMP:20260420T023501
CREATED:20250930T064627Z
LAST-MODIFIED:20250930T064627Z
UID:3267-1763719260-1763730060@kulturniradce.cz
SUMMARY:8th Conference Exopolitics\, History & Spirituality 2025
DESCRIPTION:8th Conference Exopolitics\, History & Spirituality 2025 se uskuteční dne 2025-11-21 v 10:01 v Praha\, Kino Dlabačov. \n🎟️ Koupit vstupenku \n\nPokud tohle přečteš\, kup si vstupenku v češtině. \nPROGRAMThe news platform Sueneé Universe is organizing the 8th International Conference of UFO\, Exopolitics\, History and Spirituality on the topic NON-HUMAN INTELIGENCE AND CONSCIOUS UNIVERSE. It takes place in Dlabačov\, Prague (Czech Republic) on the days of 21st\, 22nd and 23rd November 2025. \nFOREIGN SPEAKERS: \n\nRobert Bernatowicz (Live) 🇵🇱\nGeorg Boch (Live) 🇩🇪\nAnthony Choy (Online) 🇵🇪\nFrancisco Corrêa (Live) 🇵🇹\nRenate Fossdal Erdal (Live) 🇳🇴\nOona Soleil Fergusson (Live) 🇮🇪\nAlan Foster (Online) 🇬🇧\nArmando Mei (Online) 🇮🇹\nJoanna Summerscales (Online) 🇬🇧\n\nTHE CZECH SPEAKERS ARE TRANSLATED TO ENGLISH! \n\nSueneé (exopolitics)\, Alexandra McKenzie (science of consciousness)\, Jarek Doležel (ancient history)\, Áda Inneman (astronomy)\, Jan Rak (quantum physics) and many\, many others! 🇨🇿\n\nAll of the main program is available in Czech and English. The additional program in the small teahouse is ONLY in Czech. \nYou can attend in person at the Dlabačov (Prague) or online (YouTube). \nCo-create a new universe with us!  \nTa Ura will be the host on the main stage\, Aleš will be interviewing guests and speakers on the Red Carpet\, and the director fo the conference\, Sueneé\, will join them. \nADDITIONAL DISCLAIMER ABOUT TRANSLATION: \nForeign speakers present in English. Czech and Slovak guests in their native language. Continuous translation of the whole program into English is provided on the Main Stage. We do not provide translation of lectures in the Tea Room. \nMore information can be found at www.ufokonference.cz/en. \n\nTento tip na kulturní akci v Praha najdete v přehledu na KulturníRádce.cz spolu s dalšími koncerty\, festivaly a divadelními představeními.
URL:https://kulturniradce.cz/event/8th-conference-exopolitics-history-spirituality-2025/
LOCATION:Kino Dlabačov\, Praha\, Kino Dlabačov\, Praha\, Česká republika
CATEGORIES:Koncert
ATTACH;FMTTYPE=image/jpeg:https://kulturniradce.cz/wp-content/uploads/2025/09/320-2078c691a91d47f6aea2bcbcb963982a.jpg
END:VEVENT
BEGIN:VEVENT
DTSTART;TZID=Europe/Prague:20251121T100000
DTEND;TZID=Europe/Prague:20251121T130000
DTSTAMP:20260420T023501
CREATED:20250921T074937Z
LAST-MODIFIED:20250921T074938Z
UID:715-1763719200-1763730000@kulturniradce.cz
SUMMARY:8. Mezinárodní konference Sueneé Universe 2025
DESCRIPTION:8. Mezinárodní konference Sueneé Universe 2025 se uskuteční dne 2025-11-21 v 10:00 v Praha\, Kino Dlabačov. \n🎟️ Koupit vstupenku \n\nIf you don’t understand Czech\, buy a ticket in English. \nZpravodajský server Sueneé Universe  pořádá v Praze o víkendu 21.11. až 23.11. od 10:00 již 8. Mezinárodní konferenci exopolitiky\, historie a spirituality na téma MIMOZENMŠŤANÉ A VĚDOMÝ VESMÍR. Více informací najde od 01.02.2024 na stránkách www.ufokonference.cz. \n  \nRÁMCOVÝ PROGRAM \nPátek: 10:00 až 21:00Sobota: 08:00 až 20:00 (následuje koncert: Mantrovníci)Neděle: 08:00 až 18:00 \nPodrobný program včetně přednášejících pro vás připravujeme!==== \nOd 24.11.2025 vám bude k dispozici původní záznam živého přenosu. \n\nTento tip na kulturní akci v Praha najdete v přehledu na KulturníRádce.cz spolu s dalšími koncerty\, festivaly a divadelními představeními.
URL:https://kulturniradce.cz/event/8-mezinarodni-konference-suenee-universe-2025/
LOCATION:Kino Dlabačov\, Praha\, Kino Dlabačov\, Praha\, Česká republika
CATEGORIES:Koncert
ATTACH;FMTTYPE=image/jpeg:https://kulturniradce.cz/wp-content/uploads/2025/09/320-8668b7fef5f44200ad65e0e11eddf273.jpg
END:VEVENT
BEGIN:VEVENT
DTSTART;TZID=Europe/Prague:20251019T180000
DTEND;TZID=Europe/Prague:20251019T210000
DTSTAMP:20260420T023501
CREATED:20251002T170957Z
LAST-MODIFIED:20251002T170957Z
UID:4652-1760896800-1760907600@kulturniradce.cz
SUMMARY:MUDr. Marie Skalská: Žena a wellbeing on-line
DESCRIPTION:MUDr. Marie Skalská: Žena a wellbeing on-line se uskuteční dne 2025-10-19 v 18:00 v Online\, Zoom. \n🎟️ Koupit vstupenku \n\nKomplexní webinář sestavený s největší laskavostí a pečlivostí na míru ženám. \nWebinář o tom\, co vám nestihl říci váš praktický lékař\, gynekolog\, dermatolog\, fitness trenér\, nutriční specialista\, psychoterapeut ani kadeřník. \nWebinář s praktickými tipy\, jak opečovat ženské tělo i duši.  \nNa webináři se dozvíte:  \n\nco se děje s ženským tělem ve 30\, 40\, 50\, 60 letech\nžena a jídelníček\nžena a cvičení \nžena a stres\nžena a zdravotní prevence\nžena a hubnutí \nžena a hormony\nžena a hormonální substituce\nžena a doplňky stravy\nco vše prakticky a konkrétně dělat\, aby nám bylo dobře psychicky i fyzicky\n\n  \n\nTento tip na kulturní akci v Online najdete v přehledu na KulturníRádce.cz spolu s dalšími koncerty\, festivaly a divadelními představeními.
URL:https://kulturniradce.cz/event/mudr-marie-skalska-zena-a-wellbeing-on-line/
LOCATION:Zoom\, Online\, Zoom\, Online\, Česká republika
CATEGORIES:Zábava
ATTACH;FMTTYPE=image/jpeg:https://kulturniradce.cz/wp-content/uploads/2025/10/320-4f1f0306fd924d51b551a343e0a8b983.jpg
END:VEVENT
BEGIN:VEVENT
DTSTART;TZID=Europe/Prague:20250101T000000
DTEND;TZID=Europe/Prague:20250101T030000
DTSTAMP:20260420T023501
CREATED:20251214T083529Z
LAST-MODIFIED:20251214T083530Z
UID:8375-1735689600-1735700400@kulturniradce.cz
SUMMARY:DÁRKOVÝ POUKAZ na nákup vstupenek
DESCRIPTION:DÁRKOVÝ POUKAZ na nákup vstupenek se uskuteční dne 2025-01-01 v 00:00 v Online\, smsticket. \n🎟️ Koupit vstupenku \n\nDárkové vouchery smsticket \nDárkový poukaz (voucher) na nákup vstupenek\, který lze uplatnit na jakoukoliv akci z naší nabídky.  \nParádní dárek i na poslední chvíli! \nStačí si vybrat hodnotu a počet poukazů a zaplatit. Následně Vám na email dorazí elektronický poukaz (nebo i několik najednou) v pdf souboru\, který jednoduše vytisknete a krásný dárek je připraven. \nObdarovaný pak kdykoliv nalezne v nabídce smsticketu několik tisíc akcí jako jsou festivaly\, koncerty\, divadelní představení\, kina\, výstavy\, workshopy i vzdělávací přednášky. Nabídka se každý den rozšiřuje o další a další akce z celé České republiky.  \nDlouhá platnost a žádné riziko \nPlatnost zakoupeného poukazu je do 31.12.2026 a lze jej použít na jakýkoliv nákup vstupenek z nabídky smsticketu. Pro aplikování voucheru stačí během objednávky vstupenek vložit unikátní kód poukazu do kolonky „Voucher“. Tuto kolonku naleznete v nákupním kroku Platební metody. Následně se Vám cena vstupenek poníží o hodnotu Vašeho voucheru. Voucher je možné vyčerpat pouze jednorázovým nákupem. \n\nTento tip na kulturní akci v Online najdete v přehledu na KulturníRádce.cz spolu s dalšími koncerty\, festivaly a divadelními představeními.
URL:https://kulturniradce.cz/event/darkovy-poukaz-na-nakup-vstupenek/
LOCATION:smsticket\, Online\, smsticket\, Online\, Česká republika
CATEGORIES:Zábava
ATTACH;FMTTYPE=image/jpeg:https://kulturniradce.cz/wp-content/uploads/2025/12/320-df50b46ceca34c4ab0d632c132f7ee9d.jpg
END:VEVENT
END:VCALENDAR