BEGIN:VCALENDAR
VERSION:2.0
PRODID:-//www.kulturniradce.cz - ECPv6.15.20//NONSGML v1.0//EN
CALSCALE:GREGORIAN
METHOD:PUBLISH
X-ORIGINAL-URL:https://kulturniradce.cz
X-WR-CALDESC:Akce na www.kulturniradce.cz
REFRESH-INTERVAL;VALUE=DURATION:PT1H
X-Robots-Tag:noindex
X-PUBLISHED-TTL:PT1H
BEGIN:VTIMEZONE
TZID:Europe/Prague
BEGIN:DAYLIGHT
TZOFFSETFROM:+0100
TZOFFSETTO:+0200
TZNAME:CEST
DTSTART:20250330T010000
END:DAYLIGHT
BEGIN:STANDARD
TZOFFSETFROM:+0200
TZOFFSETTO:+0100
TZNAME:CET
DTSTART:20251026T010000
END:STANDARD
BEGIN:DAYLIGHT
TZOFFSETFROM:+0100
TZOFFSETTO:+0200
TZNAME:CEST
DTSTART:20260329T010000
END:DAYLIGHT
BEGIN:STANDARD
TZOFFSETFROM:+0200
TZOFFSETTO:+0100
TZNAME:CET
DTSTART:20261025T010000
END:STANDARD
BEGIN:DAYLIGHT
TZOFFSETFROM:+0100
TZOFFSETTO:+0200
TZNAME:CEST
DTSTART:20270328T010000
END:DAYLIGHT
BEGIN:STANDARD
TZOFFSETFROM:+0200
TZOFFSETTO:+0100
TZNAME:CET
DTSTART:20271031T010000
END:STANDARD
END:VTIMEZONE
BEGIN:VEVENT
DTSTART;TZID=Europe/Prague:20260429T190000
DTEND;TZID=Europe/Prague:20260429T220000
DTSTAMP:20260420T024606
CREATED:20260306T162745Z
LAST-MODIFIED:20260306T162745Z
UID:11926-1777489200-1777500000@kulturniradce.cz
SUMMARY:KUDY BĚŽÍ ZAJÍC LIVE
DESCRIPTION:KUDY BĚŽÍ ZAJÍC LIVE se uskuteční dne 2026-04-29 v 19:00 v Praha\, Kongresové centrum. \n🎟️ Koupit vstupenku \n\nKUDY BĚŽÍ ZAJÍC LIVE – Praha \nKonečně se podařilo přesvědčit Vacína\, že svět nekončí u sámošky na konci karlínské ulice. Vyrážíme do Prahy\, abychom rozebrali náladu před posledními koly letošního fotbalového ročníku. \nNa paškál si vezmeme kandidáty na ligový titul\, boj o evropské poháry\, letošní sestupující a samozřejmě nezůstaneme nic dlužni ani reprezentaci. \nChceš vidět kluky naživo\, pobavit se jejich historkami a zažít večer\, který má větší šťávu než sobotní zápas na umělce? Ondru v roli ďáblova advokáta\, Vacína mimo jeho domovský Karlín\, Folpiho pokusy o absolutní freestyle dominanci nebo Podryho filozofické úvahy o stavu fotbalu – tentokrát bez nutnosti stát přímo na trávníku druholigového stadionu? \nTak doraz na KUDY BĚŽÍ ZAJÍC LIVE v Praze. Čeká tě večer plný fotbalu\, smíchu a dobré nálady v duchu Zajíce. 🍺🎤 \n\nTento tip na kulturní akci v Praha najdete v přehledu na KulturníRádce.cz spolu s dalšími koncerty\, festivaly a divadelními představeními.
URL:https://kulturniradce.cz/event/kudy-bezi-zajic-live/
LOCATION:Kongresové centrum\, Praha\, Kongresové centrum\, Praha\, Česká republika
CATEGORIES:Zábava
ATTACH;FMTTYPE=image/jpeg:https://kulturniradce.cz/wp-content/uploads/2026/03/320-6e61d3bc58a24dccbde84a6f072ce287.jpg
END:VEVENT
END:VCALENDAR