BEGIN:VCALENDAR
VERSION:2.0
PRODID:-//www.kulturniradce.cz - ECPv6.15.20//NONSGML v1.0//EN
CALSCALE:GREGORIAN
METHOD:PUBLISH
X-WR-CALNAME:www.kulturniradce.cz
X-ORIGINAL-URL:https://kulturniradce.cz
X-WR-CALDESC:Akce na www.kulturniradce.cz
REFRESH-INTERVAL;VALUE=DURATION:PT1H
X-Robots-Tag:noindex
X-PUBLISHED-TTL:PT1H
BEGIN:VTIMEZONE
TZID:Europe/Prague
BEGIN:DAYLIGHT
TZOFFSETFROM:+0100
TZOFFSETTO:+0200
TZNAME:CEST
DTSTART:20250330T010000
END:DAYLIGHT
BEGIN:STANDARD
TZOFFSETFROM:+0200
TZOFFSETTO:+0100
TZNAME:CET
DTSTART:20251026T010000
END:STANDARD
BEGIN:DAYLIGHT
TZOFFSETFROM:+0100
TZOFFSETTO:+0200
TZNAME:CEST
DTSTART:20260329T010000
END:DAYLIGHT
BEGIN:STANDARD
TZOFFSETFROM:+0200
TZOFFSETTO:+0100
TZNAME:CET
DTSTART:20261025T010000
END:STANDARD
BEGIN:DAYLIGHT
TZOFFSETFROM:+0100
TZOFFSETTO:+0200
TZNAME:CEST
DTSTART:20270328T010000
END:DAYLIGHT
BEGIN:STANDARD
TZOFFSETFROM:+0200
TZOFFSETTO:+0100
TZNAME:CET
DTSTART:20271031T010000
END:STANDARD
END:VTIMEZONE
BEGIN:VEVENT
DTSTART;TZID=Europe/Prague:20260512T190000
DTEND;TZID=Europe/Prague:20260512T220000
DTSTAMP:20260420T040426
CREATED:20260317T081135Z
LAST-MODIFIED:20260317T081139Z
UID:13138-1778612400-1778623200@kulturniradce.cz
SUMMARY:Paměť národa | Dobrovský & Šídlo
DESCRIPTION:Paměť národa | Dobrovský & Šídlo se uskuteční dne 2026-05-12 v 19:00 v Litomyšl\, MC Kotelna. \n🎟️ Koupit vstupenku \n\n18:30 open19:00 začátek \n Natáčení podcastu Dobrovský & Šídlo v Litomyšli! \nPřijďte na pravidelnou dávku názorů\, vzpomínek\, informací a sentimentu. Od devadesátých let po současnost – čím jsme si prošli a jak jsme to přežili? Unikátní mix politiky a historie v podání předsedy Kolegia Paměti národa Jana Dobrovského a novináře Jindřicha Šídla. \n\nTento tip na kulturní akci v Litomyšl najdete v přehledu na KulturníRádce.cz spolu s dalšími koncerty\, festivaly a divadelními představeními.
URL:https://kulturniradce.cz/event/pamet-naroda-dobrovsky-sidlo/
LOCATION:MC Kotelna\, Litomyšl\, MC Kotelna\, Litomyšl\, Česká republika
CATEGORIES:Zábava
ATTACH;FMTTYPE=image/jpeg:https://kulturniradce.cz/wp-content/uploads/2026/03/320-c92294380377400a82996d570350a62a.jpg
END:VEVENT
END:VCALENDAR