BEGIN:VCALENDAR
VERSION:2.0
PRODID:-//www.kulturniradce.cz - ECPv6.15.20//NONSGML v1.0//EN
CALSCALE:GREGORIAN
METHOD:PUBLISH
X-WR-CALNAME:www.kulturniradce.cz
X-ORIGINAL-URL:https://kulturniradce.cz
X-WR-CALDESC:Akce na www.kulturniradce.cz
REFRESH-INTERVAL;VALUE=DURATION:PT1H
X-Robots-Tag:noindex
X-PUBLISHED-TTL:PT1H
BEGIN:VTIMEZONE
TZID:Europe/Prague
BEGIN:DAYLIGHT
TZOFFSETFROM:+0100
TZOFFSETTO:+0200
TZNAME:CEST
DTSTART:20250330T010000
END:DAYLIGHT
BEGIN:STANDARD
TZOFFSETFROM:+0200
TZOFFSETTO:+0100
TZNAME:CET
DTSTART:20251026T010000
END:STANDARD
BEGIN:DAYLIGHT
TZOFFSETFROM:+0100
TZOFFSETTO:+0200
TZNAME:CEST
DTSTART:20260329T010000
END:DAYLIGHT
BEGIN:STANDARD
TZOFFSETFROM:+0200
TZOFFSETTO:+0100
TZNAME:CET
DTSTART:20261025T010000
END:STANDARD
BEGIN:DAYLIGHT
TZOFFSETFROM:+0100
TZOFFSETTO:+0200
TZNAME:CEST
DTSTART:20270328T010000
END:DAYLIGHT
BEGIN:STANDARD
TZOFFSETFROM:+0200
TZOFFSETTO:+0100
TZNAME:CET
DTSTART:20271031T010000
END:STANDARD
END:VTIMEZONE
BEGIN:VEVENT
DTSTART;TZID=Europe/Prague:20260527T190000
DTEND;TZID=Europe/Prague:20260527T220000
DTSTAMP:20260420T040412
CREATED:20260208T142901Z
LAST-MODIFIED:20260208T142901Z
UID:10615-1779908400-1779919200@kulturniradce.cz
SUMMARY:Podcast Zjisti víc v Praze: Záhady a nevysvětlené jevy
DESCRIPTION:Podcast Zjisti víc v Praze: Záhady a nevysvětlené jevy se uskuteční dne 2026-05-27 v 19:00 v Praha\, Kino 35. \n🎟️ Koupit vstupenku \n\nDalší živák podcastu Zjisti víc je tady! \nDo parády si vezmeme téma „Záhady a nevysvětlené jevy“ a pěkně si ho rozebereme tak\, jak jste u nás zvyklí – do hloubky\, s nadhledem a spoustou konkrétních případů. \nV rámci živáku vám také rádi odpovíme na otázky\, popovídáme si\, podepíšeme se a tak podobně. \nO lístky je vždycky velký zájem\, doporučujeme je tedy koupit co nejdříve. \nTěšíme se na vás! \nDavid a Kuba \n\nTento tip na kulturní akci v Praha najdete v přehledu na KulturníRádce.cz spolu s dalšími koncerty\, festivaly a divadelními představeními.
URL:https://kulturniradce.cz/event/podcast-zjisti-vic-v-praze-zahady-a-nevysvetlene-jevy/
LOCATION:Kino 35\, Praha\, Kino 35\, Praha\, Česká republika
CATEGORIES:Zábava
ATTACH;FMTTYPE=image/jpeg:https://kulturniradce.cz/wp-content/uploads/2026/02/320-6e0bb95d8bd74c36af61b065c526a3ac.jpg
END:VEVENT
END:VCALENDAR