BEGIN:VCALENDAR
VERSION:2.0
PRODID:-//www.kulturniradce.cz - ECPv6.15.20//NONSGML v1.0//EN
CALSCALE:GREGORIAN
METHOD:PUBLISH
X-WR-CALNAME:www.kulturniradce.cz
X-ORIGINAL-URL:https://kulturniradce.cz
X-WR-CALDESC:Akce na www.kulturniradce.cz
REFRESH-INTERVAL;VALUE=DURATION:PT1H
X-Robots-Tag:noindex
X-PUBLISHED-TTL:PT1H
BEGIN:VTIMEZONE
TZID:Europe/Prague
BEGIN:DAYLIGHT
TZOFFSETFROM:+0100
TZOFFSETTO:+0200
TZNAME:CEST
DTSTART:20250330T010000
END:DAYLIGHT
BEGIN:STANDARD
TZOFFSETFROM:+0200
TZOFFSETTO:+0100
TZNAME:CET
DTSTART:20251026T010000
END:STANDARD
BEGIN:DAYLIGHT
TZOFFSETFROM:+0100
TZOFFSETTO:+0200
TZNAME:CEST
DTSTART:20260329T010000
END:DAYLIGHT
BEGIN:STANDARD
TZOFFSETFROM:+0200
TZOFFSETTO:+0100
TZNAME:CET
DTSTART:20261025T010000
END:STANDARD
BEGIN:DAYLIGHT
TZOFFSETFROM:+0100
TZOFFSETTO:+0200
TZNAME:CEST
DTSTART:20270328T010000
END:DAYLIGHT
BEGIN:STANDARD
TZOFFSETFROM:+0200
TZOFFSETTO:+0100
TZNAME:CET
DTSTART:20271031T010000
END:STANDARD
END:VTIMEZONE
BEGIN:VEVENT
DTSTART;TZID=Europe/Prague:20260423T173000
DTEND;TZID=Europe/Prague:20260423T203000
DTSTAMP:20260420T030212
CREATED:20260404T073159Z
LAST-MODIFIED:20260404T073200Z
UID:13334-1776965400-1776976200@kulturniradce.cz
SUMMARY:Stát. úřad pro věci církevní a jeho úředníci: Akce (V)K 1950
DESCRIPTION:Stát. úřad pro věci církevní a jeho úředníci: Akce (V)K 1950 se uskuteční dne 2026-04-23 v 17:30 v Police nad Metují\, Klášter. \n🎟️ Koupit vstupenku \n\nPřednáška na základě podrobné rešerše archivních pramenů\, uložených zejména v Archivu bezpečnostních složek\, přiblíží vznik a začátek fungování Státního úřadu pro věci církevní\, „ministerstva pro církve“\, založeného roku 1949. Představí jeho nejvyšší úředníky (mj. prostřednictvím osobních medailonků) a základní strukturu úřadu ‒ jednotlivé odbory a jejich kompetence\, zejména ve spojitosti a s důrazem na jejich činnost při rušení klášterů (Akci K) a při následném vyklízení umělecko-historického mobiliáře z nich (Akci VK). \nDemonstrována bude těžkopádnost chodu úřadu založeného Alexejem Čepičkou a následně vedeného Zdeňkem Fierlingerem\, podrobněji nahlédneme do kompetenčních sporů i osobních střetů klíčových úředníků\, jež měly dopad na způsob provedení akce zrušení a vyklizení klášterů. Pozornost bude věnována i archivním pramenům jako takovým – vysvětlení jejich specifického charakteru a způsobu jejich interpretace.   \n\nTento tip na kulturní akci v Police nad Metují najdete v přehledu na KulturníRádce.cz spolu s dalšími koncerty\, festivaly a divadelními představeními.
URL:https://kulturniradce.cz/event/stat-urad-pro-veci-cirkevni-a-jeho-urednici-akce-vk-1950/
LOCATION:Klášter\, Police nad Metují\, Klášter\, Police nad Metují\, Česká republika
CATEGORIES:Zábava
ATTACH;FMTTYPE=image/jpeg:https://kulturniradce.cz/wp-content/uploads/2026/04/320-aeb0cd239a3f4a9c9e1a0bcc5eb646f8.jpg
END:VEVENT
BEGIN:VEVENT
DTSTART;TZID=Europe/Prague:20260409T173000
DTEND;TZID=Europe/Prague:20260409T203000
DTSTAMP:20260420T030213
CREATED:20260404T182434Z
LAST-MODIFIED:20260404T182437Z
UID:13338-1775755800-1775766600@kulturniradce.cz
SUMMARY:Benediktinský klášter v Broumově a tzv. Benešovy dekrety
DESCRIPTION:Benediktinský klášter v Broumově a tzv. Benešovy dekrety se uskuteční dne 2026-04-09 v 17:30 v Police nad Metují\, Klášter. \n🎟️ Koupit vstupenku \n\nV úzké tematické návaznosti na březnovou přednášku (Politicko-hospodářská situace mužských řeholních rodin v letech 1945-1949\, Čtvrtek12. 3. 2026 od 17:30 hod v Refektáři\, Klášter Police nad Metují) se budeme podrobně věnovat tématu tzv. Benešových dekretů (dekrety prezidenta republiky)\, a to konkrétně v souvislosti se snahou o konfiskaci majetků benediktinského opatství v Broumově. Vysvětlena bude předválečná a těsně poválečné personální situace kláštera (rozdělení opatství Břevnov-Broumov v roce 1939\, odsun německých řeholníků z Broumova\, příchod amerických benediktinů do Broumova) a její dopady na politické a hospodářské postavení opatství po druhé světové válce. Krom podrobného vylíčení pokusů o konfiskaci broumovských majetků v letech 1945-1946 se také zmíníme o postoji místních politických orgánů k benediktinským pozemkovým majetkům na Policku po únoru 1948. To vše opět na základě archivních dokumentů. \n\nTento tip na kulturní akci v Police nad Metují najdete v přehledu na KulturníRádce.cz spolu s dalšími koncerty\, festivaly a divadelními představeními.
URL:https://kulturniradce.cz/event/benediktinsky-klaster-v-broumove-a-tzv-benesovy-dekrety/
LOCATION:Klášter\, Police nad Metují\, Klášter\, Police nad Metují\, Česká republika
CATEGORIES:Zábava
ATTACH;FMTTYPE=image/jpeg:https://kulturniradce.cz/wp-content/uploads/2026/04/320-5a5a662c362a47b8a68b3a45cd2048ca.jpg
END:VEVENT
BEGIN:VEVENT
DTSTART;TZID=Europe/Prague:20260304T173000
DTEND;TZID=Europe/Prague:20260304T203000
DTSTAMP:20260420T030213
CREATED:20260119T183604Z
LAST-MODIFIED:20260119T183607Z
UID:9357-1772645400-1772656200@kulturniradce.cz
SUMMARY:Šansonárium s Miloněm Čepelkou
DESCRIPTION:Šansonárium s Miloněm Čepelkou se uskuteční dne 2026-03-04 v 17:30 v Police nad Metují\, Klášter. \n🎟️ Koupit vstupenku \n\nŠansonárium je jedinečný večer propojující humor\, hudbu a poezii. Koncertní písňový recitál s texty legendárního cimrmanologa a básníka Miloňe Čepelky zpívá šansoniérka Eliška Lüftnerová.Slovem provází od klavíru autor hudby Patrik Ulrich\, který je rovněž režisérem televizních projektů Štace Miloně Čepelky a Stopy Járy Cimrmana. Uslyšíte nové autorské šansony o životě i smrti\, o lásce a nenávisti\, o radosti a smutku.Součástí večera je také autorské čtení Miloňe Čepelky – výběr z jeho povídek\, básní a fejetonů. \n\nTento tip na kulturní akci v Police nad Metují najdete v přehledu na KulturníRádce.cz spolu s dalšími koncerty\, festivaly a divadelními představeními.
URL:https://kulturniradce.cz/event/sansonarium-s-milonem-cepelkou/
LOCATION:Klášter\, Police nad Metují\, Klášter\, Police nad Metují\, Česká republika
CATEGORIES:Koncert
ATTACH;FMTTYPE=image/jpeg:https://kulturniradce.cz/wp-content/uploads/2026/01/320-75857200e72e4e55aeeb82f9c42b6081.jpg
END:VEVENT
END:VCALENDAR