BEGIN:VCALENDAR
VERSION:2.0
PRODID:-//www.kulturniradce.cz - ECPv6.15.20//NONSGML v1.0//EN
CALSCALE:GREGORIAN
METHOD:PUBLISH
X-WR-CALNAME:www.kulturniradce.cz
X-ORIGINAL-URL:https://kulturniradce.cz
X-WR-CALDESC:Akce na www.kulturniradce.cz
REFRESH-INTERVAL;VALUE=DURATION:PT1H
X-Robots-Tag:noindex
X-PUBLISHED-TTL:PT1H
BEGIN:VTIMEZONE
TZID:Europe/Prague
BEGIN:DAYLIGHT
TZOFFSETFROM:+0100
TZOFFSETTO:+0200
TZNAME:CEST
DTSTART:20240331T010000
END:DAYLIGHT
BEGIN:STANDARD
TZOFFSETFROM:+0200
TZOFFSETTO:+0100
TZNAME:CET
DTSTART:20241027T010000
END:STANDARD
BEGIN:DAYLIGHT
TZOFFSETFROM:+0100
TZOFFSETTO:+0200
TZNAME:CEST
DTSTART:20250330T010000
END:DAYLIGHT
BEGIN:STANDARD
TZOFFSETFROM:+0200
TZOFFSETTO:+0100
TZNAME:CET
DTSTART:20251026T010000
END:STANDARD
BEGIN:DAYLIGHT
TZOFFSETFROM:+0100
TZOFFSETTO:+0200
TZNAME:CEST
DTSTART:20260329T010000
END:DAYLIGHT
BEGIN:STANDARD
TZOFFSETFROM:+0200
TZOFFSETTO:+0100
TZNAME:CET
DTSTART:20261025T010000
END:STANDARD
END:VTIMEZONE
BEGIN:VEVENT
DTSTART;TZID=Europe/Prague:20251216T190000
DTEND;TZID=Europe/Prague:20251216T220000
DTSTAMP:20260419T190935
CREATED:20250921T194532Z
LAST-MODIFIED:20250921T194532Z
UID:1531-1765911600-1765922400@kulturniradce.cz
SUMMARY:Martin Hranáč - CRAZY SHOW - Slavkov u Brna
DESCRIPTION:Martin Hranáč – CRAZY SHOW – Slavkov u Brna se uskuteční dne 2025-12-16 v 19:00 v Slavkov u Brna\, Společenské centrum Bonaparte. \n🎟️ Koupit vstupenku \n\nChcete vstoupit do světa humoru a improvizace? Tak je CRAZY SHOW právě pro VÁS! Připravte se na nezapomenutelný večer plný smíchu s Martinem Hranáčem – komikem\, hercem\, číšníkem a optimistou\, který svým jedinečným smyslem pro humor baví lidi na sociálních sítích. Martinův příběh číšníka a jeho každodenní zážitky z gastronomie se stávají zábavným vyprávěním\, které osloví naprosto všechny. \nKaždé vystoupení je unikátní a plné improvizace\, protože Martin miluje improvizaci a scénáře mění v průběhu večera\, což občas vykolejí jeho sestru Štěpánku Šmídovou\, která mu dělá skvělou společnost během celé show. Všechny scénky a historky vychází z Martinových zkušeností a zážitků\, jak profesního\, tak soukromého života. Jeho humor je nekorektní\, sebeironický a nebojí se jít na hranu – právě to dělá jeho show nezapomenutelnou! \nNenechte si ujít tento jedinečný zážitek! Vstupenky v prodeji! \nPořad není vhodný mladším 15 let! \nhttps://www.standupshow.cz/ \n\nTento tip na kulturní akci v Slavkov u Brna najdete v přehledu na KulturníRádce.cz spolu s dalšími koncerty\, festivaly a divadelními představeními.
URL:https://kulturniradce.cz/event/martin-hranac-crazy-show-slavkov-u-brna/
LOCATION:Společenské centrum Bonaparte\, Slavkov u Brna\, Společenské centrum Bonaparte\, Slavkov u Brna\, Česká republika
CATEGORIES:Zábava
ATTACH;FMTTYPE=image/jpeg:https://kulturniradce.cz/wp-content/uploads/2025/09/320-7580537b241f410db702094afe5654b8.jpg
END:VEVENT
BEGIN:VEVENT
DTSTART;TZID=Europe/Prague:20251213T190000
DTEND;TZID=Europe/Prague:20251213T220000
DTSTAMP:20260419T190935
CREATED:20251211T071742Z
LAST-MODIFIED:20251211T071742Z
UID:7888-1765652400-1765663200@kulturniradce.cz
SUMMARY:Vánoční koncert Martina Křížky a jeho přátel
DESCRIPTION:Vánoční koncert Martina Křížky a jeho přátel se uskuteční dne 2025-12-13 v 19:00 v Slavkov u Brna\, Společenské centrum Bonaparte. \n🎟️ Koupit vstupenku \n\nVánoční koncert Martina Křížky s hosty Sárou Milfajtovou\, Martou Matějovou\, Ondřejem Rumlem\, dětským sborem\, smyčcovým kvartetem Indigo a živou kapelou. \n\nTento tip na kulturní akci v Slavkov u Brna najdete v přehledu na KulturníRádce.cz spolu s dalšími koncerty\, festivaly a divadelními představeními.
URL:https://kulturniradce.cz/event/vanocni-koncert-martina-krizky-a-jeho-pratel-2/
LOCATION:Společenské centrum Bonaparte\, Slavkov u Brna\, Společenské centrum Bonaparte\, Slavkov u Brna\, Česká republika
CATEGORIES:Koncert
ATTACH;FMTTYPE=image/jpeg:https://kulturniradce.cz/wp-content/uploads/2025/12/320-935c5efa962049b2bd8b03961b0acfae.jpg
END:VEVENT
BEGIN:VEVENT
DTSTART;TZID=Europe/Prague:20251213T190000
DTEND;TZID=Europe/Prague:20251213T220000
DTSTAMP:20260419T190935
CREATED:20251211T071742Z
LAST-MODIFIED:20251211T071742Z
UID:7889-1765652400-1765663200@kulturniradce.cz
SUMMARY:Vánoční koncert Martina Křížky a jeho přátel
DESCRIPTION:Vánoční koncert Martina Křížky a jeho přátel se uskuteční dne 2025-12-13 v 19:00 v Slavkov u Brna\, Společenské centrum Bonaparte. \n🎟️ Koupit vstupenku \n\nVánoční koncert Martina Křížky s hosty Sárou Milfajtovou\, Martou Matějovou\, Ondřejem Rumlem\, dětským sborem\, smyčcovým kvartetem Indigo a živou kapelou. \n\nTento tip na kulturní akci v Slavkov u Brna najdete v přehledu na KulturníRádce.cz spolu s dalšími koncerty\, festivaly a divadelními představeními.
URL:https://kulturniradce.cz/event/vanocni-koncert-martina-krizky-a-jeho-pratel-2/
LOCATION:Společenské centrum Bonaparte\, Slavkov u Brna\, Společenské centrum Bonaparte\, Slavkov u Brna\, Česká republika
CATEGORIES:Koncert
ATTACH;FMTTYPE=image/jpeg:https://kulturniradce.cz/wp-content/uploads/2025/12/320-935c5efa962049b2bd8b03961b0acfae-1.jpg
END:VEVENT
BEGIN:VEVENT
DTSTART;TZID=Europe/Prague:20251121T190000
DTEND;TZID=Europe/Prague:20251121T220000
DTSTAMP:20260419T190935
CREATED:20250924T180456Z
LAST-MODIFIED:20250924T180456Z
UID:2098-1763751600-1763762400@kulturniradce.cz
SUMMARY:Travesti Divoké kočky Slavkov u Brna
DESCRIPTION:Travesti Divoké kočky Slavkov u Brna se uskuteční dne 2025-11-21 v 19:00 v Slavkov u Brna\, Společenské centrum Bonaparte. \n🎟️ Koupit vstupenku \n\nTravesti skupina Divoké kočky z Ostravy přijíždí se svým zábavným celovečerním programem v rámci svého turné do Slavkova u Brna\, kde vystoupí 21.11.2025 od 19:00 na sále BONAPARTE. Délka programu s přestávkou 150 min. \nCelovečerní zábavný program je plný nezapomenutelných legračních scének\, písniček\, známých zpěvaček\, krásných kostýmů\, situačního humoru\, smíchu a je vhodný jak pro ženské tak pánské publikum. Jejich vystoupení se těší stálé větší oblibě a tak si každý divák přijde na své.Přijdte se sami přesvědčit\, že na travesti představení není nic špatného a v podání ostravských umělců se budete určitě dobře bavit. Divoké kočky se těší opět na úžasné místní publikum\, atmosféru a skvělý večer\, který vždy zaplněný sál diváků vytvoří. Přijďte se pobavit i Vy.Na závěr programu Vám členové souboru ukážou svou pravou tvář. \n\nTento tip na kulturní akci v Slavkov u Brna najdete v přehledu na KulturníRádce.cz spolu s dalšími koncerty\, festivaly a divadelními představeními.
URL:https://kulturniradce.cz/event/travesti-divoke-kocky-slavkov-u-brna/
LOCATION:Společenské centrum Bonaparte\, Slavkov u Brna\, Společenské centrum Bonaparte\, Slavkov u Brna\, Česká republika
CATEGORIES:Zábava
ATTACH;FMTTYPE=image/jpeg:https://kulturniradce.cz/wp-content/uploads/2025/09/320-54135255fbfe46838c120838ca2dccaa.jpg
END:VEVENT
END:VCALENDAR