BEGIN:VCALENDAR
VERSION:2.0
PRODID:-//www.kulturniradce.cz - ECPv6.15.20//NONSGML v1.0//EN
CALSCALE:GREGORIAN
METHOD:PUBLISH
X-ORIGINAL-URL:https://kulturniradce.cz
X-WR-CALDESC:Akce na www.kulturniradce.cz
REFRESH-INTERVAL;VALUE=DURATION:PT1H
X-Robots-Tag:noindex
X-PUBLISHED-TTL:PT1H
BEGIN:VTIMEZONE
TZID:Europe/Prague
BEGIN:DAYLIGHT
TZOFFSETFROM:+0100
TZOFFSETTO:+0200
TZNAME:CEST
DTSTART:20250330T010000
END:DAYLIGHT
BEGIN:STANDARD
TZOFFSETFROM:+0200
TZOFFSETTO:+0100
TZNAME:CET
DTSTART:20251026T010000
END:STANDARD
BEGIN:DAYLIGHT
TZOFFSETFROM:+0100
TZOFFSETTO:+0200
TZNAME:CEST
DTSTART:20260329T010000
END:DAYLIGHT
BEGIN:STANDARD
TZOFFSETFROM:+0200
TZOFFSETTO:+0100
TZNAME:CET
DTSTART:20261025T010000
END:STANDARD
BEGIN:DAYLIGHT
TZOFFSETFROM:+0100
TZOFFSETTO:+0200
TZNAME:CEST
DTSTART:20270328T010000
END:DAYLIGHT
BEGIN:STANDARD
TZOFFSETFROM:+0200
TZOFFSETTO:+0100
TZNAME:CET
DTSTART:20271031T010000
END:STANDARD
END:VTIMEZONE
BEGIN:VEVENT
DTSTART;TZID=Europe/Prague:20260808T090000
DTEND;TZID=Europe/Prague:20260808T120000
DTSTAMP:20260420T023633
CREATED:20251007T180614Z
LAST-MODIFIED:20251007T180614Z
UID:4899-1786179600-1786190400@kulturniradce.cz
SUMMARY:Den princezen a rytířů - Zámek Slavkov
DESCRIPTION:Den princezen a rytířů – Zámek Slavkov se uskuteční dne 2026-08-08 v 09:00 v Slavkov u Brna\, Zámek Slavkov – Austerlitz. \n🎟️ Koupit vstupenku \n\nVÍTEJTE V POHÁDKOVÉM SVĚTĚ PLNÉM KOUZEL\, HER A FANTAZIE \nJiž tradiční rodinný festival vám přinese opět spoust zábavy jak pro ty malé\, tak pro ty velké. \nProgram budeme postupně odhalovat a doplňovat na webových stránkách www.denprincezen.cz\, určitě se máte na co těšit. \nZměny v programu vyhrazeny. \n\nTento tip na kulturní akci v Slavkov u Brna najdete v přehledu na KulturníRádce.cz spolu s dalšími koncerty\, festivaly a divadelními představeními.
URL:https://kulturniradce.cz/event/den-princezen-a-rytiru-zamek-slavkov/
LOCATION:Zámek Slavkov – Austerlitz\, Slavkov u Brna\, Zámek Slavkov - Austerlitz\, Slavkov u Brna\, Česká republika
CATEGORIES:Festival
ATTACH;FMTTYPE=image/jpeg:https://kulturniradce.cz/wp-content/uploads/2025/10/320-9cf68e4e8780484980844d71dcb63a11.jpg
END:VEVENT
END:VCALENDAR