BEGIN:VCALENDAR
VERSION:2.0
PRODID:-//www.kulturniradce.cz - ECPv6.15.20//NONSGML v1.0//EN
CALSCALE:GREGORIAN
METHOD:PUBLISH
X-ORIGINAL-URL:https://kulturniradce.cz
X-WR-CALDESC:Akce na www.kulturniradce.cz
REFRESH-INTERVAL;VALUE=DURATION:PT1H
X-Robots-Tag:noindex
X-PUBLISHED-TTL:PT1H
BEGIN:VTIMEZONE
TZID:Europe/Prague
BEGIN:DAYLIGHT
TZOFFSETFROM:+0100
TZOFFSETTO:+0200
TZNAME:CEST
DTSTART:20250330T010000
END:DAYLIGHT
BEGIN:STANDARD
TZOFFSETFROM:+0200
TZOFFSETTO:+0100
TZNAME:CET
DTSTART:20251026T010000
END:STANDARD
BEGIN:DAYLIGHT
TZOFFSETFROM:+0100
TZOFFSETTO:+0200
TZNAME:CEST
DTSTART:20260329T010000
END:DAYLIGHT
BEGIN:STANDARD
TZOFFSETFROM:+0200
TZOFFSETTO:+0100
TZNAME:CET
DTSTART:20261025T010000
END:STANDARD
BEGIN:DAYLIGHT
TZOFFSETFROM:+0100
TZOFFSETTO:+0200
TZNAME:CEST
DTSTART:20270328T010000
END:DAYLIGHT
BEGIN:STANDARD
TZOFFSETFROM:+0200
TZOFFSETTO:+0100
TZNAME:CET
DTSTART:20271031T010000
END:STANDARD
END:VTIMEZONE
BEGIN:VEVENT
DTSTART;TZID=Europe/Prague:20260320T180000
DTEND;TZID=Europe/Prague:20260320T210000
DTSTAMP:20260419T214205
CREATED:20260317T082649Z
LAST-MODIFIED:20260317T082649Z
UID:13194-1774029600-1774040400@kulturniradce.cz
SUMMARY:Degustace vín na zámečku
DESCRIPTION:Degustace vín na zámečku se uskuteční dne 2026-03-20 v 18:00 v Staré Ždánice\, Zámeček Staré Ždánice. \n🎟️ Koupit vstupenku \n\nDegustace výběrových vín na zámečku \nZveme vás na exkluzivní zážitkovou degustaci patnácti pečlivě vybraných vín z vinařství Moravčíkova vína z jedinečné oblasti Pálavy. Celým večerem vás provede profesionální someliér\, který vás zasvětí do charakteru jednotlivých vín i jejich příběhů. \nSoučástí degustace (v ceně vstupenky) bude také stylové a vynikající občerstvení ze Staroždánické hospůdky\, laděné tak\, aby dokonale doplnilo nabízená vína. \nBěhem večera budete mít možnost projít vybranými historickými prostorami zámečku a posedět v elegantním salónu na původním historickém nábytku. Průvodního slova se ujme majitel zámečku Nathaniel Filip de Aras\, který přiblíží historii i současnost tohoto výjimečného místa. \nNa přivítanou vás čeká sklenka sektu. \nKapacita degustace je omezená na pouhých 20 osob\, aby byl zachován komorní a osobní charakter večera. \nDress code: Semi Formal – poloformální\, Smart Casual – ležérní elegance (Prosíme dámy\, aby nenosily lodičky s ostrým podpatkem\, které nesvědčí dřevěné podlaze) \nProgram potrvá přibližně 150 minut (následuje volná zábava) \n\nTento tip na kulturní akci v Staré Ždánice najdete v přehledu na KulturníRádce.cz spolu s dalšími koncerty\, festivaly a divadelními představeními.
URL:https://kulturniradce.cz/event/degustace-vin-na-zamecku/
LOCATION:Zámeček Staré Ždánice\, Staré Ždánice\, Zámeček Staré Ždánice\, Staré Ždánice\, Česká republika
CATEGORIES:Zábava
ATTACH;FMTTYPE=image/jpeg:https://kulturniradce.cz/wp-content/uploads/2026/03/320-0c802d14962a403b8108c863d98515fa.jpg
END:VEVENT
END:VCALENDAR