BEGIN:VCALENDAR
VERSION:2.0
PRODID:-//www.kulturniradce.cz - ECPv6.15.20//NONSGML v1.0//EN
CALSCALE:GREGORIAN
METHOD:PUBLISH
X-WR-CALNAME:www.kulturniradce.cz
X-ORIGINAL-URL:https://kulturniradce.cz
X-WR-CALDESC:Akce na www.kulturniradce.cz
REFRESH-INTERVAL;VALUE=DURATION:PT1H
X-Robots-Tag:noindex
X-PUBLISHED-TTL:PT1H
BEGIN:VTIMEZONE
TZID:Europe/Prague
BEGIN:DAYLIGHT
TZOFFSETFROM:+0100
TZOFFSETTO:+0200
TZNAME:CEST
DTSTART:20250330T010000
END:DAYLIGHT
BEGIN:STANDARD
TZOFFSETFROM:+0200
TZOFFSETTO:+0100
TZNAME:CET
DTSTART:20251026T010000
END:STANDARD
BEGIN:DAYLIGHT
TZOFFSETFROM:+0100
TZOFFSETTO:+0200
TZNAME:CEST
DTSTART:20260329T010000
END:DAYLIGHT
BEGIN:STANDARD
TZOFFSETFROM:+0200
TZOFFSETTO:+0100
TZNAME:CET
DTSTART:20261025T010000
END:STANDARD
BEGIN:DAYLIGHT
TZOFFSETFROM:+0100
TZOFFSETTO:+0200
TZNAME:CEST
DTSTART:20270328T010000
END:DAYLIGHT
BEGIN:STANDARD
TZOFFSETFROM:+0200
TZOFFSETTO:+0100
TZNAME:CET
DTSTART:20271031T010000
END:STANDARD
END:VTIMEZONE
BEGIN:VEVENT
DTSTART;TZID=Europe/Prague:20260329T180000
DTEND;TZID=Europe/Prague:20260329T210000
DTSTAMP:20260419T214025
CREATED:20260317T082649Z
LAST-MODIFIED:20260317T082650Z
UID:13197-1774807200-1774818000@kulturniradce.cz
SUMMARY:Slávek Král - Cesta po Japonsku
DESCRIPTION:Slávek Král – Cesta po Japonsku se uskuteční dne 2026-03-29 v 18:00 v Staré Ždánice\, Zámeček Staré Ždánice. \n🎟️ Koupit vstupenku \n\nSlávek Král – Cesta po Japonsku \nZveme vás na inspirativní večer se známým cestovatelem Slávkem Králem\, který vás provede fascinujícím světem Japonska. \nTentokrát se vydáme na ostrov Šikoku a legendární budhistickou pouť po 88 chrámech – 1200 km pěšky\, se stanem\, na nevšední svatební cestě. \nČeká vás zábavná a poutavá přednáška\, během níž se nejen pobavíte\, ale také se dozvíte řadu zajímavostí o japonské kultuře\, životním stylu i každodenních zvláštnostech této pozoruhodné země. Nedílnou součástí večera bude bohatá projekce fotografií a videí promítaných na plátně. \nPřednáška se uskuteční v komorním a domácím prostředí hudebního salónu ždánického zámečku a je určena pro exkluzivní počet 40 hostů\, aby byla zachována osobní a přátelská atmosféra. \nBěhem přestávky i po skončení programu\, doplněného o vynikající domácí občerstvení\, bude prostor pro osobní setkání se Slávkem Králem\, rozhovor nebo společnou fotografii. \nVečerem vás provede majitel zámečku Nathaniel Filip de Aras. \nDress code: Smart Casual – ležérní elegance (Prosíme dámy\, aby nenosily lodičky s ostrým podpatkem\, které nesvědčí dřevěné podlaze) \nParkování aut je doporučeno v okolí Staroždánické hospůdky (parkoviště je vedle hospody i v ulici ke kostelu) \nProgram potrvá přibližně 120 minut \n\nTento tip na kulturní akci v Staré Ždánice najdete v přehledu na KulturníRádce.cz spolu s dalšími koncerty\, festivaly a divadelními představeními.
URL:https://kulturniradce.cz/event/slavek-kral-cesta-po-japonsku/
LOCATION:Zámeček Staré Ždánice\, Staré Ždánice\, Zámeček Staré Ždánice\, Staré Ždánice\, Česká republika
CATEGORIES:Zábava
ATTACH;FMTTYPE=image/jpeg:https://kulturniradce.cz/wp-content/uploads/2026/03/320-7c951831c2c3451a8256038d483ae76c.jpg
END:VEVENT
END:VCALENDAR