BEGIN:VCALENDAR
VERSION:2.0
PRODID:-//www.kulturniradce.cz - ECPv6.15.20//NONSGML v1.0//EN
CALSCALE:GREGORIAN
METHOD:PUBLISH
X-ORIGINAL-URL:https://kulturniradce.cz
X-WR-CALDESC:Akce na www.kulturniradce.cz
REFRESH-INTERVAL;VALUE=DURATION:PT1H
X-Robots-Tag:noindex
X-PUBLISHED-TTL:PT1H
BEGIN:VTIMEZONE
TZID:Europe/Prague
BEGIN:DAYLIGHT
TZOFFSETFROM:+0100
TZOFFSETTO:+0200
TZNAME:CEST
DTSTART:20250330T010000
END:DAYLIGHT
BEGIN:STANDARD
TZOFFSETFROM:+0200
TZOFFSETTO:+0100
TZNAME:CET
DTSTART:20251026T010000
END:STANDARD
BEGIN:DAYLIGHT
TZOFFSETFROM:+0100
TZOFFSETTO:+0200
TZNAME:CEST
DTSTART:20260329T010000
END:DAYLIGHT
BEGIN:STANDARD
TZOFFSETFROM:+0200
TZOFFSETTO:+0100
TZNAME:CET
DTSTART:20261025T010000
END:STANDARD
BEGIN:DAYLIGHT
TZOFFSETFROM:+0100
TZOFFSETTO:+0200
TZNAME:CEST
DTSTART:20270328T010000
END:DAYLIGHT
BEGIN:STANDARD
TZOFFSETFROM:+0200
TZOFFSETTO:+0100
TZNAME:CET
DTSTART:20271031T010000
END:STANDARD
END:VTIMEZONE
BEGIN:VEVENT
DTSTART;TZID=Europe/Prague:20260419T180000
DTEND;TZID=Europe/Prague:20260419T210000
DTSTAMP:20260419T185109
CREATED:20260317T083132Z
LAST-MODIFIED:20260317T083133Z
UID:13203-1776621600-1776632400@kulturniradce.cz
SUMMARY:Two Voices - Koncert klasiky netradičně
DESCRIPTION:Two Voices – Koncert klasiky netradičně se uskuteční dne 2026-04-19 v 18:00 v Staré Ždánice\, Zámeček Staré Ždánice. \n🎟️ Koupit vstupenku \n\nTwo Voices – koncert klasiky netradičně \nZažijte nevšední koncert dvou výjimečných zpěvaček v doprovodu kytary\, který propojuje slavné melodie klasické hudby s originálními\, vtipnými a překvapivě současnými texty. Koncert\, který potěší\, pobaví a mile překvapí. \nJana Rychterová – zpěv\, texty\, kytara \nPísničkářka a rozhlasová moderátorka Jana Rychterová je autorkou všech textů projektu Two Voices. Do známých klasických melodií vnáší s lehkostí a nadhledem témata každodenního života – od jídla přes sklerózu a navigaci až po beton. Právě tato hravost a inteligentní humor dává koncertu jeho jedinečný charakter.Jana Rychterová působí také jako moderátorka Českého rozhlasu\, kde ji můžete slyšet na Rádiu Junior a v pořadu Noční Mikrofórum na stanici Dvojka. \nDája Šimíčková – zpěv \nÚspěšná jazzová zpěvačka Dája Šimíčková se k „bláznivé klasice“ Two Voices připojila v roce 2011 – a naštěstí už zůstala. Její zvonivý soprán je ozdobou jemných i humorných písní a vytváří dokonalý kontrast k hravým textům.Vedle projektu Two Voices se věnuje také své velké lásce – „starému jazzu“\, který interpretuje se svou kapelou Shadde Yadda Quartet. \nKoncert se uskuteční v komorním a domácím prostředí hudebního salónu ždánického zámečku a je určen pro exkluzivní počet 40 hostů\, což zaručí blízký kontakt s interprety i výjimečný zážitek. \nBěhem přestávky i po skončení koncertu\, doplněného o vynikající domácí občerstvení\, bude prostor pro osobní setkání s umělkyněmi\, rozhovor či společnou fotografii. \nVečerem vás provede majitel zámečku Nathaniel Filip de Aras. \nDress code: Smart Casual – ležérní elegance (Prosíme dámy\, aby nenosily lodičky s ostrým podpatkem\, které nesvědčí dřevěné podlaze) \nParkování aut je doporučeno v okolí Staroždánické hospůdky (parkoviště je vedle hospody i v ulici ke kostelu) \nProgram potrvá přibližně 120 minut \n\nTento tip na kulturní akci v Staré Ždánice najdete v přehledu na KulturníRádce.cz spolu s dalšími koncerty\, festivaly a divadelními představeními.
URL:https://kulturniradce.cz/event/two-voices-koncert-klasiky-netradicne/
LOCATION:Zámeček Staré Ždánice\, Staré Ždánice\, Zámeček Staré Ždánice\, Staré Ždánice\, Česká republika
CATEGORIES:Koncert
ATTACH;FMTTYPE=image/jpeg:https://kulturniradce.cz/wp-content/uploads/2026/03/320-7b1a2eaf6f24475cb8a2e85e0f415319.jpg
END:VEVENT
END:VCALENDAR