BEGIN:VCALENDAR
VERSION:2.0
PRODID:-//www.kulturniradce.cz - ECPv6.15.20//NONSGML v1.0//EN
CALSCALE:GREGORIAN
METHOD:PUBLISH
X-WR-CALNAME:www.kulturniradce.cz
X-ORIGINAL-URL:https://kulturniradce.cz
X-WR-CALDESC:Akce na www.kulturniradce.cz
REFRESH-INTERVAL;VALUE=DURATION:PT1H
X-Robots-Tag:noindex
X-PUBLISHED-TTL:PT1H
BEGIN:VTIMEZONE
TZID:Europe/Prague
BEGIN:DAYLIGHT
TZOFFSETFROM:+0100
TZOFFSETTO:+0200
TZNAME:CEST
DTSTART:20250330T010000
END:DAYLIGHT
BEGIN:STANDARD
TZOFFSETFROM:+0200
TZOFFSETTO:+0100
TZNAME:CET
DTSTART:20251026T010000
END:STANDARD
BEGIN:DAYLIGHT
TZOFFSETFROM:+0100
TZOFFSETTO:+0200
TZNAME:CEST
DTSTART:20260329T010000
END:DAYLIGHT
BEGIN:STANDARD
TZOFFSETFROM:+0200
TZOFFSETTO:+0100
TZNAME:CET
DTSTART:20261025T010000
END:STANDARD
BEGIN:DAYLIGHT
TZOFFSETFROM:+0100
TZOFFSETTO:+0200
TZNAME:CEST
DTSTART:20270328T010000
END:DAYLIGHT
BEGIN:STANDARD
TZOFFSETFROM:+0200
TZOFFSETTO:+0100
TZNAME:CET
DTSTART:20271031T010000
END:STANDARD
END:VTIMEZONE
BEGIN:VEVENT
DTSTART;TZID=Europe/Prague:20260320T180000
DTEND;TZID=Europe/Prague:20260320T210000
DTSTAMP:20260420T022015
CREATED:20260317T082649Z
LAST-MODIFIED:20260317T082649Z
UID:13194-1774029600-1774040400@kulturniradce.cz
SUMMARY:Degustace vín na zámečku
DESCRIPTION:Degustace vín na zámečku se uskuteční dne 2026-03-20 v 18:00 v Staré Ždánice\, Zámeček Staré Ždánice. \n🎟️ Koupit vstupenku \n\nDegustace výběrových vín na zámečku \nZveme vás na exkluzivní zážitkovou degustaci patnácti pečlivě vybraných vín z vinařství Moravčíkova vína z jedinečné oblasti Pálavy. Celým večerem vás provede profesionální someliér\, který vás zasvětí do charakteru jednotlivých vín i jejich příběhů. \nSoučástí degustace (v ceně vstupenky) bude také stylové a vynikající občerstvení ze Staroždánické hospůdky\, laděné tak\, aby dokonale doplnilo nabízená vína. \nBěhem večera budete mít možnost projít vybranými historickými prostorami zámečku a posedět v elegantním salónu na původním historickém nábytku. Průvodního slova se ujme majitel zámečku Nathaniel Filip de Aras\, který přiblíží historii i současnost tohoto výjimečného místa. \nNa přivítanou vás čeká sklenka sektu. \nKapacita degustace je omezená na pouhých 20 osob\, aby byl zachován komorní a osobní charakter večera. \nDress code: Semi Formal – poloformální\, Smart Casual – ležérní elegance (Prosíme dámy\, aby nenosily lodičky s ostrým podpatkem\, které nesvědčí dřevěné podlaze) \nProgram potrvá přibližně 150 minut (následuje volná zábava) \n\nTento tip na kulturní akci v Staré Ždánice najdete v přehledu na KulturníRádce.cz spolu s dalšími koncerty\, festivaly a divadelními představeními.
URL:https://kulturniradce.cz/event/degustace-vin-na-zamecku/
LOCATION:Zámeček Staré Ždánice\, Staré Ždánice\, Zámeček Staré Ždánice\, Staré Ždánice\, Česká republika
CATEGORIES:Zábava
ATTACH;FMTTYPE=image/jpeg:https://kulturniradce.cz/wp-content/uploads/2026/03/320-0c802d14962a403b8108c863d98515fa.jpg
END:VEVENT
BEGIN:VEVENT
DTSTART;TZID=Europe/Prague:20260329T180000
DTEND;TZID=Europe/Prague:20260329T210000
DTSTAMP:20260420T022015
CREATED:20260317T082649Z
LAST-MODIFIED:20260317T082650Z
UID:13197-1774807200-1774818000@kulturniradce.cz
SUMMARY:Slávek Král - Cesta po Japonsku
DESCRIPTION:Slávek Král – Cesta po Japonsku se uskuteční dne 2026-03-29 v 18:00 v Staré Ždánice\, Zámeček Staré Ždánice. \n🎟️ Koupit vstupenku \n\nSlávek Král – Cesta po Japonsku \nZveme vás na inspirativní večer se známým cestovatelem Slávkem Králem\, který vás provede fascinujícím světem Japonska. \nTentokrát se vydáme na ostrov Šikoku a legendární budhistickou pouť po 88 chrámech – 1200 km pěšky\, se stanem\, na nevšední svatební cestě. \nČeká vás zábavná a poutavá přednáška\, během níž se nejen pobavíte\, ale také se dozvíte řadu zajímavostí o japonské kultuře\, životním stylu i každodenních zvláštnostech této pozoruhodné země. Nedílnou součástí večera bude bohatá projekce fotografií a videí promítaných na plátně. \nPřednáška se uskuteční v komorním a domácím prostředí hudebního salónu ždánického zámečku a je určena pro exkluzivní počet 40 hostů\, aby byla zachována osobní a přátelská atmosféra. \nBěhem přestávky i po skončení programu\, doplněného o vynikající domácí občerstvení\, bude prostor pro osobní setkání se Slávkem Králem\, rozhovor nebo společnou fotografii. \nVečerem vás provede majitel zámečku Nathaniel Filip de Aras. \nDress code: Smart Casual – ležérní elegance (Prosíme dámy\, aby nenosily lodičky s ostrým podpatkem\, které nesvědčí dřevěné podlaze) \nParkování aut je doporučeno v okolí Staroždánické hospůdky (parkoviště je vedle hospody i v ulici ke kostelu) \nProgram potrvá přibližně 120 minut \n\nTento tip na kulturní akci v Staré Ždánice najdete v přehledu na KulturníRádce.cz spolu s dalšími koncerty\, festivaly a divadelními představeními.
URL:https://kulturniradce.cz/event/slavek-kral-cesta-po-japonsku/
LOCATION:Zámeček Staré Ždánice\, Staré Ždánice\, Zámeček Staré Ždánice\, Staré Ždánice\, Česká republika
CATEGORIES:Zábava
ATTACH;FMTTYPE=image/jpeg:https://kulturniradce.cz/wp-content/uploads/2026/03/320-7c951831c2c3451a8256038d483ae76c.jpg
END:VEVENT
BEGIN:VEVENT
DTSTART;TZID=Europe/Prague:20260403T110000
DTEND;TZID=Europe/Prague:20260403T140000
DTSTAMP:20260420T022015
CREATED:20260317T083129Z
LAST-MODIFIED:20260317T083132Z
UID:13200-1775214000-1775224800@kulturniradce.cz
SUMMARY:Velikonoční prohlídka
DESCRIPTION:Velikonoční prohlídka se uskuteční dne 2026-04-03 v 11:00 v Staré Ždánice\, Zámeček Staré Ždánice. \n🎟️ Koupit vstupenku \n\nZveme vás na velikonoční prohlídku vyzdobeného interiéru zámečku ve Starých Ždánicích.Komentovanou prohlídkou vás provede majitel zámečku\, Nathaniel baron Filip de Aras. \nPřijďte si vychutnat kouzlo romantického zámečku\, který není muzeem\, ale skutečným domovem. Jde o jedinou prohlídku v ČR\, během níž vstupujete do místností\, ve kterých se každodenně žije. \nTěšíme se na vás! \nDélka prohlídky: 70 minut. \nParkování aut je doporučeno v okolí Staroždánické hospůdky (parkoviště je vedle hospody i v ulici ke kostelu) \n\nTento tip na kulturní akci v Staré Ždánice najdete v přehledu na KulturníRádce.cz spolu s dalšími koncerty\, festivaly a divadelními představeními.
URL:https://kulturniradce.cz/event/velikonocni-prohlidka/
LOCATION:Zámeček Staré Ždánice\, Staré Ždánice\, Zámeček Staré Ždánice\, Staré Ždánice\, Česká republika
CATEGORIES:Zábava
ATTACH;FMTTYPE=image/jpeg:https://kulturniradce.cz/wp-content/uploads/2026/03/320-368cabaf61c744e492343c5251790553.jpg
END:VEVENT
BEGIN:VEVENT
DTSTART;TZID=Europe/Prague:20260404T110000
DTEND;TZID=Europe/Prague:20260404T140000
DTSTAMP:20260420T022015
CREATED:20260319T062342Z
LAST-MODIFIED:20260319T062345Z
UID:13218-1775300400-1775311200@kulturniradce.cz
SUMMARY:Velikonoční prohlídka
DESCRIPTION:Velikonoční prohlídka se uskuteční dne 2026-04-04 v 11:00 v Staré Ždánice\, Zámeček Staré Ždánice. \n🎟️ Koupit vstupenku \n\nZveme vás na velikonoční prohlídku vyzdobeného interiéru zámečku ve Starých Ždánicích.Komentovanou prohlídkou vás provede majitel zámečku\, Nathaniel baron Filip de Aras. \nPřijďte si vychutnat kouzlo romantického zámečku\, který není muzeem\, ale skutečným domovem. Jde o jedinou prohlídku v ČR\, během níž vstupujete do místností\, ve kterých se každodenně žije. \nTěšíme se na vás! \nDélka prohlídky: 70 minut. \nParkování aut je doporučeno v okolí Staroždánické hospůdky (parkoviště je vedle hospody i v ulici ke kostelu) \n\nTento tip na kulturní akci v Staré Ždánice najdete v přehledu na KulturníRádce.cz spolu s dalšími koncerty\, festivaly a divadelními představeními.
URL:https://kulturniradce.cz/event/velikonocni-prohlidka-3/
LOCATION:Zámeček Staré Ždánice\, Staré Ždánice\, Zámeček Staré Ždánice\, Staré Ždánice\, Česká republika
CATEGORIES:Zábava
ATTACH;FMTTYPE=image/jpeg:https://kulturniradce.cz/wp-content/uploads/2026/03/320-75834bfeb45c432a83246a31dbabb96e.jpg
END:VEVENT
BEGIN:VEVENT
DTSTART;TZID=Europe/Prague:20260405T110000
DTEND;TZID=Europe/Prague:20260405T140000
DTSTAMP:20260420T022015
CREATED:20260317T083134Z
LAST-MODIFIED:20260317T083134Z
UID:13209-1775386800-1775397600@kulturniradce.cz
SUMMARY:Velikonoční prohlídka
DESCRIPTION:Velikonoční prohlídka se uskuteční dne 2026-04-05 v 11:00 v Staré Ždánice\, Zámeček Staré Ždánice. \n🎟️ Koupit vstupenku \n\nZveme vás na velikonoční prohlídku vyzdobeného interiéru zámečku ve Starých Ždánicích.Komentovanou prohlídkou vás provede majitel zámečku\, Nathaniel baron Filip de Aras. \nPřijďte si vychutnat kouzlo romantického zámečku\, který není muzeem\, ale skutečným domovem. Jde o jedinou prohlídku v ČR\, během níž vstupujete do místností\, ve kterých se každodenně žije. \nTěšíme se na vás! \nDélka prohlídky: 70 minut. \nParkování aut je doporučeno v okolí Staroždánické hospůdky (parkoviště je vedle hospody i v ulici ke kostelu) \n\nTento tip na kulturní akci v Staré Ždánice najdete v přehledu na KulturníRádce.cz spolu s dalšími koncerty\, festivaly a divadelními představeními.
URL:https://kulturniradce.cz/event/velikonocni-prohlidka-2/
LOCATION:Zámeček Staré Ždánice\, Staré Ždánice\, Zámeček Staré Ždánice\, Staré Ždánice\, Česká republika
CATEGORIES:Zábava
ATTACH;FMTTYPE=image/jpeg:https://kulturniradce.cz/wp-content/uploads/2026/03/320-0cd6902643ed44858f9956fc768ab7a4.jpg
END:VEVENT
BEGIN:VEVENT
DTSTART;TZID=Europe/Prague:20260419T180000
DTEND;TZID=Europe/Prague:20260419T210000
DTSTAMP:20260420T022015
CREATED:20260317T083132Z
LAST-MODIFIED:20260317T083133Z
UID:13203-1776621600-1776632400@kulturniradce.cz
SUMMARY:Two Voices - Koncert klasiky netradičně
DESCRIPTION:Two Voices – Koncert klasiky netradičně se uskuteční dne 2026-04-19 v 18:00 v Staré Ždánice\, Zámeček Staré Ždánice. \n🎟️ Koupit vstupenku \n\nTwo Voices – koncert klasiky netradičně \nZažijte nevšední koncert dvou výjimečných zpěvaček v doprovodu kytary\, který propojuje slavné melodie klasické hudby s originálními\, vtipnými a překvapivě současnými texty. Koncert\, který potěší\, pobaví a mile překvapí. \nJana Rychterová – zpěv\, texty\, kytara \nPísničkářka a rozhlasová moderátorka Jana Rychterová je autorkou všech textů projektu Two Voices. Do známých klasických melodií vnáší s lehkostí a nadhledem témata každodenního života – od jídla přes sklerózu a navigaci až po beton. Právě tato hravost a inteligentní humor dává koncertu jeho jedinečný charakter.Jana Rychterová působí také jako moderátorka Českého rozhlasu\, kde ji můžete slyšet na Rádiu Junior a v pořadu Noční Mikrofórum na stanici Dvojka. \nDája Šimíčková – zpěv \nÚspěšná jazzová zpěvačka Dája Šimíčková se k „bláznivé klasice“ Two Voices připojila v roce 2011 – a naštěstí už zůstala. Její zvonivý soprán je ozdobou jemných i humorných písní a vytváří dokonalý kontrast k hravým textům.Vedle projektu Two Voices se věnuje také své velké lásce – „starému jazzu“\, který interpretuje se svou kapelou Shadde Yadda Quartet. \nKoncert se uskuteční v komorním a domácím prostředí hudebního salónu ždánického zámečku a je určen pro exkluzivní počet 40 hostů\, což zaručí blízký kontakt s interprety i výjimečný zážitek. \nBěhem přestávky i po skončení koncertu\, doplněného o vynikající domácí občerstvení\, bude prostor pro osobní setkání s umělkyněmi\, rozhovor či společnou fotografii. \nVečerem vás provede majitel zámečku Nathaniel Filip de Aras. \nDress code: Smart Casual – ležérní elegance (Prosíme dámy\, aby nenosily lodičky s ostrým podpatkem\, které nesvědčí dřevěné podlaze) \nParkování aut je doporučeno v okolí Staroždánické hospůdky (parkoviště je vedle hospody i v ulici ke kostelu) \nProgram potrvá přibližně 120 minut \n\nTento tip na kulturní akci v Staré Ždánice najdete v přehledu na KulturníRádce.cz spolu s dalšími koncerty\, festivaly a divadelními představeními.
URL:https://kulturniradce.cz/event/two-voices-koncert-klasiky-netradicne/
LOCATION:Zámeček Staré Ždánice\, Staré Ždánice\, Zámeček Staré Ždánice\, Staré Ždánice\, Česká republika
CATEGORIES:Koncert
ATTACH;FMTTYPE=image/jpeg:https://kulturniradce.cz/wp-content/uploads/2026/03/320-7b1a2eaf6f24475cb8a2e85e0f415319.jpg
END:VEVENT
BEGIN:VEVENT
DTSTART;TZID=Europe/Prague:20260517T180000
DTEND;TZID=Europe/Prague:20260517T210000
DTSTAMP:20260420T022015
CREATED:20260319T062332Z
LAST-MODIFIED:20260319T062342Z
UID:13215-1779040800-1779051600@kulturniradce.cz
SUMMARY:Aleš Cibulka - Přátelské povídání
DESCRIPTION:Aleš Cibulka – Přátelské povídání se uskuteční dne 2026-05-17 v 18:00 v Staré Ždánice\, Zámeček Staré Ždánice. \n🎟️ Koupit vstupenku \n\nAleš Cibulka – Přátelské povídání \nZveme vás na přátelské setkání s Alešem Cibulkou\, jednou z nejvýraznějších osobností českého rozhlasového a televizního světa. Moderátor\, publicista a milovník české kultury vás zaujme spoustou zajímavých příběhů ze zákulisí médií\, laskavého humoru i osobních vzpomínek. \nAleš Cibulka působí řadu let v Českém rozhlase i České televizi\, kde se stal známou tváří a hlasem pořadů jako Dobré ráno\, Blízká setkání\, Dva na Dvojce a zejména pak Tobogán. \nVedle práce v médiích se věnuje i psaní knih a s velkým zaujetím připomíná osobnosti českého filmu a divadla\, zejména herečky Natašu Gollovou a Zdenku Sulanovou\, jejichž životům věnoval své publikace. \nČeká vás příjemný večer v duchu noblesy\, laskavosti a kultivované zábavy\, který potěší pamětníky i nové generace posluchačů. \nVečerem vás provede majitel zámečku Nathaniel Filip de Aras\, který jistě zazpívá i nějakou píseň. \nPřednáška se uskuteční v komorním a domácím prostředí hudebního salónu ždánického zámečku a je určena pro exkluzivní počet 40 hostů\, aby byla zachována osobní a přátelská atmosféra. \nBěhem přestávky i po skončení programu\, doplněného o vynikající domácí občerstvení\, bude prostor pro osobní setkání\, rozhovor nebo společnou fotografii. \nDress code: Smart Casual – ležérní elegance (Prosíme dámy\, aby nenosily lodičky s ostrým podpatkem\, které nesvědčí dřevěné podlaze) \nParkování aut je doporučeno v okolí Staroždánické hospůdky (parkoviště je vedle hospody i v ulici ke kostelu) \nProgram potrvá přibližně 120 minut \n  \n\nTento tip na kulturní akci v Staré Ždánice najdete v přehledu na KulturníRádce.cz spolu s dalšími koncerty\, festivaly a divadelními představeními.
URL:https://kulturniradce.cz/event/ales-cibulka-pratelske-povidani/
LOCATION:Zámeček Staré Ždánice\, Staré Ždánice\, Zámeček Staré Ždánice\, Staré Ždánice\, Česká republika
CATEGORIES:Zábava
ATTACH;FMTTYPE=image/jpeg:https://kulturniradce.cz/wp-content/uploads/2026/03/320-6d4afcff5c1a4e59bc0a7e1a55f3dcf0.jpg
END:VEVENT
BEGIN:VEVENT
DTSTART;TZID=Europe/Prague:20260531T180000
DTEND;TZID=Europe/Prague:20260531T210000
DTSTAMP:20260420T022015
CREATED:20260317T082647Z
LAST-MODIFIED:20260317T082648Z
UID:13188-1780250400-1780261200@kulturniradce.cz
SUMMARY:VientoMarero - Koncert pro kytaru a flétnu
DESCRIPTION:VientoMarero – Koncert pro kytaru a flétnu se uskuteční dne 2026-05-31 v 18:00 v Staré Ždánice\, Zámeček Staré Ždánice. \n🎟️ Koupit vstupenku \n\nVientoMarero – Koncert pro kytaru a flétnu \nMichaela Meca – příčná flétnaJiří Meca – kytara \nManželé Mecovi spolu hrají od roku 2009. Na VŠMU v Bratislavě studovali komorní hru u prof. Jozefa Zsapky. Členové dua celoročně studují skladby českých i zahraničních autorů z oblasti klasické i soudobé hudby včetně jazzu. Pravidelně pořádají koncerty jak v ČR\, tak v zahraničí: Slovensko\, Polsko\, Litva\, Německo\, Itálie. Mezi největší úspěchy patří vydání CD\, nahrané v Českém rozhlase a vydané ve vydavatelství Stylton.Na mistrovských kurzech získali zkušenosti od umělců: Alvaro Pierri\, Duo Zsapka\, Mie Ogura + Atanas Ourkouzounov\, Marcin Dylla\, Marek Nosal\, Alina Gruszka. \nKoncert se uskuteční v komorním a domácím prostředí hudebního salónu ždánického zámečku a je určen pro exkluzivní počet 40 hostů\, což zaručí blízký kontakt s interprety i výjimečný zážitek. \nBěhem přestávky i po skončení koncertu\, doplněného o vynikající domácí občerstvení\, bude prostor pro osobní setkání\, rozhovor či společnou fotografii. \nVečerem vás provede majitel zámečku Nathaniel Filip de Aras. \nDress code: Smart Casual – ležérní elegance (Prosíme dámy\, aby nenosily lodičky s ostrým podpatkem\, které nesvědčí dřevěné podlaze) \nParkování aut je doporučeno v okolí Staroždánické hospůdky (parkoviště je vedle hospody i v ulici ke kostelu) \nProgram potrvá přibližně 120 minut \n  \n\nTento tip na kulturní akci v Staré Ždánice najdete v přehledu na KulturníRádce.cz spolu s dalšími koncerty\, festivaly a divadelními představeními.
URL:https://kulturniradce.cz/event/vientomarero-koncert-pro-kytaru-a-fletnu/
LOCATION:Zámeček Staré Ždánice\, Staré Ždánice\, Zámeček Staré Ždánice\, Staré Ždánice\, Česká republika
CATEGORIES:Koncert
ATTACH;FMTTYPE=image/jpeg:https://kulturniradce.cz/wp-content/uploads/2026/03/320-c9649b8f492449f4ac252b51f70447b9.jpg
END:VEVENT
BEGIN:VEVENT
DTSTART;TZID=Europe/Prague:20260621T180000
DTEND;TZID=Europe/Prague:20260621T210000
DTSTAMP:20260420T022015
CREATED:20260317T083134Z
LAST-MODIFIED:20260317T083135Z
UID:13212-1782064800-1782075600@kulturniradce.cz
SUMMARY:Ivo Šmoldas - Vyprávění o životě
DESCRIPTION:Ivo Šmoldas – Vyprávění o životě se uskuteční dne 2026-06-21 v 18:00 v Staré Ždánice\, Zámeček Staré Ždánice. \n🎟️ Koupit vstupenku \n\nIvo Šmoldas – Vyprávění o životě \nZveme vás na setkání s PhDr. Ivo Šmoldasem – osobností české kulturní scény\, která s lehkostí propojuje břitký humor\, filozofický nadhled a osobité vypravěčství. Básník\, publicista\, scenárista\, překladatel a vyhledávaný moderátor vás provede večerem plným vtipných postřehů\, trefných glos a nezaměnitelných historek ze soukromého i profesního života. \nIvo Šmoldas je známý z vysílání Českého rozhlasu\, kde uvádí talk show Lenoška Iva Šmoldase\, i z řady televizních pořadů a zábavných show\, v nichž vyniká svou pohotovostí a jazykovým mistrovstvím. Je také autorem úspěšných knih Co vy na to\, pane Šmoldasi?\, vzniklých z jeho oblíbených společenských glos. \nJeho klubový výjezdní pořad je postaven na originálním\, inteligentním a laskavém humoru\, který baví\, ale zároveň nutí k zamyšlení. Čeká vás večer plný smíchu\, nadhledu a kultivované zábavy. \nVečerem vás provede majitel zámečku Nathaniel Filip de Aras\, který jistě zazpívá i nějakou píseň. \nPřednáška se uskuteční v komorním a domácím prostředí hudebního salónu ždánického zámečku a je určena pro exkluzivní počet 40 hostů\, aby byla zachována osobní a přátelská atmosféra. \nBěhem přestávky i po skončení programu\, doplněného o vynikající domácí občerstvení\, bude prostor pro osobní setkání\, rozhovor nebo společnou fotografii. \nDress code: Smart Casual – ležérní elegance (Prosíme dámy\, aby nenosily lodičky s ostrým podpatkem\, které nesvědčí dřevěné podlaze) \nParkování aut je doporučeno v okolí Staroždánické hospůdky (parkoviště je vedle hospody i v ulici ke kostelu) \nProgram potrvá přibližně 120 minut \n\nTento tip na kulturní akci v Staré Ždánice najdete v přehledu na KulturníRádce.cz spolu s dalšími koncerty\, festivaly a divadelními představeními.
URL:https://kulturniradce.cz/event/ivo-smoldas-vypraveni-o-zivote/
LOCATION:Zámeček Staré Ždánice\, Staré Ždánice\, Zámeček Staré Ždánice\, Staré Ždánice\, Česká republika
CATEGORIES:Zábava
ATTACH;FMTTYPE=image/jpeg:https://kulturniradce.cz/wp-content/uploads/2026/03/320-3a6151f19beb45ce86a174c440a4fab9.jpg
END:VEVENT
END:VCALENDAR