BEGIN:VCALENDAR
VERSION:2.0
PRODID:-//www.kulturniradce.cz - ECPv6.15.20//NONSGML v1.0//EN
CALSCALE:GREGORIAN
METHOD:PUBLISH
X-ORIGINAL-URL:https://kulturniradce.cz
X-WR-CALDESC:Akce na www.kulturniradce.cz
REFRESH-INTERVAL;VALUE=DURATION:PT1H
X-Robots-Tag:noindex
X-PUBLISHED-TTL:PT1H
BEGIN:VTIMEZONE
TZID:Europe/Prague
BEGIN:DAYLIGHT
TZOFFSETFROM:+0100
TZOFFSETTO:+0200
TZNAME:CEST
DTSTART:20250330T010000
END:DAYLIGHT
BEGIN:STANDARD
TZOFFSETFROM:+0200
TZOFFSETTO:+0100
TZNAME:CET
DTSTART:20251026T010000
END:STANDARD
BEGIN:DAYLIGHT
TZOFFSETFROM:+0100
TZOFFSETTO:+0200
TZNAME:CEST
DTSTART:20260329T010000
END:DAYLIGHT
BEGIN:STANDARD
TZOFFSETFROM:+0200
TZOFFSETTO:+0100
TZNAME:CET
DTSTART:20261025T010000
END:STANDARD
BEGIN:DAYLIGHT
TZOFFSETFROM:+0100
TZOFFSETTO:+0200
TZNAME:CEST
DTSTART:20270328T010000
END:DAYLIGHT
BEGIN:STANDARD
TZOFFSETFROM:+0200
TZOFFSETTO:+0100
TZNAME:CET
DTSTART:20271031T010000
END:STANDARD
END:VTIMEZONE
BEGIN:VEVENT
DTSTART;TZID=Europe/Prague:20260219T190000
DTEND;TZID=Europe/Prague:20260219T220000
DTSTAMP:20260420T005751
CREATED:20251001T153847Z
LAST-MODIFIED:20251001T153847Z
UID:3515-1771527600-1771538400@kulturniradce.cz
SUMMARY:Václav Noid Bárta a Bek Bek Clan
DESCRIPTION:Václav Noid Bárta a Bek Bek Clan se uskuteční dne 2026-02-19 v 19:00 v Třinec\, Kulturní dům TRISIA. \n🎟️ Koupit vstupenku \n\nVáclav NOID Bárta v Třinci! \nOd prvních kroků s kapelami Dolores Clan\, Noid Crew a Dymytry\, přes divadelní svět muzikálů až po jeho současnou sólovou tvorbu. Přijďte si projít dvacetiletou hudební cestu Václava NOIDA Bárty – charizmatického zpěváka\, autora filmové hudby a jedinečného hlasu české hudební scény. \nNa co se můžete těšit?Během večera zazní jak jeho autorské skladby\, tak i oblíbené převzaté songy\, které skvěle doplní energii a atmosféru celého koncertu. Tento výjimečný večer přinese nálož skvělé muziky\, pohody a neuvěřitelné energie\, která vás strhne! \nZažijte hudební show\, na kterou se nezapomíná! \n\nTento tip na kulturní akci v Třinec najdete v přehledu na KulturníRádce.cz spolu s dalšími koncerty\, festivaly a divadelními představeními.
URL:https://kulturniradce.cz/event/vaclav-noid-barta-a-bek-bek-clan-7/
LOCATION:Kulturní dům TRISIA\, Třinec\, Kulturní dům TRISIA\, Třinec\, Česká republika
CATEGORIES:Koncert
ATTACH;FMTTYPE=image/jpeg:https://kulturniradce.cz/wp-content/uploads/2025/10/320-5635355c773a4de4957e7b169fcf89a8.jpg
END:VEVENT
END:VCALENDAR