BEGIN:VCALENDAR
VERSION:2.0
PRODID:-//www.kulturniradce.cz - ECPv6.15.20//NONSGML v1.0//EN
CALSCALE:GREGORIAN
METHOD:PUBLISH
X-WR-CALNAME:www.kulturniradce.cz
X-ORIGINAL-URL:https://kulturniradce.cz
X-WR-CALDESC:Akce na www.kulturniradce.cz
REFRESH-INTERVAL;VALUE=DURATION:PT1H
X-Robots-Tag:noindex
X-PUBLISHED-TTL:PT1H
BEGIN:VTIMEZONE
TZID:Europe/Prague
BEGIN:DAYLIGHT
TZOFFSETFROM:+0100
TZOFFSETTO:+0200
TZNAME:CEST
DTSTART:20250330T010000
END:DAYLIGHT
BEGIN:STANDARD
TZOFFSETFROM:+0200
TZOFFSETTO:+0100
TZNAME:CET
DTSTART:20251026T010000
END:STANDARD
BEGIN:DAYLIGHT
TZOFFSETFROM:+0100
TZOFFSETTO:+0200
TZNAME:CEST
DTSTART:20260329T010000
END:DAYLIGHT
BEGIN:STANDARD
TZOFFSETFROM:+0200
TZOFFSETTO:+0100
TZNAME:CET
DTSTART:20261025T010000
END:STANDARD
BEGIN:DAYLIGHT
TZOFFSETFROM:+0100
TZOFFSETTO:+0200
TZNAME:CEST
DTSTART:20270328T010000
END:DAYLIGHT
BEGIN:STANDARD
TZOFFSETFROM:+0200
TZOFFSETTO:+0100
TZNAME:CET
DTSTART:20271031T010000
END:STANDARD
END:VTIMEZONE
BEGIN:VEVENT
DTSTART;TZID=Europe/Prague:20260219T190000
DTEND;TZID=Europe/Prague:20260219T220000
DTSTAMP:20260420T010246
CREATED:20251001T153847Z
LAST-MODIFIED:20251001T153847Z
UID:3515-1771527600-1771538400@kulturniradce.cz
SUMMARY:Václav Noid Bárta a Bek Bek Clan
DESCRIPTION:Václav Noid Bárta a Bek Bek Clan se uskuteční dne 2026-02-19 v 19:00 v Třinec\, Kulturní dům TRISIA. \n🎟️ Koupit vstupenku \n\nVáclav NOID Bárta v Třinci! \nOd prvních kroků s kapelami Dolores Clan\, Noid Crew a Dymytry\, přes divadelní svět muzikálů až po jeho současnou sólovou tvorbu. Přijďte si projít dvacetiletou hudební cestu Václava NOIDA Bárty – charizmatického zpěváka\, autora filmové hudby a jedinečného hlasu české hudební scény. \nNa co se můžete těšit?Během večera zazní jak jeho autorské skladby\, tak i oblíbené převzaté songy\, které skvěle doplní energii a atmosféru celého koncertu. Tento výjimečný večer přinese nálož skvělé muziky\, pohody a neuvěřitelné energie\, která vás strhne! \nZažijte hudební show\, na kterou se nezapomíná! \n\nTento tip na kulturní akci v Třinec najdete v přehledu na KulturníRádce.cz spolu s dalšími koncerty\, festivaly a divadelními představeními.
URL:https://kulturniradce.cz/event/vaclav-noid-barta-a-bek-bek-clan-7/
LOCATION:Kulturní dům TRISIA\, Třinec\, Kulturní dům TRISIA\, Třinec\, Česká republika
CATEGORIES:Koncert
ATTACH;FMTTYPE=image/jpeg:https://kulturniradce.cz/wp-content/uploads/2025/10/320-5635355c773a4de4957e7b169fcf89a8.jpg
END:VEVENT
BEGIN:VEVENT
DTSTART;TZID=Europe/Prague:20260220T180000
DTEND;TZID=Europe/Prague:20260220T210000
DTSTAMP:20260420T010246
CREATED:20260208T114929Z
LAST-MODIFIED:20260208T114929Z
UID:10294-1771610400-1771621200@kulturniradce.cz
SUMMARY:Kouzelný ples
DESCRIPTION:Kouzelný ples se uskuteční dne 2026-02-20 v 18:00 v Třinec\, Restaurace Sojka. \n🎟️ Koupit vstupenku \n\nSpolečenský ples se vším\, co k tomu patří. Taneční parket\, skvělá hudba\, bohatá tombola\, elegantní atmosféra a taky kouzelník! \n\nTento tip na kulturní akci v Třinec najdete v přehledu na KulturníRádce.cz spolu s dalšími koncerty\, festivaly a divadelními představeními.
URL:https://kulturniradce.cz/event/kouzelny-ples/
LOCATION:Restaurace Sojka\, Třinec\, Restaurace Sojka\, Třinec\, Česká republika
CATEGORIES:Zábava
ATTACH;FMTTYPE=image/jpeg:https://kulturniradce.cz/wp-content/uploads/2026/02/320-df0f1d9aed5345d7b6280527867e07ae.jpg
END:VEVENT
BEGIN:VEVENT
DTSTART;TZID=Europe/Prague:20260221T200000
DTEND;TZID=Europe/Prague:20260221T230000
DTSTAMP:20260420T010246
CREATED:20260209T102355Z
LAST-MODIFIED:20260209T102356Z
UID:10731-1771704000-1771714800@kulturniradce.cz
SUMMARY:Studentský ples Pirate Ball
DESCRIPTION:Studentský ples Pirate Ball se uskuteční dne 2026-02-21 v 20:00 v Třinec\, Kulturní dům TRISIA. \n🎟️ Koupit vstupenku \n\nSrdečně vás zveme na náš již tradiční studentský ples\, který se ponese v duchu pirátské dobrodružné atmosféry. \nNaloď se s partnertkou nebo přateli\, nahoď oblek\, šaty a nějaké ty šperky nebo pásku přes oko a zakotvěte společně s námi v KD Trisia v Třinci! \nVydáme se společně na nezapomenutelné DOBRODRUŽSTVÍ!!!  \nNa co se můžete těšit:* Fotobudka * Tématická výzdoba * Bohatá tombola * Bar s občerstvením * Míchané drinky * Hudební program * Světelná show  \nMinulé ročníky našich plesů byly zcela a rychle vyprodány už v předprodeji. Pevně věříme\, že tomu tak bude i tento ročník! \n\nTento tip na kulturní akci v Třinec najdete v přehledu na KulturníRádce.cz spolu s dalšími koncerty\, festivaly a divadelními představeními.
URL:https://kulturniradce.cz/event/studentsky-ples-pirate-ball/
LOCATION:Kulturní dům TRISIA\, Třinec\, Kulturní dům TRISIA\, Třinec\, Česká republika
CATEGORIES:Zábava
ATTACH;FMTTYPE=image/jpeg:https://kulturniradce.cz/wp-content/uploads/2026/02/320-fd4d7ecd6e4449db924ca122df16a58d.jpg
END:VEVENT
BEGIN:VEVENT
DTSTART;TZID=Europe/Prague:20260325T190000
DTEND;TZID=Europe/Prague:20260325T220000
DTSTAMP:20260420T010246
CREATED:20250921T075535Z
LAST-MODIFIED:20250921T075536Z
UID:810-1774465200-1774476000@kulturniradce.cz
SUMMARY:ŠVANCI SHOW - JÁ SU JÁ
DESCRIPTION:ŠVANCI SHOW – JÁ SU JÁ se uskuteční dne 2026-03-25 v 19:00 v Třinec\, Kulturní dům TRISIA. \n🎟️ Koupit vstupenku \n\nNová zábavná show „JÁ SU JÁ“ vyráží na TOUR po celé České republice. \nČekají vás vtipné historky\, od kariéry fotbalisty\, velkolepé rozlučky za Lužánkami\, návštěv různých zábavních pořadů\, až po účast v reality show Survivor. Dále se těšte na prostor pro otázky na tělo\, autogramiádu\, focení a mnoho dalšího. \nJak moc dobře mě znáš? Jak vypadá můj život po kariéře fotbalisty? Chceš znát více informací o reality show Surviror? \nNejen to se dozvíš ve zbrusu nové zábavné show „JÁ SU JÁ“. \nPřijď se podívat a užít si legraci\, popovídat si s legendou fotbalu\, moderátorem\, bavičem a dát si třeba fotku\, nebo si nechat cokoliv podepsat. \nPořad není vhodný mladším 15 let! \n\nTento tip na kulturní akci v Třinec najdete v přehledu na KulturníRádce.cz spolu s dalšími koncerty\, festivaly a divadelními představeními.
URL:https://kulturniradce.cz/event/svanci-show-ja-su-ja-11/
LOCATION:Kulturní dům TRISIA\, Třinec\, Kulturní dům TRISIA\, Třinec\, Česká republika
CATEGORIES:Zábava
ATTACH;FMTTYPE=image/jpeg:https://kulturniradce.cz/wp-content/uploads/2025/09/320-a1de3aba34214a098ada62067af9bb31-1.jpg
END:VEVENT
BEGIN:VEVENT
DTSTART;TZID=Europe/Prague:20260505T190000
DTEND;TZID=Europe/Prague:20260505T220000
DTSTAMP:20260420T010246
CREATED:20260121T184558Z
LAST-MODIFIED:20260121T184559Z
UID:9425-1778007600-1778018400@kulturniradce.cz
SUMMARY:Hudba Bridgerton při svíčkách
DESCRIPTION:Hudba Bridgerton při svíčkách se uskuteční dne 2026-05-05 v 19:00 v Třinec\, Kulturní dům TRISIA. \n🎟️ Koupit vstupenku \n\nNenechte si ujít večer plný romantiky a elegance\, kde zazní ty nejznámější melodie a písně z oblíbeného seriálu Bridgerton. Světlo stovky svíček vytvoří okouzlující atmosféru koncertu. \nProgram v jedinečném provedení smyčcového kvarteta představí výběr hudebních skladeb z tohoto populárního seriálu\, inspirovaných klasickými díly i moderními popovými melodiemi\, které si získaly srdce diváků po celém světě. \nTento koncert nabídne víc než jen hudbu; stovky svíček rozzáří prostor a vytvoří atmosféru plnou noblesy\, romantiky a neodolatelného kouzla historické doby. \nAkce je přístupná od 12 let. Každý účastník musí předložit platnou vstupenku  zakoupenou výhradně v síti smsticket. \n\nTento tip na kulturní akci v Třinec najdete v přehledu na KulturníRádce.cz spolu s dalšími koncerty\, festivaly a divadelními představeními.
URL:https://kulturniradce.cz/event/hudba-bridgerton-pri-svickach-41/
LOCATION:Kulturní dům TRISIA\, Třinec\, Kulturní dům TRISIA\, Třinec\, Česká republika
CATEGORIES:Koncert
ATTACH;FMTTYPE=image/jpeg:https://kulturniradce.cz/wp-content/uploads/2026/01/320-54dcb51d1b7d479da14a79fc82e33479.jpg
END:VEVENT
END:VCALENDAR